BEGIN:VCALENDAR
VERSION:2.0
PRODID:-//NEWIEE - ECPv6.15.15//NONSGML v1.0//EN
CALSCALE:GREGORIAN
METHOD:PUBLISH
X-WR-CALNAME:NEWIEE
X-ORIGINAL-URL:https://newiee.org
X-WR-CALDESC:Events for NEWIEE
REFRESH-INTERVAL;VALUE=DURATION:PT1H
X-Robots-Tag:noindex
X-PUBLISHED-TTL:PT1H
BEGIN:VTIMEZONE
TZID:America/New_York
BEGIN:DAYLIGHT
TZOFFSETFROM:-0500
TZOFFSETTO:-0400
TZNAME:EDT
DTSTART:20200308T070000
END:DAYLIGHT
BEGIN:STANDARD
TZOFFSETFROM:-0400
TZOFFSETTO:-0500
TZNAME:EST
DTSTART:20201101T060000
END:STANDARD
BEGIN:DAYLIGHT
TZOFFSETFROM:-0500
TZOFFSETTO:-0400
TZNAME:EDT
DTSTART:20210314T070000
END:DAYLIGHT
BEGIN:STANDARD
TZOFFSETFROM:-0400
TZOFFSETTO:-0500
TZNAME:EST
DTSTART:20211107T060000
END:STANDARD
BEGIN:DAYLIGHT
TZOFFSETFROM:-0500
TZOFFSETTO:-0400
TZNAME:EDT
DTSTART:20220313T070000
END:DAYLIGHT
BEGIN:STANDARD
TZOFFSETFROM:-0400
TZOFFSETTO:-0500
TZNAME:EST
DTSTART:20221106T060000
END:STANDARD
END:VTIMEZONE
BEGIN:VEVENT
DTSTART;TZID=America/New_York:20210914T120000
DTEND;TZID=America/New_York:20210914T133000
DTSTAMP:20260424T130620
CREATED:20210725T183705Z
LAST-MODIFIED:20210806T141849Z
UID:17956-1631620800-1631626200@newiee.org
SUMMARY:NEWIEE & CPES: The Changing Energy and Regulatory Landscape
DESCRIPTION:[vc_row][vc_column][vc_column_text css=”.vc_custom_1627861258886{margin-bottom: 0px !important;}”]Please join CPES and NEWIEE for our annual joint event being held virtually\, on September 14th from 12-1:30 pm for a conversation with current FERC Commissioner Allison Clements and former FERC Commissioner Cheryl LaFleur. They will discuss the changing energy and regulatory landscape and give you a “then and now” perspective on the goals and objectives of the Commission and what they envision for the future.[/vc_column_text][vc_empty_space height=”20px”][/vc_column][/vc_row][vc_row][vc_column][mk_button corner_style=”full_rounded” size=”medium” url=”https://events.r20.constantcontact.com/register/eventReg?oeidk=a07eibe342yadb8222d&oseq=&c=&ch=” target=”_blank” align=”center” button_custom_width=”369″]Register Here[/mk_button][vc_empty_space][/vc_column][/vc_row][vc_row disable_element=”yes”][vc_column][vc_single_image img_size=”full”][/vc_column][/vc_row][vc_row][vc_column][vc_column_text css=”.vc_custom_1627237715544{margin-bottom: 0px !important;}”]\nSpeakers\n[/vc_column_text][vc_empty_space height=”10px”][/vc_column][/vc_row][vc_row][vc_column width=”1/4″ offset=”vc_col-md-2 vc_col-sm-offset-0 vc_col-xs-offset-3 vc_col-xs-6″][vc_single_image image=”16866″ img_size=”170×170″ alignment=”center” style=”vc_box_shadow”][/vc_column][vc_column width=”3/4″ offset=”vc_col-md-10 vc_col-sm-offset-0 vc_col-xs-offset-2 vc_col-xs-8″][vc_column_text css=”.vc_custom_1627237835168{margin-bottom: 0px !important;}”]\nAllison Clements\nFERC Commissioner[/vc_column_text][mk_toggle title=”Read Commissioner Clements’ Bio” el_class=”bio-toggle”]\n\nCommissioner Allison Clements has two decades of public and private sector experience in energy regulation and policy\, representing utilities\, independent power producers\, developers and lenders\, nonprofits and philanthropies on grid policy issues. Commissioner Clements is the founder and president of Goodgrid\, LLC\, an energy policy and strategy consulting firm. Previously she spent two years as director of the energy markets program at Energy Foundation. Prior to her time at Energy Foundation and Goodgrid\, Commissioner Clements worked for a decade at Natural Resources Defense Council in New York\, NY\, as the organization’s corporate counsel and then as director of the Sustainable FERC Project. Before that\, Commissioner Clements spent several years in private legal practice\, with the energy regulatory group at Troutman Sanders LLP (now Troutman Pepper) and then with the project finance and infrastructure group at Chadbourne & Parke LLP (now Norton Rose Fulbright). \nCommissioner Clements has served as a federal energy expert in several capacities\, including as a member of a National Academies of Sciences committee on grid resilience\, as co-chair of the Bipartisan Policy Center’s electric grid initiative\, and as a clinical visiting lecturer at Yale Law School. \nCommissioner Clements grew up in Dayton\, Ohio. She has a Bachelor of Science from the University of Michigan and a Juris Doctorate from The George Washington University Law School. \n\n\n\n\n\n\n[/mk_toggle][vc_empty_space height=”30px”][/vc_column][/vc_row][vc_row][vc_column width=”1/4″ offset=”vc_col-md-2 vc_col-sm-offset-0 vc_col-xs-offset-3 vc_col-xs-6″][vc_single_image image=”8258″ img_size=”170×170″ alignment=”center” style=”vc_box_shadow”][/vc_column][vc_column width=”3/4″ offset=”vc_col-md-10 vc_col-sm-offset-0 vc_col-xs-offset-2 vc_col-xs-8″][vc_column_text css=”.vc_custom_1627238279172{margin-bottom: 0px !important;}”]\nCheryl A. LaFleur\nFormer FERC Commissioner[/vc_column_text][mk_toggle title=”Read Former Commissioner LaFleur’s Bio” el_class=”bio-toggle”]Cheryl A. LaFleur is an Adjunct Senior Research Scholar at the Columbia University Center on Global Energy Policy\, focusing primarily on the adaptation of the electric and natural gas sectors to the challenges of climate change. LaFleur also serves on the Board of Directors of ISO New England\, and on the advisory boards of the National Renewal Energy Laboratory\, the Andlinger Center for Energy and the Environmental at Princeton University\, and the Beth Israel Deaconess Medical Center. \nPreviously\, LaFleur was one of the longest-serving commissioners on the Federal Energy Regulatory Commission (FERC)\, nominated by President Obama in 2010 and serving until 2019. She served as Chairman from 2014-15 and as Acting Chairman from 2013-14 and during 2017. During a decade of change in the nation’s energy industry\, power supply\, and political leadership\, she helped FERC respond to challenges and opportunities across the electric\, natural gas\, and oil sectors. \nPrior to joining FERC\, LaFleur had more than 20 years’ experience as a leader in the electric and natural gas industry\, including as executive vice president and acting CEO of National Grid USA. She began her career as an attorney at Ropes and Gray in Boston. She has a J.D. from Harvard Law School\, and an A.B. from Princeton University.[/mk_toggle][vc_empty_space height=”30px”][/vc_column][/vc_row]
URL:https://newiee.org/event/newiee-cpes-the-changing-energy-and-regulatory-landscape/
LOCATION:CT
CATEGORIES:Friends of NEWIEE,In Collaboration with NEWIEE,NEWIEE,NEWIEE and CPES Joint Event
ATTACH;FMTTYPE=image/png:https://newiee.org/wp-content/uploads/2021/07/cpes-newiee-webinar-september-2021-website-1140x500-1.png
ORGANIZER;CN="NEWIEE":MAILTO:NEWIEE@NEWIEE.org
END:VEVENT
END:VCALENDAR