BEGIN:VCALENDAR
VERSION:2.0
PRODID:-//NEWIEE - ECPv6.15.15//NONSGML v1.0//EN
CALSCALE:GREGORIAN
METHOD:PUBLISH
X-WR-CALNAME:NEWIEE
X-ORIGINAL-URL:https://newiee.org
X-WR-CALDESC:Events for NEWIEE
REFRESH-INTERVAL;VALUE=DURATION:PT1H
X-Robots-Tag:noindex
X-PUBLISHED-TTL:PT1H
BEGIN:VTIMEZONE
TZID:America/New_York
BEGIN:DAYLIGHT
TZOFFSETFROM:-0500
TZOFFSETTO:-0400
TZNAME:EDT
DTSTART:20240310T070000
END:DAYLIGHT
BEGIN:STANDARD
TZOFFSETFROM:-0400
TZOFFSETTO:-0500
TZNAME:EST
DTSTART:20241103T060000
END:STANDARD
BEGIN:DAYLIGHT
TZOFFSETFROM:-0500
TZOFFSETTO:-0400
TZNAME:EDT
DTSTART:20250309T070000
END:DAYLIGHT
BEGIN:STANDARD
TZOFFSETFROM:-0400
TZOFFSETTO:-0500
TZNAME:EST
DTSTART:20251102T060000
END:STANDARD
BEGIN:DAYLIGHT
TZOFFSETFROM:-0500
TZOFFSETTO:-0400
TZNAME:EDT
DTSTART:20260308T070000
END:DAYLIGHT
BEGIN:STANDARD
TZOFFSETFROM:-0400
TZOFFSETTO:-0500
TZNAME:EST
DTSTART:20261101T060000
END:STANDARD
END:VTIMEZONE
BEGIN:VEVENT
DTSTART;TZID=America/New_York:20250819T110000
DTEND;TZID=America/New_York:20250819T123000
DTSTAMP:20260420T083818
CREATED:20250714T153002Z
LAST-MODIFIED:20250714T153002Z
UID:25420-1755601200-1755606600@newiee.org
SUMMARY:Alliance for Climate Transition: Funding Apprenticeships in the Clean Energy Sector
DESCRIPTION:This session focuses on the critical question of how to fund and sustain clean energy apprenticeships. Experts will highlight state and federal funding sources\, innovative financing models\, and public-private partnerships that reduce barriers for employers and training providers. Attendees will gain insight into cost-sharing approaches\, wage subsidy programs\, braided funding strategies\, and examples of successful grant-funded apprenticeship programs. This webinar is designed for employers\, nonprofit training providers\, funders\, and workforce developers looking to launch or scale apprenticeship programs. \nSpeakers \nCharlie Cornish\, Co-Founder\, American Apprenticeships Work \nCharlie Cornish is the Co-Founder of American Apprenticeships Work\, a national leader in building scalable\, employer-driven apprenticeship programs for modern industries. He’s partnered with organizations like NECA and Miller Electric to design and launch training models that develop talent based on potential rather than credentials. Charlie helped lead the launch of the first-ever USDOL-registered\, office-based apprenticeship for project managers in the electrical industry—now used by NECA employers across the country. With over 15 years of experience in workforce innovation\, he builds programs that align real employer needs with accessible\, high-quality training. His work makes apprenticeships easy for employers to adopt—and\, in doing so\, creates meaningful career pathways and upward mobility for individuals often overlooked by traditional systems. \nEthan Kenvarg\, Founder & Principal\, Neshe Consulting \nEthan Kenvarg is the Founder & Principal Consultant of Neshe Consulting\, a boutique agency specializing in all thing’s apprenticeship. Ethan is an accomplished strategic leader in the workforce & education sectors. He has unique expertise in creating and operating Registered Apprenticeship Programs (RAPs) — best-in-class workforce initiatives overseen by the US Department of Labor. He has engaged a wide variety of clients including Fortune 500 companies\, state and federal agencies\, and nonprofit organizations. \nPreviously\, Ethan led national operations and implementation strategy for Apprentice\, helping launch some of the country’s first ever RAPs for tech jobs. As an apprenticeship ambassador\, he has addressed the Massachusetts House Committee on Labor and Workforce Development\, and guest lectured at Stanford University’s school of Design Thinking. He has received awards from the Massachusetts Workforce Association\, and his efforts were recognized by former Governor Charlie Baker and State Secretary of Labor Rosalyn Acosta.
URL:https://newiee.org/event/alliance-for-climate-transition-funding-apprenticeships-in-the-clean-energy-sector/
LOCATION:Virtual
CATEGORIES:Friends of NEWIEE
END:VEVENT
BEGIN:VEVENT
DTSTART;TZID=America/New_York:20250730T110000
DTEND;TZID=America/New_York:20250730T123000
DTSTAMP:20260420T083818
CREATED:20250714T152618Z
LAST-MODIFIED:20250714T152618Z
UID:25417-1753873200-1753878600@newiee.org
SUMMARY:Alliance for Climate Transition: An Introduction to Apprenticeship in the Clean Energy Sector
DESCRIPTION:This foundational session offers an in-depth overview of apprenticeships and their role in addressing workforce gaps in the clean energy sector. Participants will learn how registered apprenticeships function\, why they matter in a rapidly evolving energy economy\, and how they can serve as a tool for advancing equity and job quality. Speakers will break down apprenticeship components\, the registration process\, and examples of clean energy occupations suitable for apprenticeship models. This is ideal for employers\, workforce boards\, educators\, and community organizations new to apprenticeships or exploring their potential. \nSpeakers \nCharlie Cornish\, Co-Founder\, American Apprenticeships Work \nCharlie Cornish is the Co-Founder of American Apprenticeships Work\, a national leader in building scalable\, employer-driven apprenticeship programs for modern industries. He’s partnered with organizations like NECA and Miller Electric to design and launch training models that develop talent based on potential rather than credentials. Charlie helped lead the launch of the first-ever USDOL-registered\, office-based apprenticeship for project managers in the electrical industry—now used by NECA employers across the country. With over 15 years of experience in workforce innovation\, he builds programs that align real employer needs with accessible\, high-quality training. His work makes apprenticeships easy for employers to adopt—and\, in doing so\, creates meaningful career pathways and upward mobility for individuals often overlooked by traditional systems. \nEthan Kenvarg\, Founder & Principal\, Neshe Consulting \nEthan Kenvarg is the Founder & Principal Consultant of Neshe Consulting\, a boutique agency specializing in all thing’s apprenticeship. Ethan is an accomplished strategic leader in the workforce & education sectors. He has unique expertise in creating and operating Registered Apprenticeship Programs (RAPs) — best-in-class workforce initiatives overseen by the US Department of Labor. He has engaged a wide variety of clients including Fortune 500 companies\, state and federal agencies\, and nonprofit organizations. \nPreviously\, Ethan led national operations and implementation strategy for Apprentice\, helping launch some of the country’s first ever RAPs for tech jobs. As an apprenticeship ambassador\, he has addressed the Massachusetts House Committee on Labor and Workforce Development\, and guest lectured at Stanford University’s school of Design Thinking. He has received awards from the Massachusetts Workforce Association\, and his efforts were recognized by former Governor Charlie Baker and State Secretary of Labor Rosalyn Acosta.
URL:https://newiee.org/event/alliance-for-climate-transition-an-introduction-to-apprenticeship-in-the-clean-energy-sector/
LOCATION:Virtual
CATEGORIES:Friends of NEWIEE
END:VEVENT
END:VCALENDAR