BEGIN:VCALENDAR
VERSION:2.0
PRODID:-//NEWIEE - ECPv6.15.15//NONSGML v1.0//EN
CALSCALE:GREGORIAN
METHOD:PUBLISH
X-ORIGINAL-URL:https://newiee.org
X-WR-CALDESC:Events for NEWIEE
REFRESH-INTERVAL;VALUE=DURATION:PT1H
X-Robots-Tag:noindex
X-PUBLISHED-TTL:PT1H
BEGIN:VTIMEZONE
TZID:America/New_York
BEGIN:DAYLIGHT
TZOFFSETFROM:-0500
TZOFFSETTO:-0400
TZNAME:EDT
DTSTART:20210314T070000
END:DAYLIGHT
BEGIN:STANDARD
TZOFFSETFROM:-0400
TZOFFSETTO:-0500
TZNAME:EST
DTSTART:20211107T060000
END:STANDARD
BEGIN:DAYLIGHT
TZOFFSETFROM:-0500
TZOFFSETTO:-0400
TZNAME:EDT
DTSTART:20220313T070000
END:DAYLIGHT
BEGIN:STANDARD
TZOFFSETFROM:-0400
TZOFFSETTO:-0500
TZNAME:EST
DTSTART:20221106T060000
END:STANDARD
BEGIN:DAYLIGHT
TZOFFSETFROM:-0500
TZOFFSETTO:-0400
TZNAME:EDT
DTSTART:20230312T070000
END:DAYLIGHT
BEGIN:STANDARD
TZOFFSETFROM:-0400
TZOFFSETTO:-0500
TZNAME:EST
DTSTART:20231105T060000
END:STANDARD
END:VTIMEZONE
BEGIN:VEVENT
DTSTART;TZID=America/New_York:20220330T080000
DTEND;TZID=America/New_York:20220331T170000
DTSTAMP:20260420T073606
CREATED:20220214T125836Z
LAST-MODIFIED:20220214T125836Z
UID:18771-1648627200-1648746000@newiee.org
SUMMARY:SEIA's Finance\, Tax and Buyers Seminar
DESCRIPTION:The SEIA Finance\, Tax & Buyers Seminar is a prestigious new event that connects more than 250 tax\, finance\, business\, and legal leaders\, combining content from SEIA’s long-standing Solar Goes Corporate and Finance & Tax Seminar events. Join leaders in the space for high-level networking opportunities with top solar\, energy buyer and finance executives as we dive into the biggest challenges and opportunities to accelerating clean energy growth. Don’t miss this opportunity to discuss important developments and policy changes that will impact your business!
URL:https://newiee.org/event/seias-finance-tax-and-buyers-seminar/
CATEGORIES:Friends of NEWIEE
END:VEVENT
END:VCALENDAR