BEGIN:VCALENDAR
VERSION:2.0
PRODID:-//NEWIEE - ECPv6.15.15//NONSGML v1.0//EN
CALSCALE:GREGORIAN
METHOD:PUBLISH
X-ORIGINAL-URL:https://newiee.org
X-WR-CALDESC:Events for NEWIEE
REFRESH-INTERVAL;VALUE=DURATION:PT1H
X-Robots-Tag:noindex
X-PUBLISHED-TTL:PT1H
BEGIN:VTIMEZONE
TZID:America/New_York
BEGIN:DAYLIGHT
TZOFFSETFROM:-0500
TZOFFSETTO:-0400
TZNAME:EDT
DTSTART:20250309T070000
END:DAYLIGHT
BEGIN:STANDARD
TZOFFSETFROM:-0400
TZOFFSETTO:-0500
TZNAME:EST
DTSTART:20251102T060000
END:STANDARD
BEGIN:DAYLIGHT
TZOFFSETFROM:-0500
TZOFFSETTO:-0400
TZNAME:EDT
DTSTART:20260308T070000
END:DAYLIGHT
BEGIN:STANDARD
TZOFFSETFROM:-0400
TZOFFSETTO:-0500
TZNAME:EST
DTSTART:20261101T060000
END:STANDARD
BEGIN:DAYLIGHT
TZOFFSETFROM:-0500
TZOFFSETTO:-0400
TZNAME:EDT
DTSTART:20270314T070000
END:DAYLIGHT
BEGIN:STANDARD
TZOFFSETFROM:-0400
TZOFFSETTO:-0500
TZNAME:EST
DTSTART:20271107T060000
END:STANDARD
END:VTIMEZONE
BEGIN:VEVENT
DTSTART;TZID=America/New_York:20260204T180000
DTEND;TZID=America/New_York:20260204T200000
DTSTAMP:20260424T112027
CREATED:20260126T023158Z
LAST-MODIFIED:20260126T023158Z
UID:26581-1770228000-1770235200@newiee.org
SUMMARY:AABE: After Work Black History Month Connect
DESCRIPTION:Join AABE Greater Boston for a special AABE After Work networking happy hour as they kick off Black History Month together 🎉 \nOn Tuesday\, February 4th\, AABE is bringing the energy to District 7 Tavern for an evening of connection\, celebration\, and community with diverse professionals and allies across the energy\, sustainability\, and business ecosystem. This is your chance to unwind after work\, build meaningful relationships\, and celebrate the legacy\, excellence\, and future impact of Black professionals in our region — all in a relaxed\, welcoming space.
URL:https://newiee.org/event/aabe-after-work-black-history-month-connect/
LOCATION:District 7 Tavern\, 380 Warren St\, Boston\, MA\, 02119\, United States
CATEGORIES:Friends of NEWIEE
END:VEVENT
END:VCALENDAR