BEGIN:VCALENDAR
VERSION:2.0
PRODID:-//NEWIEE - ECPv6.15.15//NONSGML v1.0//EN
CALSCALE:GREGORIAN
METHOD:PUBLISH
X-WR-CALNAME:NEWIEE
X-ORIGINAL-URL:https://newiee.org
X-WR-CALDESC:Events for NEWIEE
REFRESH-INTERVAL;VALUE=DURATION:PT1H
X-Robots-Tag:noindex
X-PUBLISHED-TTL:PT1H
BEGIN:VTIMEZONE
TZID:America/New_York
BEGIN:DAYLIGHT
TZOFFSETFROM:-0500
TZOFFSETTO:-0400
TZNAME:EDT
DTSTART:20220313T070000
END:DAYLIGHT
BEGIN:STANDARD
TZOFFSETFROM:-0400
TZOFFSETTO:-0500
TZNAME:EST
DTSTART:20221106T060000
END:STANDARD
BEGIN:DAYLIGHT
TZOFFSETFROM:-0500
TZOFFSETTO:-0400
TZNAME:EDT
DTSTART:20230312T070000
END:DAYLIGHT
BEGIN:STANDARD
TZOFFSETFROM:-0400
TZOFFSETTO:-0500
TZNAME:EST
DTSTART:20231105T060000
END:STANDARD
BEGIN:DAYLIGHT
TZOFFSETFROM:-0500
TZOFFSETTO:-0400
TZNAME:EDT
DTSTART:20240310T070000
END:DAYLIGHT
BEGIN:STANDARD
TZOFFSETFROM:-0400
TZOFFSETTO:-0500
TZNAME:EST
DTSTART:20241103T060000
END:STANDARD
END:VTIMEZONE
BEGIN:VEVENT
DTSTART;TZID=America/New_York:20230511T173000
DTEND;TZID=America/New_York:20230511T193000
DTSTAMP:20260421T071516
CREATED:20230501T013636Z
LAST-MODIFIED:20230501T013636Z
UID:20968-1683826200-1683833400@newiee.org
SUMMARY:WEN's Energy Expert After Dark featuring Megan Beauregard
DESCRIPTION:WEN Boston invites you to their second part of the Energy Experts After Dark Series with Megan Beauregard\, Chief Legal Officer of Enel North America. \nThis event will allow the attendee to connect personally with Megan. She will summarize her career while touching upon current successes and challenges we face as women within the energy industry. Megan is responsible for all of Enel’s legal interests in the United States and Canada\, including Enel Green Power North America\, Inc.\, Enel X North America\, Inc.\, Enel Trading North America\, LLC and Enel Finance America\, LLC. \nDon’t miss this opportunity to network with Megan and WEN Boston Chapter!
URL:https://newiee.org/event/wens-energy-expert-after-dark-featuring-megan-beauregard/
LOCATION:Enel\, 101 Seaport Blvd 12th Floor\, Boston\, MA
CATEGORIES:Friends of NEWIEE
ORGANIZER;CN="Women's Energy Network (WEN)%2C Boston":MAILTO:info@womensenergynetwork.org
END:VEVENT
END:VCALENDAR