BEGIN:VCALENDAR
VERSION:2.0
PRODID:-//NEWIEE - ECPv6.15.15//NONSGML v1.0//EN
CALSCALE:GREGORIAN
METHOD:PUBLISH
X-ORIGINAL-URL:https://newiee.org
X-WR-CALDESC:Events for NEWIEE
REFRESH-INTERVAL;VALUE=DURATION:PT1H
X-Robots-Tag:noindex
X-PUBLISHED-TTL:PT1H
BEGIN:VTIMEZONE
TZID:America/New_York
BEGIN:DAYLIGHT
TZOFFSETFROM:-0500
TZOFFSETTO:-0400
TZNAME:EDT
DTSTART:20250309T070000
END:DAYLIGHT
BEGIN:STANDARD
TZOFFSETFROM:-0400
TZOFFSETTO:-0500
TZNAME:EST
DTSTART:20251102T060000
END:STANDARD
BEGIN:DAYLIGHT
TZOFFSETFROM:-0500
TZOFFSETTO:-0400
TZNAME:EDT
DTSTART:20260308T070000
END:DAYLIGHT
BEGIN:STANDARD
TZOFFSETFROM:-0400
TZOFFSETTO:-0500
TZNAME:EST
DTSTART:20261101T060000
END:STANDARD
BEGIN:DAYLIGHT
TZOFFSETFROM:-0500
TZOFFSETTO:-0400
TZNAME:EDT
DTSTART:20270314T070000
END:DAYLIGHT
BEGIN:STANDARD
TZOFFSETFROM:-0400
TZOFFSETTO:-0500
TZNAME:EST
DTSTART:20271107T060000
END:STANDARD
END:VTIMEZONE
BEGIN:VEVENT
DTSTART;TZID=America/New_York:20260129T090000
DTEND;TZID=America/New_York:20260129T160000
DTSTAMP:20260419T193233
CREATED:20260112T151440Z
LAST-MODIFIED:20260112T151440Z
UID:26493-1769677200-1769702400@newiee.org
SUMMARY:NECA: 2026 Power Markets Conference
DESCRIPTION:Wholesale power markets are at a crossroads. Climate goals are accelerating\, data centers are fueling unprecedented demand growth\, federal energy policy is shifting\, and rising costs are straining household budgets and business bottom lines alike. The fundamental question facing New England—and regions across the country—is how competitive markets can continue to deliver reliable\, affordable electricity amid these converging pressures. \nThe 2026 NECA Power Markets Conference brings together regulators\, policymakers\, and industry leaders for candid discussions about how markets and policy choices are shaping the balance between affordability\, reliability\, and decarbonization. Through three interconnected panels\, the conference will explore what’s driving electricity costs\, how market structures are adapting to resource adequacy challenges and surging demand\, and what it takes to attract investment for tomorrow’s grid. Join us for a day of forward-looking dialogue on how power markets can uphold their core strengths in a rapidly transforming energy landscape.
URL:https://newiee.org/event/neca-2026-power-markets-conference/
LOCATION:Federal Reserve Plaza\, 600 Atlantic Avenue\, Boston\, 02210\, United States
CATEGORIES:Friends of NEWIEE
END:VEVENT
END:VCALENDAR