BEGIN:VCALENDAR
VERSION:2.0
PRODID:-//NEWIEE - ECPv6.15.15//NONSGML v1.0//EN
CALSCALE:GREGORIAN
METHOD:PUBLISH
X-ORIGINAL-URL:https://newiee.org
X-WR-CALDESC:Events for NEWIEE
REFRESH-INTERVAL;VALUE=DURATION:PT1H
X-Robots-Tag:noindex
X-PUBLISHED-TTL:PT1H
BEGIN:VTIMEZONE
TZID:America/New_York
BEGIN:DAYLIGHT
TZOFFSETFROM:-0500
TZOFFSETTO:-0400
TZNAME:EDT
DTSTART:20250309T070000
END:DAYLIGHT
BEGIN:STANDARD
TZOFFSETFROM:-0400
TZOFFSETTO:-0500
TZNAME:EST
DTSTART:20251102T060000
END:STANDARD
BEGIN:DAYLIGHT
TZOFFSETFROM:-0500
TZOFFSETTO:-0400
TZNAME:EDT
DTSTART:20260308T070000
END:DAYLIGHT
BEGIN:STANDARD
TZOFFSETFROM:-0400
TZOFFSETTO:-0500
TZNAME:EST
DTSTART:20261101T060000
END:STANDARD
BEGIN:DAYLIGHT
TZOFFSETFROM:-0500
TZOFFSETTO:-0400
TZNAME:EDT
DTSTART:20270314T070000
END:DAYLIGHT
BEGIN:STANDARD
TZOFFSETFROM:-0400
TZOFFSETTO:-0500
TZNAME:EST
DTSTART:20271107T060000
END:STANDARD
END:VTIMEZONE
BEGIN:VEVENT
DTSTART;TZID=America/New_York:20260402T130000
DTEND;TZID=America/New_York:20260402T170000
DTSTAMP:20260422T121936
CREATED:20260323T013813Z
LAST-MODIFIED:20260323T013813Z
UID:26951-1775134800-1775149200@newiee.org
SUMMARY:Women's Energy Network Boston Chapter: WEN Work Day
DESCRIPTION:Join us for April WEN Work Day: a flexible way to connect and get work done with fellow energy professionals. \nOn the afternoons of the first Friday of every month\, WEN will host a complimentary co-working session for WEN members at an Industrious location around Boston. Join us whether you’re looking for focused work time\, connection with peers in the industry\, or a change of scenery. (Please note\, that this WEN Work Day will be on a Thursday rather than the usual Friday). \nAttendees will have access to a dedicated open workspace\, as well first-come\, first-served private phone booths and shared common areas. Work independently\, collaborate with others\, or catch up with industry peers\, all in a welcoming\, professional environment. \nThe April WEN Work Day will be at the Industrious South Station office​. \nDate: Thursday\, April 2 \nTime: 1 pm to 5 pm EST \nLocation: Industrious South Station (711 Atlantic Avenue\, Boston\, MA\, 02111) \nCost: Free for WEN Members\, $60 for non-members \nSpace is limited. \nComplimentary snacks\, coffee and tea available. \nJoin to connect with fellow energy professionals\, develop your knowledge\, and build community within the WEN Boston Chapter.
URL:https://newiee.org/event/womens-energy-network-boston-chapter-wen-work-day/
LOCATION:Industrious South Station\, 711 Atlantic Avenue\, Boston
CATEGORIES:Friends of NEWIEE
ORGANIZER;CN="Women's Energy Network (WEN)%2C Boston":MAILTO:info@womensenergynetwork.org
END:VEVENT
END:VCALENDAR