BEGIN:VCALENDAR
VERSION:2.0
PRODID:-//NEWIEE - ECPv6.15.15//NONSGML v1.0//EN
CALSCALE:GREGORIAN
METHOD:PUBLISH
X-WR-CALNAME:NEWIEE
X-ORIGINAL-URL:https://newiee.org
X-WR-CALDESC:Events for NEWIEE
REFRESH-INTERVAL;VALUE=DURATION:PT1H
X-Robots-Tag:noindex
X-PUBLISHED-TTL:PT1H
BEGIN:VTIMEZONE
TZID:America/New_York
BEGIN:DAYLIGHT
TZOFFSETFROM:-0500
TZOFFSETTO:-0400
TZNAME:EDT
DTSTART:20240310T070000
END:DAYLIGHT
BEGIN:STANDARD
TZOFFSETFROM:-0400
TZOFFSETTO:-0500
TZNAME:EST
DTSTART:20241103T060000
END:STANDARD
BEGIN:DAYLIGHT
TZOFFSETFROM:-0500
TZOFFSETTO:-0400
TZNAME:EDT
DTSTART:20250309T070000
END:DAYLIGHT
BEGIN:STANDARD
TZOFFSETFROM:-0400
TZOFFSETTO:-0500
TZNAME:EST
DTSTART:20251102T060000
END:STANDARD
BEGIN:DAYLIGHT
TZOFFSETFROM:-0500
TZOFFSETTO:-0400
TZNAME:EDT
DTSTART:20260308T070000
END:DAYLIGHT
BEGIN:STANDARD
TZOFFSETFROM:-0400
TZOFFSETTO:-0500
TZNAME:EST
DTSTART:20261101T060000
END:STANDARD
END:VTIMEZONE
BEGIN:VEVENT
DTSTART;VALUE=DATE:20251022
DTEND;VALUE=DATE:20251025
DTSTAMP:20260420T132642
CREATED:20251010T135532Z
LAST-MODIFIED:20251010T135532Z
UID:25958-1761091200-1761350399@newiee.org
SUMMARY:Climate Beacon Conference
DESCRIPTION:Climate Beacon\, New England’s premier climate solutions conference\, will be held on Oct. 22-24 in Boston.\n\nThis two-day conference brings together corporate\, municipal\, institutional and community leaders\, along with global and national experts and practitioners\, to discuss strategies and resources that can propel climate crisis solutions into reality and chart paths to more sustainable\, livable futures. Climate Beacon features tours of local sustainability projects\, roundtable discussions\, timely solution sessions\, speaker panels\, and networking receptions. \nComplimentary tickets are available for students\, public servants\, and community\, youth\, environmental justice\, and small nonprofit organizations. \n\nRegister and learn more
URL:https://newiee.org/event/climate-beacon-conference/
LOCATION:Lyrik\, 1001 Boylston Street\, Boston\, 02115\, United States
CATEGORIES:Friends of NEWIEE
END:VEVENT
END:VCALENDAR