BEGIN:VCALENDAR
VERSION:2.0
PRODID:-//NEWIEE - ECPv6.15.15//NONSGML v1.0//EN
CALSCALE:GREGORIAN
METHOD:PUBLISH
X-ORIGINAL-URL:https://newiee.org
X-WR-CALDESC:Events for NEWIEE
REFRESH-INTERVAL;VALUE=DURATION:PT1H
X-Robots-Tag:noindex
X-PUBLISHED-TTL:PT1H
BEGIN:VTIMEZONE
TZID:America/New_York
BEGIN:DAYLIGHT
TZOFFSETFROM:-0500
TZOFFSETTO:-0400
TZNAME:EDT
DTSTART:20200308T070000
END:DAYLIGHT
BEGIN:STANDARD
TZOFFSETFROM:-0400
TZOFFSETTO:-0500
TZNAME:EST
DTSTART:20201101T060000
END:STANDARD
BEGIN:DAYLIGHT
TZOFFSETFROM:-0500
TZOFFSETTO:-0400
TZNAME:EDT
DTSTART:20210314T070000
END:DAYLIGHT
BEGIN:STANDARD
TZOFFSETFROM:-0400
TZOFFSETTO:-0500
TZNAME:EST
DTSTART:20211107T060000
END:STANDARD
BEGIN:DAYLIGHT
TZOFFSETFROM:-0500
TZOFFSETTO:-0400
TZNAME:EDT
DTSTART:20220313T070000
END:DAYLIGHT
BEGIN:STANDARD
TZOFFSETFROM:-0400
TZOFFSETTO:-0500
TZNAME:EST
DTSTART:20221106T060000
END:STANDARD
END:VTIMEZONE
BEGIN:VEVENT
DTSTART;TZID=America/New_York:20210929T080000
DTEND;TZID=America/New_York:20210930T150000
DTSTAMP:20260422T101414
CREATED:20210719T023320Z
LAST-MODIFIED:20210719T023320Z
UID:17892-1632902400-1633014000@newiee.org
SUMMARY:NEWEA's CSO Conference & Exhibit
DESCRIPTION:The NEWEA CSO/Wet Weather Committee will be hosting a two-day Conference & Exhibit on September 29-30\, 2021 in Portsmouth\, NH.
URL:https://newiee.org/event/neweas-cso-conference-exhibit/
LOCATION:Sheraton Portsmouth Hotel\, 250 Market St\, Portsmouth\, NH\, 03801\, United States
CATEGORIES:Friends of NEWIEE
END:VEVENT
END:VCALENDAR