BEGIN:VCALENDAR
VERSION:2.0
PRODID:-//NEWIEE - ECPv6.15.15//NONSGML v1.0//EN
CALSCALE:GREGORIAN
METHOD:PUBLISH
X-ORIGINAL-URL:https://newiee.org
X-WR-CALDESC:Events for NEWIEE
REFRESH-INTERVAL;VALUE=DURATION:PT1H
X-Robots-Tag:noindex
X-PUBLISHED-TTL:PT1H
BEGIN:VTIMEZONE
TZID:America/New_York
BEGIN:DAYLIGHT
TZOFFSETFROM:-0500
TZOFFSETTO:-0400
TZNAME:EDT
DTSTART:20220313T070000
END:DAYLIGHT
BEGIN:STANDARD
TZOFFSETFROM:-0400
TZOFFSETTO:-0500
TZNAME:EST
DTSTART:20221106T060000
END:STANDARD
BEGIN:DAYLIGHT
TZOFFSETFROM:-0500
TZOFFSETTO:-0400
TZNAME:EDT
DTSTART:20230312T070000
END:DAYLIGHT
BEGIN:STANDARD
TZOFFSETFROM:-0400
TZOFFSETTO:-0500
TZNAME:EST
DTSTART:20231105T060000
END:STANDARD
BEGIN:DAYLIGHT
TZOFFSETFROM:-0500
TZOFFSETTO:-0400
TZNAME:EDT
DTSTART:20240310T070000
END:DAYLIGHT
BEGIN:STANDARD
TZOFFSETFROM:-0400
TZOFFSETTO:-0500
TZNAME:EST
DTSTART:20241103T060000
END:STANDARD
END:VTIMEZONE
BEGIN:VEVENT
DTSTART;TZID=America/New_York:20230509T173000
DTEND;TZID=America/New_York:20230509T191500
DTSTAMP:20260420T162625
CREATED:20230501T014724Z
LAST-MODIFIED:20230501T014724Z
UID:20978-1683653400-1683659700@newiee.org
SUMMARY:SWEP CT's Take a Hike
DESCRIPTION:SWEP CT is pleased to invite their members to join them on an easy hike.  Participants will meet in the parking lot at the TPC River Highlands Clubhouse at 5:30 PM\, so that people can proceed over to the hike entrance and set out no later 5:45 PM. The plan is to return by about 7:15 PM\, before the sun sets. SWEP CT looks forward to seeing you again while also enjoying one of Connecticut’s many beautiful hikes.  For those interested\, there will be a gathering afterwards at the TPC Clubhouse.  Please understand that each person will be paying for food and beverages of their choice.  Please remember to dress comfortably. In case of inclement weather\, our rain date will be May 16\, and we will email a cancellation by 3:00 on the day of the hike.
URL:https://newiee.org/event/swep-cts-take-a-hike-2/
LOCATION:TPC River Highlands Clubhouse\, One Golf Club Road\, Cromwell\, CT\, 06416
CATEGORIES:Friends of NEWIEE
END:VEVENT
END:VCALENDAR