BEGIN:VCALENDAR
VERSION:2.0
PRODID:-//NEWIEE - ECPv6.15.15//NONSGML v1.0//EN
CALSCALE:GREGORIAN
METHOD:PUBLISH
X-ORIGINAL-URL:https://newiee.org
X-WR-CALDESC:Events for NEWIEE
REFRESH-INTERVAL;VALUE=DURATION:PT1H
X-Robots-Tag:noindex
X-PUBLISHED-TTL:PT1H
BEGIN:VTIMEZONE
TZID:America/New_York
BEGIN:DAYLIGHT
TZOFFSETFROM:-0500
TZOFFSETTO:-0400
TZNAME:EDT
DTSTART:20230312T070000
END:DAYLIGHT
BEGIN:STANDARD
TZOFFSETFROM:-0400
TZOFFSETTO:-0500
TZNAME:EST
DTSTART:20231105T060000
END:STANDARD
BEGIN:DAYLIGHT
TZOFFSETFROM:-0500
TZOFFSETTO:-0400
TZNAME:EDT
DTSTART:20240310T070000
END:DAYLIGHT
BEGIN:STANDARD
TZOFFSETFROM:-0400
TZOFFSETTO:-0500
TZNAME:EST
DTSTART:20241103T060000
END:STANDARD
BEGIN:DAYLIGHT
TZOFFSETFROM:-0500
TZOFFSETTO:-0400
TZNAME:EDT
DTSTART:20250309T070000
END:DAYLIGHT
BEGIN:STANDARD
TZOFFSETFROM:-0400
TZOFFSETTO:-0500
TZNAME:EST
DTSTART:20251102T060000
END:STANDARD
END:VTIMEZONE
BEGIN:VEVENT
DTSTART;TZID=America/New_York:20241023T160000
DTEND;TZID=America/New_York:20241023T180000
DTSTAMP:20260420T073300
CREATED:20240904T020101Z
LAST-MODIFIED:20240904T022134Z
UID:23799-1729699200-1729706400@newiee.org
SUMMARY:Vermont Chapter Week Event - Chapter Kick Off
DESCRIPTION:[vc_row][vc_column][vc_column_text css=”.vc_custom_1725415161065{margin-bottom: 0px !important;}”]Join us as we kick off the NEWIEE Vermont Chapter with an event this October at VEIC’s offices in Winooski. We’ll hear from an amazing panel including Mari McClure\, President and CEO of Green Mountain Power\, June Tierney\, Commissioner at the Vermont Department of Public Service\, and Sarah Adams\, Vermont State Policy Advisor at ISO New England. We’ll then have a networking reception\, where attendees can both get to know new people and deepen connections with years-long colleagues and friends.[/vc_column_text][vc_empty_space][mk_button size=”medium” url=”https://www.eventbrite.com/e/vermont-newiee-chapter-kick-off-tickets-1005153921437″ target=”_blank” align=”center” button_custom_width=”300″]Register Here[/mk_button][vc_empty_space height=”50″][/vc_column][/vc_row]
URL:https://newiee.org/event/vermont-chapter-week-event-chapter-kickoff/
LOCATION:VEIC\, 20 Winooski Falls Way\, Winooski\, VT\, 05404\, United States
CATEGORIES:NEWIEE,Vermont Chapter
ATTACH;FMTTYPE=image/png:https://newiee.org/wp-content/uploads/2024/08/chapter-week-october.png
ORGANIZER;CN="NEWIEE":MAILTO:NEWIEE@NEWIEE.org
END:VEVENT
END:VCALENDAR