BEGIN:VCALENDAR
VERSION:2.0
PRODID:-//NEWIEE - ECPv6.15.15//NONSGML v1.0//EN
CALSCALE:GREGORIAN
METHOD:PUBLISH
X-WR-CALNAME:NEWIEE
X-ORIGINAL-URL:https://newiee.org
X-WR-CALDESC:Events for NEWIEE
REFRESH-INTERVAL;VALUE=DURATION:PT1H
X-Robots-Tag:noindex
X-PUBLISHED-TTL:PT1H
BEGIN:VTIMEZONE
TZID:America/New_York
BEGIN:DAYLIGHT
TZOFFSETFROM:-0500
TZOFFSETTO:-0400
TZNAME:EDT
DTSTART:20200308T070000
END:DAYLIGHT
BEGIN:STANDARD
TZOFFSETFROM:-0400
TZOFFSETTO:-0500
TZNAME:EST
DTSTART:20201101T060000
END:STANDARD
BEGIN:DAYLIGHT
TZOFFSETFROM:-0500
TZOFFSETTO:-0400
TZNAME:EDT
DTSTART:20210314T070000
END:DAYLIGHT
BEGIN:STANDARD
TZOFFSETFROM:-0400
TZOFFSETTO:-0500
TZNAME:EST
DTSTART:20211107T060000
END:STANDARD
BEGIN:DAYLIGHT
TZOFFSETFROM:-0500
TZOFFSETTO:-0400
TZNAME:EDT
DTSTART:20220313T070000
END:DAYLIGHT
BEGIN:STANDARD
TZOFFSETFROM:-0400
TZOFFSETTO:-0500
TZNAME:EST
DTSTART:20221106T060000
END:STANDARD
END:VTIMEZONE
BEGIN:VEVENT
DTSTART;TZID=America/New_York:20211103T160000
DTEND;TZID=America/New_York:20211103T180000
DTSTAMP:20260425T102912
CREATED:20210830T003214Z
LAST-MODIFIED:20211108T002048Z
UID:18126-1635955200-1635962400@newiee.org
SUMMARY:NEWIEE’s 2021 Annual Meeting & Fall Fête (Virtual)
DESCRIPTION:[vc_row id=”gala-sponsorship”][vc_column][vc_empty_space height=”10px”][vc_column_text css=”.vc_custom_1636330810320{margin-bottom: 0px !important;}”]\nA recording of this year’s Annual Meeting and Fall Fete is available for those who purchased a ticket and were not able to attend the event. Please reach out to newiee@newiee.org to request the link. \n[/vc_column_text][vc_empty_space height=”30px”][vc_column_text css=”.vc_custom_1635723106085{margin-bottom: 0px !important;}”]NEWIEE is delighted to welcome Dr. Emily Reichert\, Chief Executive Officer of Greentown Labs\, the largest clean technology startup incubator in North America\, as its special guest speaker for the Annual Meeting and Fall Fête event on November 3\, 2021\, 4:00 pm – 6:00 pm. Emily will share her broad perspectives on the 2021 United Nations Climate Change Conference (COP26) in Glasgow\, Scotland and the exciting news of Greentown Labs’ expansion to Houston\, Texas. The discussion will be facilitated by Alicia Barton\, CEO of FirstLight Power. Both Alicia and Emily have been honored with Achievement Awards at NEWIEE’s Annual Awards Gala. \nAfter the discussion\, we will break out into small groups for networking! Some of the breakout room moderators include: \n\nDeanna Sassorossi\, Sustainability Analyst\, Eversource Energy (Rising Professionals Co-Chair)\nEmily Luksha\, Director\, Rates and Revenue Requirements at Massachusetts Department of Public Utilities (2019 NEWIEE Rising Star Awardee)\nGina Bellato\, Solar Program Manager\, Department of Energy Resources\nJolette Westbrook\, Director & Senior Attorney\, Energy Markets & Regulation\, Environmental Defense Fund\nKate Epsen\, External Affairs\, ISO New England (2018 NEWIEE Rising Star Awardee)\nLinda George\, Administrator of the Division of Public Utilities & Carriers\nLouisa Lund\, Senior Consultant\, Daymark Energy Adviors\nLynn Fountain\, Attorney\, Day Pitney LLP\nNicole Verdi\, Chief Legal Counsel\, Office of the Rhode Island Senate President\nSara Burns\, Former President and CEO at Central Maine Power\nSusan AnderBois\, Climate & Energy Program Manager\, The Nature Conservancy in Rhode Island\n\n[/vc_column_text][vc_empty_space height=”20px”][vc_column_text css=”.vc_custom_1632157153609{margin-bottom: 0px !important;}”]\nEvent FAQ\n\nHow can I contact the organizer? Please send any questions to newiee@newiee.org.\nWhat is the refund policy? Refunds will be available 48 hours before the event. Please contact newiee@neiwee.org if you are unable to attend.\nMay I pay for my ticket by check\, instead of online? We strongly prefer payments online.\nCan I buy tickets on the day of the event? Tickets will be available up until one hour before the event begins.\nIs my registration/ticket transferrable? No\, your registration/ticket is not transferrable.\n\n[/vc_column_text][/vc_column][/vc_row][vc_row][vc_column width=”1/2″][vc_empty_space height=”20px”][mk_button size=”medium” url=”https://www.eventbrite.com/e/newiee-annual-meeting-and-fall-fete-tickets-172947539747″ target=”_blank” align=”center” button_custom_width=”250″ margin_right=”0″ bg_color=”#614c8d”]Purchase Tickets![/mk_button][vc_empty_space height=”20px”][/vc_column][vc_column width=”1/2″][vc_empty_space height=”20px”][mk_button size=”medium” url=”https://newiee.org/wp-content/uploads/2021/10/newiee-fall-fete-2021-press-release-final.pdf” target=”_blank” align=”center” button_custom_width=”250″ margin_right=”0″ bg_color=”#614c8d”]Read Press Release[/mk_button][vc_empty_space height=”20px”][/vc_column][/vc_row][mk_page_section min_height=”0″ sidebar=”sidebar-1″][vc_column][vc_row_inner disable_element=”yes”][vc_column_inner][vc_separator color=”custom” el_width=”30″ accent_color=”#614c8d”][vc_empty_space height=”10px”][vc_column_text css=”.vc_custom_1601246594262{margin-bottom: 0px !important;}”]\nAbout Our Guests\n[/vc_column_text][vc_empty_space height=”15px”][/vc_column_inner][/vc_row_inner][vc_row_inner disable_element=”yes”][vc_column_inner width=”1/4″ offset=”vc_col-md-2 vc_col-sm-offset-0 vc_col-xs-offset-3 vc_col-xs-6″][vc_single_image image=”12138″ img_size=”170×170″ alignment=”center” style=”vc_box_shadow”][/vc_column_inner][vc_column_inner width=”3/4″ offset=”vc_col-md-10 vc_col-sm-offset-0 vc_col-xs-offset-2 vc_col-xs-8″][vc_column_text css=”.vc_custom_1601245688754{margin-bottom: 0px !important;}”]Kathleen Theoharides\nSecretary\nMassachusetts Executive Office of Energy and Environmental Affairs (EEA)[/vc_column_text][mk_toggle title=”Read Kathleen’s Bio” el_class=”bio-toggle”]\nIn 2016\, Katie Theoharides joined the Baker-Polito Administration as Director of Climate and Global Warming Solutions in the Executive Office of Energy and Environmental Affairs. As Director and later Assistant Secretary\, Theoharides guided the development and implementation of the Administration’s efforts to safeguard Massachusetts from the impacts of climate change\, support cities and towns\, and coordinate efforts across state government to reduce emissions and adapt to the impacts of climate change. She worked to implement Executive Order 569\, led the development of the State Hazard Mitigation and Climate Adaptation Plan and created the Municipal Vulnerability Preparedness program\, working to grow the program to reach 50 percent of cities and towns in the Commonwealth in less than 3 years. Theoharides was promoted to Undersecretary in 2019\, and continued to lead the Commonwealth’s efforts on climate change\, including working to strengthen regional and national coalitions focused on bipartisan state climate leadership including the United States Climate Alliance and the Transportation Climate Initiative. \nTrained as a field biologist\, Theoharides began her policy career working in Washington\, D.C. at the National Sustainable Agriculture Coalition and Defenders of Wildlife. During her time in DC\, Theoharides worked on the federal farm bill and conservation policy\, and helped establish a national program that partnered with federal and state agencies to incorporate climate change adaptation into policy\, budgets\, and planning. After returning to Massachusetts\, Theoharides served as the Executive Director of the Hilltown Land Trust\, and founded Theoharides Consulting which provided climate and environmental policy analysis\, strategic planning\, and facilitation to universities\, government agencies and non-profits. \nTheoharides received a B.A. in Ecology and Evolutionary Biology from Dartmouth College and Masters of Science in Ecology and Environmental Biology from University of Massachusetts-Boston. Originally from western Massachusetts\, Theoharides lives with her husband\, three young children\, and dog in Arlington\, Massachusetts. \n[/mk_toggle][vc_empty_space height=”30px”][/vc_column_inner][/vc_row_inner][vc_row_inner disable_element=”yes”][vc_column_inner width=”1/4″ offset=”vc_col-md-2 vc_col-sm-offset-0 vc_col-xs-offset-3 vc_col-xs-6″][vc_single_image image=”12141″ img_size=”170×170″ alignment=”center” style=”vc_box_shadow”][/vc_column_inner][vc_column_inner width=”3/4″ offset=”vc_col-md-10 vc_col-sm-offset-0 vc_col-xs-offset-2 vc_col-xs-8″][vc_column_text css=”.vc_custom_1601246005391{margin-bottom: 0px !important;}”]Tracy R. Babbidge\, Esq.\nBureau Chief\, Bureau of Air Management\nConnecticut Department of Energy and Environmental Protection (DEEP)[/vc_column_text][mk_toggle title=”Read Tracy’s Bio” el_class=”bio-toggle”]\nTracy Babbidge currently serves as the Bureau Chief of the Bureau of Air Management. The Bureau is responsible for implementing a variety of programs to achieve clean air and assure radiation safety across Connecticut. Previously\, Tracy served as the Bureau Chief for Energy and Technology Policy where she worked on comprehensive energy and climate change planning\, integrated resource planning\, advancing the deployment of both grid-scale and distributed resources. She is now working on issues at the intersection of clean air and clean energy policies working to advance the Department’s efforts in both of these areas as part of an integrated approach. \nTracy has also served in several environmental positions within the former Department of Environmental Protection (DEP). Prior to state service Tracy worked on the federal level for the Environmental Crimes Section of the U.S. Department of Justice in Washington\, D.C. She received her law degree from Quinnipiac College School of Law and her B.A. from Providence College. She is a member of the Connecticut Bar. \n[/mk_toggle][vc_empty_space height=”30px”][/vc_column_inner][/vc_row_inner][vc_row_inner disable_element=”yes”][vc_column_inner width=”1/4″ offset=”vc_col-md-2 vc_col-sm-offset-0 vc_col-xs-offset-3 vc_col-xs-6″][vc_single_image image=”12140″ img_size=”170×170″ alignment=”center” style=”vc_box_shadow”][/vc_column_inner][vc_column_inner width=”3/4″ offset=”vc_col-md-10 vc_col-sm-offset-0 vc_col-xs-offset-2 vc_col-xs-8″][vc_column_text css=”.vc_custom_1601246211169{margin-bottom: 0px !important;}”]Abby L Watson\nHead of Government Affairs\, North America\nSiemens Gamesa Renewable Energy[/vc_column_text][mk_toggle title=”Read Abby’s Bio” el_class=”bio-toggle”]\nAbby Watson leads government and institutional relations for Siemens Gamesa Renewable Energy in North America\, covering federal and state policy and regulatory issues. For nearly 15 years\, Abby has worked with almost every type of renewable energy from several angles – development\, construction\, risk management\, project management\, manufacturing\, sales\, and policy. In her nine years’ experience with Siemens Gamesa\, she moved from managing landowner relationships during development\, to the sale of spare parts in support of its non-warranty fleet\, and finally took a role leading government relations. As Head of Government Affairs\, Abby manages strategic planning for government and institutional relationships\, maintaining a close dialogue with the business development function for both the onshore and offshore business units\, while also taking a hands-on role with state policy issues and new market entry planning. \nAbby is proud to be the founder and Advisor to the Board of the Philadelphia chapter of Women of Renewable Industries and Sustainable Energy (WRISE) and is an enthusiastic mentor and advocate for women in the renewable energy industry. Abby studied Geology with dual concentrations in Environmental Studies and Geoarchaeology at Bryn Mawr College\, received a BA in Energy and Sustainability Policy from Penn State University\, and is currently enrolled in the Villanova Executive MBA program. \n[/mk_toggle][vc_empty_space height=”30px”][/vc_column_inner][/vc_row_inner][/vc_column][/mk_page_section][vc_row id=”gala-sponsorship”][vc_column][vc_separator color=”custom” el_width=”30″ accent_color=”#614c8d”][vc_empty_space height=”10px”][vc_column_text el_class=”gala-sponsorship” css=”.vc_custom_1601246575640{margin-bottom: 0px !important;}”]\nSponsorship\n[/vc_column_text][vc_empty_space height=”15px”][vc_column_text css=”.vc_custom_1632100140364{margin-bottom: 0px !important;}”]We need your support for this exciting event! Sponsorship is tremendously valuable for NEWIEE’s continuing programming. If your organization would like to sponsor this event or has any questions\, please review our Sponsorship Benefits and get in touch with us at newiee@newiee.org.[/vc_column_text][/vc_column][/vc_row][vc_row][vc_column][vc_empty_space height=”15px”][mk_button size=”medium” url=”https://newiee.org/wp-content/uploads/SignatureEvents/2021/FallFete/NEWIEE-Annual-Meeting-_-Fall-Fete-2021-Flyer-8.5×11-FINAL.pdf” target=”_blank” align=”center” button_custom_width=”250″ margin_right=”0″ bg_color=”#614c8d”]Sponsorship Brochure[/mk_button][vc_empty_space height=”40px”][/vc_column][/vc_row][vc_row][vc_column][vc_column_text css=”.vc_custom_1592249384713{margin-bottom: 0px !important;}”]\nPlatinum Sponsors\n[/vc_column_text][mk_clients style=”column” gutter_space=”3″ count=”-1″ orderby=”title” height=”90″ autoplay=”false” target=”_blank” margin_bottom=”0″ clients=”371\, 375\, 8168\, 17341\, 16819″][vc_column_text margin_bottom=”10″ css=”.vc_custom_1549911988357{margin-bottom: 0px !important;}”]\nGold Sponsors\n[/vc_column_text][vc_empty_space height=”40px”][mk_clients style=”column” gutter_space=”3″ count=”-1″ orderby=”title” height=”80″ autoplay=”false” target=”_blank” margin_bottom=”10″ clients=”523\, 17284\, 4678\, 474\, 1801\, 18292\, 1889\, 17983\, 558\, 3463″][vc_empty_space height=”40px”][vc_column_text margin_bottom=”10″ css=”.vc_custom_1632099403740{margin-bottom: 0px !important;}”]\nSilver Sponsors\n[/vc_column_text][mk_clients style=”column” column=”4″ gutter_space=”3″ count=”-1″ orderby=”title” height=”80″ autoplay=”false” target=”_blank” margin_bottom=”10″ clients=”1810\, 8867\, 1940\, 9036″][vc_empty_space height=”40px”][/vc_column][/vc_row][vc_row][vc_column][vc_column_text css=”.vc_custom_1632157236650{margin-bottom: 0px !important;}”]Also of Interest: \n\nNEWIEE’s 2021 “Women Shaping the Agenda”: Changing The Face Of The Energy And Environment Workforce\nNEWIEE’s 2020 Annual Meeting & Fall Fête\nNEWIEE Event Calendar\nNEWIEE Jobs Board\n\n[/vc_column_text][/vc_column][/vc_row]
URL:https://newiee.org/event/newiees-2021-annual-meeting-fall-fete/
LOCATION:CT
CATEGORIES:NEWIEE,Signature Event
ATTACH;FMTTYPE=image/png:https://newiee.org/wp-content/uploads/SignatureEvents/2021/FallFete/2021.10_NEWIEE_AMFF.png
ORGANIZER;CN="NEWIEE":MAILTO:NEWIEE@NEWIEE.org
END:VEVENT
BEGIN:VEVENT
DTSTART;TZID=America/New_York:20211109T163000
DTEND;TZID=America/New_York:20211109T173000
DTSTAMP:20260425T102912
CREATED:20211020T103011Z
LAST-MODIFIED:20211114T203657Z
UID:18299-1636475400-1636479000@newiee.org
SUMMARY:NEWIEE Rising Professionals Workshop:  Advancing Your Career
DESCRIPTION:[vc_row][vc_column][vc_column_text css=”.vc_custom_1636922159145{margin-bottom: 0px !important;}”]Recording is available to registrants and NEWIEE members by requesting the link at newiee@newiee.org. \nJoin NEWIEE Rising Professionals on November 9th for a workshop on essential steps to advancing your career with Tiffany McLean and Katie Peterssen of Ignite Career and Leadership Development\, LLC. \nKnowing what you want out of your career is the first step\, then comes the challenge of charting the path to get there. Before a plan for advancement can be created\, attendees will evaluate the skills and knowledge required for the target role and examine steps for evaluating expertise and resources for improving readiness for advancement. Then\, participants will learn strategies to make the networking process more approachable based on their unique talents and personality type. We will recognize current relationships and identify those that need to be refreshed or developed. Lastly\, attendees will prepare to lead and navigate conversations with decision makers about your career goals. \nAttendees will leave with: \n\nCareer Advancement Action Plan worksheet\nVisual guide of their professional network and list of connections to refresh or build\nChecklist for determining skill and/or knowledge gaps which impact advancement opportunities\nResources for leading conversations with supervisors and other decision makers about career plans and advancement opportunities\nNew professional connections with NEWIEE members\n\n[/vc_column_text][vc_empty_space height=”20px”][/vc_column][/vc_row][vc_row][vc_column][mk_button corner_style=”full_rounded” size=”medium” url=”https://www.eventbrite.com/e/newiee-rising-professionals-workshop-advancing-your-career-tickets-190667219787″ target=”_blank” align=”center” button_custom_width=”369″]Register Here[/mk_button][vc_empty_space][/vc_column][/vc_row][vc_row disable_element=”yes”][vc_column][vc_single_image img_size=”full”][/vc_column][/vc_row][vc_row][vc_column][vc_column_text css=”.vc_custom_1627237715544{margin-bottom: 0px !important;}”]\nSpeakers\n[/vc_column_text][vc_empty_space height=”10px”][/vc_column][/vc_row][vc_row][vc_column width=”1/4″ offset=”vc_col-md-2 vc_col-sm-offset-0 vc_col-xs-offset-3 vc_col-xs-6″][vc_single_image image=”18302″ img_size=”170×170″ alignment=”center” style=”vc_box_shadow”][/vc_column][vc_column width=”3/4″ offset=”vc_col-md-10 vc_col-sm-offset-0 vc_col-xs-offset-2 vc_col-xs-8″][vc_column_text css=”.vc_custom_1634725198196{margin-bottom: 0px !important;}”]\nTiffany McLean\nIgnite Career and Leadership Development\, LLC[/vc_column_text][mk_toggle title=”Read Tiffany’s Bio” el_class=”bio-toggle”]\n\nA military brat born at Shaw AFB in Sumter\, SC\, Tiffany has over 20 years of management and leadership experience with cross-generational teams. In 2015\, she was introduced to the Gallup CliftonStrengths philosophy. By better understanding and leveraging her team’s individual and collective strengths\, she saw a significant increase in individual engagement and greater performance as an organization. She has conducted individual coaching sessions and workshops in technology\, finance\, hospitality\, manufacturing\, and higher education. Here are just a few ways she uses her own strengths when working with clients: \nStrategic: intuitive and insightful coach \nCommunication: interactive and expressive presenter \nAchiever: productive and self-motivated facilitator \nWoo: engaging conversationalist \nActivator: dynamic catalyst for growth \nSince graduating with B.A. degrees in Psychology and Russian and an M.A. in English\, she has worked in both the private and public sector. After working as a client financial analyst for the 4th largest global HR benefits consulting company\, she worked as a corporate event planner before pivoting into higher education as a recruiter and leadership development professional. \n\n[/mk_toggle][vc_empty_space height=”30px”][/vc_column][/vc_row][vc_row][vc_column width=”1/4″ offset=”vc_col-md-2 vc_col-sm-offset-0 vc_col-xs-offset-3 vc_col-xs-6″][vc_single_image image=”18303″ img_size=”170×170″ alignment=”center” style=”vc_box_shadow”][/vc_column][vc_column width=”3/4″ offset=”vc_col-md-10 vc_col-sm-offset-0 vc_col-xs-offset-2 vc_col-xs-8″][vc_column_text css=”.vc_custom_1634725573211{margin-bottom: 0px !important;}”]\nKatie Peterssen\nIgnite Career and Leadership Development\, LLC[/vc_column_text][mk_toggle title=”Read Katie’s Bio” el_class=”bio-toggle”]\nKatie Peterssen has nearly 15 years of experience helping individuals explore pathways and strategies to meet their career and academic goals. An expert in career and professional development\, she has a knack for recognizing and cultivating strengths in individuals and within teams. Focused on creating environments in which people can be themselves and do their best work\, Katie is a National Certified Counselor under the National Board for Certified Counselors (NCC) and a Licensed Clinical Mental Health Counselor in North Carolina (LCMHCA). Clients gravitate to Katie’s energy and commitment to their success\, she is never short on ideas or strategies to improve and innovate. Here are a few ways that she uses her strengths when working with clients: \nPositivity: energetic and engaging presenter \nIncluder: skilled listener and facilitator \nStrategic: intuitive pathfinder \nAchiever: motivated by client success \nLearner: trailblazing leader with fresh perspective \nKatie has significant experience working with diverse clients\, notably including serving military spouses as a Career Coach on a DoD contract under the SECO program. Katie has delivered presentations to groups of 5 – 250 at top tech firms including Lenovo\, SAS\, and IBM\, and to higher education groups at Davidson College\, Meredith College\, and North Carolina State University. No two groups are the same and Katie is dedicated to creating tailored\, dynamic learning experiences. Known for her tech skills and love for tools that streamline and inform\, you can rest assured that the information she shares is current\, reliable\, and customized for you. Katie currently serves as the Past-President of the North Carolina Career Development Association (NCCDA). She has lived up and down the east coast\, earning her BS in Information Design and Corporate Communication from Bentley University and later completing her MEd in Counselor Education at North Carolina State University. \n[/mk_toggle][vc_empty_space height=”30px”][/vc_column][/vc_row][vc_row][vc_column][vc_column_text css=”.vc_custom_1634767634001{margin-bottom: 0px !important;}”]\nEvent Sponsor\n[/vc_column_text][mk_clients style=”column” column=”1″ count=”-1″ clients=”371″][vc_empty_space height=”20px”][/vc_column][/vc_row]
URL:https://newiee.org/event/newiee-rising-professionals-workshop-advancing-your-career/
LOCATION:CT
CATEGORIES:NEWIEE,Rising Professionals
ATTACH;FMTTYPE=image/png:https://newiee.org/wp-content/uploads/2021/10/newiee-rising-professionals-october-2021-website-1140x500-1.png
ORGANIZER;CN="NEWIEE":MAILTO:NEWIEE@NEWIEE.org
END:VEVENT
END:VCALENDAR