BEGIN:VCALENDAR
VERSION:2.0
PRODID:-//NEWIEE - ECPv6.15.15//NONSGML v1.0//EN
CALSCALE:GREGORIAN
METHOD:PUBLISH
X-ORIGINAL-URL:https://newiee.org
X-WR-CALDESC:Events for NEWIEE
REFRESH-INTERVAL;VALUE=DURATION:PT1H
X-Robots-Tag:noindex
X-PUBLISHED-TTL:PT1H
BEGIN:VTIMEZONE
TZID:America/New_York
BEGIN:DAYLIGHT
TZOFFSETFROM:-0500
TZOFFSETTO:-0400
TZNAME:EDT
DTSTART:20200308T070000
END:DAYLIGHT
BEGIN:STANDARD
TZOFFSETFROM:-0400
TZOFFSETTO:-0500
TZNAME:EST
DTSTART:20201101T060000
END:STANDARD
BEGIN:DAYLIGHT
TZOFFSETFROM:-0500
TZOFFSETTO:-0400
TZNAME:EDT
DTSTART:20210314T070000
END:DAYLIGHT
BEGIN:STANDARD
TZOFFSETFROM:-0400
TZOFFSETTO:-0500
TZNAME:EST
DTSTART:20211107T060000
END:STANDARD
BEGIN:DAYLIGHT
TZOFFSETFROM:-0500
TZOFFSETTO:-0400
TZNAME:EDT
DTSTART:20220313T070000
END:DAYLIGHT
BEGIN:STANDARD
TZOFFSETFROM:-0400
TZOFFSETTO:-0500
TZNAME:EST
DTSTART:20221106T060000
END:STANDARD
END:VTIMEZONE
BEGIN:VEVENT
DTSTART;VALUE=DATE:20211209
DTEND;VALUE=DATE:20211210
DTSTAMP:20260425T073050
CREATED:20211101T004741Z
LAST-MODIFIED:20211206T200717Z
UID:18365-1639008000-1639094399@newiee.org
SUMMARY:NEWIEE's Chapter Night
DESCRIPTION:[vc_row id=”gala-sponsorship”][vc_column][vc_empty_space height=”10px”][vc_column_text css=”.vc_custom_1635727205732{margin-bottom: 0px !important;}”]\nJoin NEWIEE in-person on December 9th at the chapter location nearest you!\n[/vc_column_text][vc_empty_space height=”30px”][vc_row_inner][vc_column_inner width=”1/6″ offset=”vc_col-sm-offset-0 vc_col-xs-offset-3 vc_col-xs-6″][vc_single_image image=”18366″ img_size=”170×170″ alignment=”center” style=”vc_box_shadow”][/vc_column_inner][vc_column_inner width=”7/12″ offset=”vc_col-sm-offset-0 vc_col-xs-12″][vc_column_text css=”.vc_custom_1635727053186{margin-bottom: 0px !important;}”]\nWestern New England Chapter Pub Night\n[/vc_column_text][vc_column_text css=”.vc_custom_1638820600290{margin-bottom: 0px !important;}”]\nProgression Brewery\n9 Pearl St\, Northampton\, MA\n6pm-8pm\n[/vc_column_text][vc_empty_space height=”5px”][vc_column_text css=”.vc_custom_1635727103447{margin-bottom: 0px !important;}”]Join us for an informal get together at Progression Brewery in Northampton\, sponsored by DHInfrastructure! Connecticut NEWIEE folks welcome to cross the border![/vc_column_text][vc_empty_space height=”20px”][mk_button size=”medium” url=”https://www.eventbrite.com/e/newiee-western-new-england-chapter-pub-night-tickets-204100789957″ target=”_blank” button_custom_width=”250″]Register Now[/mk_button][vc_empty_space height=”70px”][/vc_column_inner][vc_column_inner width=”1/4″ offset=”vc_col-sm-offset-0 vc_col-xs-offset-3 vc_col-xs-6″][vc_column_text align=”center” css=”.vc_custom_1636331322193{margin-bottom: 0px !important;}”]\nEvent Sponsor:\n[/vc_column_text][mk_clients style=”column” column=”1″ count=”-1″ height=”90″ clients=”8926″][/vc_column_inner][/vc_row_inner][vc_empty_space height=”50px”][vc_separator][vc_row_inner][vc_column_inner width=”1/6″ offset=”vc_col-sm-offset-0 vc_col-xs-offset-3 vc_col-xs-6″][vc_single_image image=”18373″ img_size=”612×170″ alignment=”center” style=”vc_box_shadow”][/vc_column_inner][vc_column_inner width=”7/12″ offset=”vc_col-sm-offset-0 vc_col-xs-12″][vc_column_text css=”.vc_custom_1635726939237{margin-bottom: 0px !important;}”]\nRhode Island Chapter Holiday Party\n[/vc_column_text][vc_column_text css=”.vc_custom_1638821232431{margin-bottom: 0px !important;}”]\nApponaug Brewing Company\n334 Knight St\, Warwick\, RI\n5pm-8pm\n[/vc_column_text][vc_empty_space height=”5px”][vc_column_text css=”.vc_custom_1636922503840{margin-bottom: 0px !important;}”]Come and celebrate the holidays with the Rhode Island Chapter of NEWIEE. We can’t wait to see your faces again for this in-person networking event at Apponaug Brewing Company\, a women-owned business.[/vc_column_text][vc_empty_space height=”20px”][mk_button size=”medium” url=”https://www.eventbrite.com/e/rhode-island-chapter-night-holiday-party-tickets-204091963557″ target=”_blank” button_custom_width=”250″]Register Now[/mk_button][vc_empty_space height=”70px”][/vc_column_inner][vc_column_inner width=”1/4″ offset=”vc_col-sm-offset-0 vc_col-xs-offset-3 vc_col-xs-6″][vc_column_text align=”center” css=”.vc_custom_1636331322193{margin-bottom: 0px !important;}”]\nEvent Sponsor:\n[/vc_column_text][mk_clients style=”column” column=”1″ count=”-1″ height=”90″ clients=”17317″][/vc_column_inner][/vc_row_inner][vc_empty_space height=”50px”][vc_separator][vc_row_inner][vc_column_inner width=”1/6″ offset=”vc_col-sm-offset-0 vc_col-xs-offset-3 vc_col-xs-6″][vc_single_image image=”18405″ img_size=”450×170″ alignment=”center” style=”vc_box_shadow”][/vc_column_inner][vc_column_inner width=”5/6″ offset=”vc_col-sm-offset-0 vc_col-xs-12″][vc_column_text css=”.vc_custom_1636923735763{margin-bottom: 0px !important;}”]\nBoston Chapter Holiday Mixer\n[/vc_column_text][vc_column_text css=”.vc_custom_1638821223243{margin-bottom: 0px !important;}”]\n2Twenty2\n4 Liberty Square\, Boston\, MA\n5pm-8pm\n[/vc_column_text][vc_empty_space height=”5px”][vc_column_text css=”.vc_custom_1636922967529{margin-bottom: 0px !important;}”]Join the Boston Chapter for a Holiday Mixer Thursday\, December 9 from 5 – 8 PM! The Boston Chapter is one of several chapters gathering as part of NEWIEE’s Chapter Night. Please stop by to network with other NEWIEE enthusiasts during the holiday season![/vc_column_text][vc_empty_space height=”20px”][vc_column_text css=”.vc_custom_1635727238432{margin-bottom: 0px !important;}”][/vc_column_text][mk_button size=”medium” url=”https://www.eventbrite.com/e/chapter-night-boston-chapter-holiday-mixer-tickets-207330389777″ target=”_blank” button_custom_width=”250″]Register Now[/mk_button][vc_empty_space height=”70px”][/vc_column_inner][/vc_row_inner][vc_empty_space height=”50px”][/vc_column][/vc_row]
URL:https://newiee.org/event/newiees-chapter-night/
LOCATION:CT
CATEGORIES:NEWIEE
ATTACH;FMTTYPE=image/png:https://newiee.org/wp-content/uploads/2021/10/newiee-chapter-night-dec-9th-website.png
ORGANIZER;CN="NEWIEE":MAILTO:NEWIEE@NEWIEE.org
END:VEVENT
END:VCALENDAR