BEGIN:VCALENDAR
VERSION:2.0
PRODID:-//NEWIEE - ECPv6.15.15//NONSGML v1.0//EN
CALSCALE:GREGORIAN
METHOD:PUBLISH
X-ORIGINAL-URL:https://newiee.org
X-WR-CALDESC:Events for NEWIEE
REFRESH-INTERVAL;VALUE=DURATION:PT1H
X-Robots-Tag:noindex
X-PUBLISHED-TTL:PT1H
BEGIN:VTIMEZONE
TZID:America/New_York
BEGIN:DAYLIGHT
TZOFFSETFROM:-0500
TZOFFSETTO:-0400
TZNAME:EDT
DTSTART:20210314T070000
END:DAYLIGHT
BEGIN:STANDARD
TZOFFSETFROM:-0400
TZOFFSETTO:-0500
TZNAME:EST
DTSTART:20211107T060000
END:STANDARD
BEGIN:DAYLIGHT
TZOFFSETFROM:-0500
TZOFFSETTO:-0400
TZNAME:EDT
DTSTART:20220313T070000
END:DAYLIGHT
BEGIN:STANDARD
TZOFFSETFROM:-0400
TZOFFSETTO:-0500
TZNAME:EST
DTSTART:20221106T060000
END:STANDARD
BEGIN:DAYLIGHT
TZOFFSETFROM:-0500
TZOFFSETTO:-0400
TZNAME:EDT
DTSTART:20230312T070000
END:DAYLIGHT
BEGIN:STANDARD
TZOFFSETFROM:-0400
TZOFFSETTO:-0500
TZNAME:EST
DTSTART:20231105T060000
END:STANDARD
END:VTIMEZONE
BEGIN:VEVENT
DTSTART;TZID=America/New_York:20220514T110000
DTEND;TZID=America/New_York:20220514T130000
DTSTAMP:20260420T041529
CREATED:20220403T170020Z
LAST-MODIFIED:20220403T170020Z
UID:19049-1652526000-1652533200@newiee.org
SUMMARY:NEWIEE Rising Professionals Spring Hike
DESCRIPTION:Join the NEWIEE Rising Professionals group for a Spring Hike at Wachusett Mountain! This will be a 3-mile loop hike\, which is generally considered an easy route taking an average of 1 hour and 45 minutes to complete. Please pack a lunch or snacks to enjoy on the trail. After the hike those interested can head over to Wachusett Brewing Company! \nMeet at Echo Lake Trail Head (42.474400\, -71.894560).
URL:https://newiee.org/event/newiee-rising-professionals-spring-hike/
LOCATION:Echo Lake Trail Head\, Princeton\, 01541\, United States
CATEGORIES:NEWIEE,Rising Professionals
ATTACH;FMTTYPE=image/png:https://newiee.org/wp-content/uploads/2022/04/newiee-hiking-event-website-1100-500-px.png
END:VEVENT
END:VCALENDAR