BEGIN:VCALENDAR
VERSION:2.0
PRODID:-//NEWIEE - ECPv6.15.15//NONSGML v1.0//EN
CALSCALE:GREGORIAN
METHOD:PUBLISH
X-ORIGINAL-URL:https://newiee.org
X-WR-CALDESC:Events for NEWIEE
REFRESH-INTERVAL;VALUE=DURATION:PT1H
X-Robots-Tag:noindex
X-PUBLISHED-TTL:PT1H
BEGIN:VTIMEZONE
TZID:America/New_York
BEGIN:DAYLIGHT
TZOFFSETFROM:-0500
TZOFFSETTO:-0400
TZNAME:EDT
DTSTART:20230312T070000
END:DAYLIGHT
BEGIN:STANDARD
TZOFFSETFROM:-0400
TZOFFSETTO:-0500
TZNAME:EST
DTSTART:20231105T060000
END:STANDARD
BEGIN:DAYLIGHT
TZOFFSETFROM:-0500
TZOFFSETTO:-0400
TZNAME:EDT
DTSTART:20240310T070000
END:DAYLIGHT
BEGIN:STANDARD
TZOFFSETFROM:-0400
TZOFFSETTO:-0500
TZNAME:EST
DTSTART:20241103T060000
END:STANDARD
BEGIN:DAYLIGHT
TZOFFSETFROM:-0500
TZOFFSETTO:-0400
TZNAME:EDT
DTSTART:20250309T070000
END:DAYLIGHT
BEGIN:STANDARD
TZOFFSETFROM:-0400
TZOFFSETTO:-0500
TZNAME:EST
DTSTART:20251102T060000
END:STANDARD
END:VTIMEZONE
BEGIN:VEVENT
DTSTART;TZID=America/New_York:20241015T090000
DTEND;TZID=America/New_York:20241015T150000
DTSTAMP:20260423T072028
CREATED:20240911T183002Z
LAST-MODIFIED:20241014T134139Z
UID:23873-1728982800-1729004400@newiee.org
SUMMARY:The trajectory of Iraq’s recovery\, development\, and global partnerships
DESCRIPTION:Join the Atlantic Council for its upcoming Third Annual Iraq Initiative Conference on Tuesday\, October 15\, 2024\, from 9:00 am – 3:00 pm ET. \nThe conference will convene a diverse group of leading experts\, scholars\, and policymakers from both the United States and the Republic of Iraq\, including current and former senior officials. It will tackle the significant challenges and opportunities facing the country as it begins to move beyond years of volatility\, with early signs of recovery and development. \nThis year’s focus will include the advancement of the energy sector\, the Iraqi government’s efforts toward sustainable economic diversification\, and the evolving trajectory of US-Iraqi relations. Participants will take part in dynamic panel discussions exploring how Iraq\, the United States\, and the international community can engage positively with Iraq as it navigates its unique sociopolitical\, economic\, and security changes. \nThe conference will be hybrid\, with both in-person and virtual participation\, and will include translation in both Kurdish and Arabic. The in-person sessions will take place at the Atlantic Council Headquarters\, 1030 15th St NW\, 12th Floor\, Washington\, DC.
URL:https://newiee.org/event/the-trajectory-of-iraqs-recovery-development-and-global-partnerships/
LOCATION:Virtual
CATEGORIES:Friends of NEWIEE
END:VEVENT
BEGIN:VEVENT
DTSTART;VALUE=DATE:20241016
DTEND;VALUE=DATE:20241017
DTSTAMP:20260423T072028
CREATED:20240911T155315Z
LAST-MODIFIED:20240911T155315Z
UID:23862-1729036800-1729123199@newiee.org
SUMMARY:Climate Beacon Conference 2024
DESCRIPTION:October 16\, 2024\nTBA\nBoston Society for Architects\, 290 Congress St Suite 200\, Boston\, MA 02210\nSave the date: Hosted by Climate Beacon Project\, the second annual Climate Beacon Conference will be held Oct. 16 through Oct. 18. The conference will focus on four themes: Building Better\, Powering Better\, Moving Better and Adapting Better. “Harborside chats” and summer field trips will give participants a close-up look at climate initiatives around Massachusetts.
URL:https://newiee.org/event/climate-beacon-conference-2024/
LOCATION:Boston Society of Architects\, 290 Congress Street\, Boston\, MA\, 02210\, United States
CATEGORIES:Friends of NEWIEE
END:VEVENT
BEGIN:VEVENT
DTSTART;TZID=America/New_York:20241031T130000
DTEND;TZID=America/New_York:20241031T140000
DTSTAMP:20260423T072028
CREATED:20241004T134828Z
LAST-MODIFIED:20241004T134828Z
UID:23982-1730379600-1730383200@newiee.org
SUMMARY:BuildingEnergy Boston Conference Chair Office Hours
DESCRIPTION:Event Date:\nThursday\, October 31\, 2024\nTime:\n1-2pm\nLocation:\nonline\nCost:\nfree\nThinking of submitting a session proposal for BuildingEnergy Boston 2025\, but don’t know where to start? Have a question about the conference theme? Have an idea but want a different perspective? Join us for an informal chat with our conference chairs! This is a great opportunity to develop and refine session ideas while the call for proposals is still open. \nFurther Information\nCall for Proposals: October 1 – November 6\nReview Period: November 7 – December 17\nNotification of Status: December 2024\nBuildingEnergy Boston will take place March 20-21\, 2025. You can learn more about submitting a conference session proposal here. The deadline for submissions is Monday\, November 6. \nQuestions? Speaker suggestions? Want to talk over a proposal idea before this event? Contact Ben Sachs-Hamilton\, Conference Director\, at bsachs-hamilton@nesea.org
URL:https://newiee.org/event/buildingenergy-boston-conference-chair-office-hours/
LOCATION:Virtual
CATEGORIES:Friends of NEWIEE
END:VEVENT
END:VCALENDAR