BEGIN:VCALENDAR
VERSION:2.0
PRODID:-//NEWIEE - ECPv6.15.15//NONSGML v1.0//EN
CALSCALE:GREGORIAN
METHOD:PUBLISH
X-WR-CALNAME:NEWIEE
X-ORIGINAL-URL:https://newiee.org
X-WR-CALDESC:Events for NEWIEE
REFRESH-INTERVAL;VALUE=DURATION:PT1H
X-Robots-Tag:noindex
X-PUBLISHED-TTL:PT1H
BEGIN:VTIMEZONE
TZID:America/New_York
BEGIN:DAYLIGHT
TZOFFSETFROM:-0500
TZOFFSETTO:-0400
TZNAME:EDT
DTSTART:20250309T070000
END:DAYLIGHT
BEGIN:STANDARD
TZOFFSETFROM:-0400
TZOFFSETTO:-0500
TZNAME:EST
DTSTART:20251102T060000
END:STANDARD
BEGIN:DAYLIGHT
TZOFFSETFROM:-0500
TZOFFSETTO:-0400
TZNAME:EDT
DTSTART:20260308T070000
END:DAYLIGHT
BEGIN:STANDARD
TZOFFSETFROM:-0400
TZOFFSETTO:-0500
TZNAME:EST
DTSTART:20261101T060000
END:STANDARD
BEGIN:DAYLIGHT
TZOFFSETFROM:-0500
TZOFFSETTO:-0400
TZNAME:EDT
DTSTART:20270314T070000
END:DAYLIGHT
BEGIN:STANDARD
TZOFFSETFROM:-0400
TZOFFSETTO:-0500
TZNAME:EST
DTSTART:20271107T060000
END:STANDARD
END:VTIMEZONE
BEGIN:VEVENT
DTSTART;TZID=America/New_York:20260108T090000
DTEND;TZID=America/New_York:20260108T150000
DTSTAMP:20260420T145525
CREATED:20251208T184232Z
LAST-MODIFIED:20251208T184243Z
UID:26369-1767862800-1767884400@newiee.org
SUMMARY:EBC: Seventh Annual New England Climate Change and Resiliency Summit & Poster Session
DESCRIPTION:It seems like every day there is news of a new climate record and unprecedented events. June 24\, 2025 was the hottest day for the month of June on record in Boston. New England has faced several major flooding events in 2024 and 2025\, including destructive flash floods in Vermont that washed out roads and required multiple water rescues\, and urban flooding in Massachusetts that shut down highways and inundated key infrastructure. These events are no longer outliers; they are becoming the new norm. How is New England addressing the rapidly changing climate? \nThe seventh annual EBC New England Climate Change and Resiliency Summit will bring together leaders from across the region to address that critical question: how do we prepare for the new norm? Each New England state is invited to discuss their programs and priorities for adaptation and resiliency and discuss among themselves and with attendees the challenges and opportunities. \nNew this year\, the Summit will also feature a poster session highlighting climate adaptation and resiliency plans and projects from across the New England region. The poster session offers a chance to explore on-the-ground initiatives\, share ideas\, and connect with practitioners and researchers leading innovative work to build climate resilience in their communities. \nFor those on the frontlines of adaptation and resiliency efforts\, the Summit is a forum to listen\, learn\, network\, and ask questions related to rapidly developing policy and programs connected to climate change. Attendees will leave the event invigorated by the community of professionals and the diverse ways New England is addressing the challenge of climate change.
URL:https://newiee.org/event/ebc-seventh-annual-new-england-climate-change-and-resiliency-summit-poster-session/
LOCATION:UMass Lowell Inn and Conference Center\, 50 Warren St\, Lowell\, MA\, 01852\, United States
CATEGORIES:Friends of NEWIEE
END:VEVENT
BEGIN:VEVENT
DTSTART;TZID=America/New_York:20260121T150000
DTEND;TZID=America/New_York:20260121T163000
DTSTAMP:20260420T145525
CREATED:20251208T182606Z
LAST-MODIFIED:20251208T182606Z
UID:26363-1769007600-1769013000@newiee.org
SUMMARY:NESEA: BuildingEnergy NYC 2026 Open Planning Meeting
DESCRIPTION:Share your vision for BuildingEnergy NYC 2026! \nBuildingEnergy NYC is designed by and for practitioners (like you) in the fields of high-performance building and design\, energy efficiency\, and renewable energy. Share your vision and help to shape the 2026 conference by attending the Open Planning Meeting! \nThis year’s meeting will be held online on January 21\, and will be asking questions such as: \n\nWhat new skills\, knowledge\, and solutions are most needed in the field today?\nHow can we step up our game to meet new challenges and opportunities?\nWhat session topics and speakers would create an extraordinary learning experience at the BuildingEnergy conference?\n\nThe meeting will be interactive and paced to allow thoughtful conversation with other professionals from around the Northeast. You will also learn how you can become a member of the Content Committee\, which reviews session proposals and guides their development into high-quality conference sessions. \nThe planning meeting is free and open to all — NESEA Membership is not required to attend. For more information\, contact Ben Sachs-Hamilton\, Conference Director\, at bsachs-hamilton@nesea.org.
URL:https://newiee.org/event/nesea-buildingenergy-nyc-2026-open-planning-meeting/
LOCATION:Virtual
CATEGORIES:Friends of NEWIEE
END:VEVENT
END:VCALENDAR