BEGIN:VCALENDAR
VERSION:2.0
PRODID:-//NEWIEE - ECPv6.15.15//NONSGML v1.0//EN
CALSCALE:GREGORIAN
METHOD:PUBLISH
X-WR-CALNAME:NEWIEE
X-ORIGINAL-URL:https://newiee.org
X-WR-CALDESC:Events for NEWIEE
REFRESH-INTERVAL;VALUE=DURATION:PT1H
X-Robots-Tag:noindex
X-PUBLISHED-TTL:PT1H
BEGIN:VTIMEZONE
TZID:America/New_York
BEGIN:DAYLIGHT
TZOFFSETFROM:-0500
TZOFFSETTO:-0400
TZNAME:EDT
DTSTART:20250309T070000
END:DAYLIGHT
BEGIN:STANDARD
TZOFFSETFROM:-0400
TZOFFSETTO:-0500
TZNAME:EST
DTSTART:20251102T060000
END:STANDARD
BEGIN:DAYLIGHT
TZOFFSETFROM:-0500
TZOFFSETTO:-0400
TZNAME:EDT
DTSTART:20260308T070000
END:DAYLIGHT
BEGIN:STANDARD
TZOFFSETFROM:-0400
TZOFFSETTO:-0500
TZNAME:EST
DTSTART:20261101T060000
END:STANDARD
BEGIN:DAYLIGHT
TZOFFSETFROM:-0500
TZOFFSETTO:-0400
TZNAME:EDT
DTSTART:20270314T070000
END:DAYLIGHT
BEGIN:STANDARD
TZOFFSETFROM:-0400
TZOFFSETTO:-0500
TZNAME:EST
DTSTART:20271107T060000
END:STANDARD
END:VTIMEZONE
BEGIN:VEVENT
DTSTART;TZID=America/New_York:20260218T173000
DTEND;TZID=America/New_York:20260218T200000
DTSTAMP:20260422T075159
CREATED:20260126T020328Z
LAST-MODIFIED:20260126T020328Z
UID:26563-1771435800-1771444800@newiee.org
SUMMARY:CPES: 2026 Annual Legislative Preview
DESCRIPTION:Registration is now open for the 2026 Annual Legislative Preview on Wednesday\, February 18! Join CPES to explore legislative priorities for Connecticut’s 2026 Legislative Session with CPES partners at the CT Bar Association‘s Energy\, Public Utility & Communications Law Section; UConn Law’s Center for Energy & Environmental Law; and the Connecticut Business & Industry Association (CBIA). \nFeatured Speakers:\n– Representative Jonathan Steinberg\n– Representative Tracy Marra\n– Senator Ryan Fazio\n– (Moderator) CT PURA Commissioner Holly Cheeseman\n*Senator Needleman has been invited \n1.0 CLE credit requested. \nClick here to view the current attendee list.
URL:https://newiee.org/event/cpes-2026-annual-legislative-preview/
LOCATION:UConn Law School\, 55 Elizabeth Street\, Hartford\, CT\, 06105\, United States
CATEGORIES:Friends of NEWIEE
END:VEVENT
END:VCALENDAR