BEGIN:VCALENDAR
VERSION:2.0
PRODID:-//NEWIEE - ECPv6.15.15//NONSGML v1.0//EN
CALSCALE:GREGORIAN
METHOD:PUBLISH
X-ORIGINAL-URL:https://newiee.org
X-WR-CALDESC:Events for NEWIEE
REFRESH-INTERVAL;VALUE=DURATION:PT1H
X-Robots-Tag:noindex
X-PUBLISHED-TTL:PT1H
BEGIN:VTIMEZONE
TZID:America/New_York
BEGIN:DAYLIGHT
TZOFFSETFROM:-0500
TZOFFSETTO:-0400
TZNAME:EDT
DTSTART:20240310T070000
END:DAYLIGHT
BEGIN:STANDARD
TZOFFSETFROM:-0400
TZOFFSETTO:-0500
TZNAME:EST
DTSTART:20241103T060000
END:STANDARD
BEGIN:DAYLIGHT
TZOFFSETFROM:-0500
TZOFFSETTO:-0400
TZNAME:EDT
DTSTART:20250309T070000
END:DAYLIGHT
BEGIN:STANDARD
TZOFFSETFROM:-0400
TZOFFSETTO:-0500
TZNAME:EST
DTSTART:20251102T060000
END:STANDARD
BEGIN:DAYLIGHT
TZOFFSETFROM:-0500
TZOFFSETTO:-0400
TZNAME:EDT
DTSTART:20260308T070000
END:DAYLIGHT
BEGIN:STANDARD
TZOFFSETFROM:-0400
TZOFFSETTO:-0500
TZNAME:EST
DTSTART:20261101T060000
END:STANDARD
END:VTIMEZONE
BEGIN:VEVENT
DTSTART;TZID=America/New_York:20250410T173000
DTEND;TZID=America/New_York:20250410T200000
DTSTAMP:20260425T090732
CREATED:20250402T173543Z
LAST-MODIFIED:20250402T173543Z
UID:25037-1744306200-1744315200@newiee.org
SUMMARY:Young Professionals April 2025 Happy Hour
DESCRIPTION:Please join NECA and YPE Boston on Thursday\, April 10\, to network at Hennessy’s of Boston\, located at 25 Union Street in Boston. The YP Happy Hour is a special chance to meet and create connections with professionals of similar experience across a variety of energy sector areas. We will also be joined by some seasoned professionals who are great resources for your career path. \nRegistration is $10. The cost includes appetizers; drinks are on a cash bar basis.  \nSEE WHO’S COMING! \nIf you would like to learn more about the Happy Hour or the NECA Young Professionals Committee\, please reach out to Joe Liebert and Andrew Bracken.
URL:https://newiee.org/event/young-professionals-april-2025-happy-hour/
LOCATION:Hennesey’s\, 25 Union St\, Boston\, MA\, 02108\, United States
CATEGORIES:Friends of NEWIEE
END:VEVENT
END:VCALENDAR