BEGIN:VCALENDAR
VERSION:2.0
PRODID:-//NEWIEE - ECPv6.15.15//NONSGML v1.0//EN
CALSCALE:GREGORIAN
METHOD:PUBLISH
X-WR-CALNAME:NEWIEE
X-ORIGINAL-URL:https://newiee.org
X-WR-CALDESC:Events for NEWIEE
REFRESH-INTERVAL;VALUE=DURATION:PT1H
X-Robots-Tag:noindex
X-PUBLISHED-TTL:PT1H
BEGIN:VTIMEZONE
TZID:America/New_York
BEGIN:DAYLIGHT
TZOFFSETFROM:-0500
TZOFFSETTO:-0400
TZNAME:EDT
DTSTART:20240310T070000
END:DAYLIGHT
BEGIN:STANDARD
TZOFFSETFROM:-0400
TZOFFSETTO:-0500
TZNAME:EST
DTSTART:20241103T060000
END:STANDARD
BEGIN:DAYLIGHT
TZOFFSETFROM:-0500
TZOFFSETTO:-0400
TZNAME:EDT
DTSTART:20250309T070000
END:DAYLIGHT
BEGIN:STANDARD
TZOFFSETFROM:-0400
TZOFFSETTO:-0500
TZNAME:EST
DTSTART:20251102T060000
END:STANDARD
BEGIN:DAYLIGHT
TZOFFSETFROM:-0500
TZOFFSETTO:-0400
TZNAME:EDT
DTSTART:20260308T070000
END:DAYLIGHT
BEGIN:STANDARD
TZOFFSETFROM:-0400
TZOFFSETTO:-0500
TZNAME:EST
DTSTART:20261101T060000
END:STANDARD
END:VTIMEZONE
BEGIN:VEVENT
DTSTART;TZID=America/New_York:20250803T160000
DTEND;TZID=America/New_York:20250803T173000
DTSTAMP:20260423T162254
CREATED:20250714T153445Z
LAST-MODIFIED:20250714T153445Z
UID:25422-1754236800-1754242200@newiee.org
SUMMARY:Women's Energy Network Boston Chapter: First Sundays August WEN Meet Up
DESCRIPTION:Join WEN Members for Informal Meet Ups the first Sunday of the Month \nWomen’s Energy Network Boston Chapter is excited to invite you to casual Meet Ups in Cambridge MA at the Locke Bar. These Meet Ups are a chance to meet new colleagues in the WEN network and strengthen professional ties. The August Meet Up will be Sunday\, August 3. \nPlease note that this event is self-funded. The main objective is to connect\, share ideas\, and have a great time together.
URL:https://newiee.org/event/womens-energy-network-boston-chapter-first-sundays-august-wen-meet-up/
LOCATION:The Locke Bar\, 6 Broad Canal Way\, Cambridge\, MA\, 02142\, United States
CATEGORIES:Friends of NEWIEE
ORGANIZER;CN="Women's Energy Network (WEN)%2C Boston":MAILTO:info@womensenergynetwork.org
END:VEVENT
END:VCALENDAR