BEGIN:VCALENDAR
VERSION:2.0
PRODID:-//NEWIEE - ECPv6.15.15//NONSGML v1.0//EN
CALSCALE:GREGORIAN
METHOD:PUBLISH
X-ORIGINAL-URL:https://newiee.org
X-WR-CALDESC:Events for NEWIEE
REFRESH-INTERVAL;VALUE=DURATION:PT1H
X-Robots-Tag:noindex
X-PUBLISHED-TTL:PT1H
BEGIN:VTIMEZONE
TZID:America/New_York
BEGIN:DAYLIGHT
TZOFFSETFROM:-0500
TZOFFSETTO:-0400
TZNAME:EDT
DTSTART:20240310T070000
END:DAYLIGHT
BEGIN:STANDARD
TZOFFSETFROM:-0400
TZOFFSETTO:-0500
TZNAME:EST
DTSTART:20241103T060000
END:STANDARD
BEGIN:DAYLIGHT
TZOFFSETFROM:-0500
TZOFFSETTO:-0400
TZNAME:EDT
DTSTART:20250309T070000
END:DAYLIGHT
BEGIN:STANDARD
TZOFFSETFROM:-0400
TZOFFSETTO:-0500
TZNAME:EST
DTSTART:20251102T060000
END:STANDARD
BEGIN:DAYLIGHT
TZOFFSETFROM:-0500
TZOFFSETTO:-0400
TZNAME:EDT
DTSTART:20260308T070000
END:DAYLIGHT
BEGIN:STANDARD
TZOFFSETFROM:-0400
TZOFFSETTO:-0500
TZNAME:EST
DTSTART:20261101T060000
END:STANDARD
END:VTIMEZONE
BEGIN:VEVENT
DTSTART;TZID=America/New_York:20251005T160000
DTEND;TZID=America/New_York:20251005T173000
DTSTAMP:20260421T193532
CREATED:20250915T124236Z
LAST-MODIFIED:20250915T124236Z
UID:25799-1759680000-1759685400@newiee.org
SUMMARY:Women's Energy Network Boston Chapter: First Sundays October WEN Meet Up
DESCRIPTION:Join WEN Members for Informal Meet Ups the first Sunday of the Month \nWEN is excited to invite you to the October WEN Meet Up in Cambridge\, MA at the Locke Bar. These Meet Ups are a chance to meet new colleagues in the WEN network and strengthen professional ties. Our October Meet Up will be October 5. \nDate: Sunday\, October 5 \nTime: 4 to 5:30 pm \nLocation: Locke Bar\, 6 Broad Canal Way\, Cambridge\, MA 02142 \nCost: No cost to join (food and drink not covered) \nPlease note that this event is self-funded. The main objective is to connect\, share ideas\, and have a great time together. \nWe look forward to seeing you there!
URL:https://newiee.org/event/womens-energy-network-boston-chapter-first-sundays-october-wen-meet-up/
LOCATION:The Locke Bar\, 6 Broad Canal Way\, Cambridge\, MA\, 02142\, United States
CATEGORIES:Friends of NEWIEE
ORGANIZER;CN="Women's Energy Network (WEN)%2C Boston":MAILTO:info@womensenergynetwork.org
END:VEVENT
BEGIN:VEVENT
DTSTART;TZID=America/New_York:20251007T090000
DTEND;TZID=America/New_York:20251008T170000
DTSTAMP:20260421T193532
CREATED:20250915T125555Z
LAST-MODIFIED:20250915T125555Z
UID:25803-1759827600-1759942800@newiee.org
SUMMARY:MassCEC: American Clean Power (ACP) Offshore Wind Power
DESCRIPTION:MassCEC has partnered with American Clean Power to host a two-day conference and exhibition dedicated to growing and connecting the community of offshore wind experts. \nAs offshore wind becomes increasingly essential\, collaboration plays a key role in innovation. At this event\, 75+ speakers and 100 + exhibitors will share their expertise for the benefit of clean energy stakeholders in Massachusetts. \nThe event starts Tuesday 10/7 and ends Wednesday 10/8. \nRegister here
URL:https://newiee.org/event/masscec-american-clean-power-acp-offshore-wind-power/
LOCATION:Hynes Convention Center\, 900 Boylston St\, Boston\, MA\, 02115\, United States
CATEGORIES:Friends of NEWIEE
END:VEVENT
BEGIN:VEVENT
DTSTART;TZID=America/New_York:20251016T090000
DTEND;TZID=America/New_York:20251016T170000
DTSTAMP:20260421T193532
CREATED:20250915T130923Z
LAST-MODIFIED:20250915T130923Z
UID:25805-1760605200-1760634000@newiee.org
SUMMARY:NESEA: BuildingEnergy NYC 2025
DESCRIPTION:NESEA’s BuildingEnergy NYC conference and trade show is a chance to immerse yourself in a full day of networking and intensive learning with your peers from the fields of design\, construction\, engineering\, policy\, finance\, and beyond. This unique event is designed by and for our community of practitioners\, ensuring that the content is useful\, relevant\, and on the leading edge. Conference sessions present best practices and lessons learned based on real case studies and proven data\, as well as showcasing innovative technologies and programs. If you are a building sustainability professional in any stage of your career\, please join us on Thursday\, October 16 at Convene 237 Park Avenue in New York City! \nConference Theme: Action and Adaptation\nThe NESEA community has always been a force for courageous\, innovative change. The climate movement in the United States is at a pivotal moment this year\, with federal government actions likely to slow or even reverse progress toward established targets. At the same time\, we are facing the rising frequency and severity of extreme weather events—uprooting people’s lives and costing billions of dollars annually. In this new climate reality and complex policy environment\, it is more important than ever for us to find creative ways to adapt and move forward with confidence\, and to design buildings that will continue to perform at the highest level while withstanding these changing conditions. \nThe 2025 BuildingEnergy NYC conference will focus on how those of us in the building industries can continue to take effective action by incorporating resilience\, adaptation\, and mitigation strategies towards large-scale climate goals\, while navigating an environment where regulatory and funding structures are unpredictable. We all must think critically and innovatively about the approaches that are feasible to continue driving impact in an uncertain national landscape\, as well as how design and policy considerations themselves can look toward the future and center climate adaptation. \nWho Attends\nBuildingEnergy NYC attendees are leaders and emerging professionals from across the Northeast\, committed to developing a more sustainable\, healthy\, and resilient built environment. They represent a wide range of industries\, backgrounds\, and levels of experience.
URL:https://newiee.org/event/nesea-buildingenergy-nyc-2025/
LOCATION:Convene 237 Park Avenue\, 237 Park Avenue\, New York City\, NY
CATEGORIES:Friends of NEWIEE
END:VEVENT
BEGIN:VEVENT
DTSTART;TZID=America/New_York:20251022T170000
DTEND;TZID=America/New_York:20251022T190000
DTSTAMP:20260421T193532
CREATED:20251006T171452Z
LAST-MODIFIED:20251006T171452Z
UID:25945-1761152400-1761159600@newiee.org
SUMMARY:Women's Energy Network Boston Chapter: Power up your Personal Brand on LinkedIn
DESCRIPTION:Personal branding expert\, Alvaro Bendrell\, will guide you through hands-on exercises to help you build a strong personal brand on LinkedIn from the ground up. \nDate: Wednesday\, October 22\, 2025 \nTime: 5 pm – 7 pm EST \nLocation: Avangrid’s Office (125\, High Street\, Floor 6\, Boston\, MA\, 02110) \nCost: Free for WEN Members\, $30 for Non-Members \nAt this workshop event\, you’ll learn how to: \n\nDevelop a Personal Brand Strategy: Discover your unique value proposition and establish a powerful brand identity.\nOptimize Your LinkedIn Profile: Showcase your best\, authentic self on LinkedIn and attract the right audience.\nCreate Engaging Content: Turn your experiences and expertise into compelling content that resonates—without consuming all your time.\nElevate Your Networking: Leverage LinkedIn to build meaningful connections and advance your career.\n\nBy the end of this program\, you’ll have the tools and knowledge to: consistently share your story on LinkedIn\, position yourself as a thought leader\, and use your personal brand to achieve your goals. \nJoin us in person for this interactive event\, building on WEN’s workshops from January and March. While a virtual option is available\, we strongly encourage in-person participation to maximize the experience. This is the third and final event in our series. Participants can attend one\, two\, or all three events.
URL:https://newiee.org/event/womens-energy-network-boston-chapter-power-up-your-personal-brand-on-linkedin/
LOCATION:Avangrid (Boston Office)\, 125 High Street\, 6th Floor\, Boston\, MA\, 02110\, United States
CATEGORIES:Friends of NEWIEE
ORGANIZER;CN="Women's Energy Network (WEN)%2C Boston":MAILTO:info@womensenergynetwork.org
END:VEVENT
BEGIN:VEVENT
DTSTART;TZID=America/New_York:20251030T153000
DTEND;TZID=America/New_York:20251030T190000
DTSTAMP:20260421T193532
CREATED:20251010T142153Z
LAST-MODIFIED:20251010T142153Z
UID:25966-1761838200-1761850800@newiee.org
SUMMARY:NEWEA: Poo & Brew Networking
DESCRIPTION:Join young professionals in the water quality industry!\nThe New Bedford Wastewater Treatment Facility is a 30-acre activated sludge facility with biological secondary treatment\, located at the southernmost point of the New Bedford South End Peninsula. The facility is adjacent to the Municipal Fort Tabor Park and is located at 1000 South Rodney French Blvd. The facility includes rag and grit removal\, primary treatment\, secondary biological treatment\, and disinfection by chlorination and dechlorination. It is designed to treat an average daily flow of 30 MGD\, with a peak hydraulic design flow of 75 MGD. The facility disposes of approximately 6\,000 dry tons of biosolids annually. The tour will be followed by a networking event at Cisco Brewers New Bedford. The brewery is less than 5 minutes from the New Bedford Wastewater Treatment Facility and offers great variety of amazing beers and food. It also offers two patios and a roof top bar. Tour Requirement: We would ask that all participants wear close toed shoes for the tour of the facility. Hard hats and safety glasses will be provided onsite. \nREGISTER
URL:https://newiee.org/event/newea-poo-brew-networking/
LOCATION:New Bedford Wastewater Treatment Facility\, 1000 South Rodney French Blvd\, New Bedford\, 02744\, United States
CATEGORIES:Friends of NEWIEE
ORGANIZER;CN="NEWEA":MAILTO:mail@newea.org
END:VEVENT
END:VCALENDAR