BEGIN:VCALENDAR
VERSION:2.0
PRODID:-//NEWIEE - ECPv6.15.15//NONSGML v1.0//EN
CALSCALE:GREGORIAN
METHOD:PUBLISH
X-ORIGINAL-URL:https://newiee.org
X-WR-CALDESC:Events for NEWIEE
REFRESH-INTERVAL;VALUE=DURATION:PT1H
X-Robots-Tag:noindex
X-PUBLISHED-TTL:PT1H
BEGIN:VTIMEZONE
TZID:America/New_York
BEGIN:DAYLIGHT
TZOFFSETFROM:-0500
TZOFFSETTO:-0400
TZNAME:EDT
DTSTART:20220313T070000
END:DAYLIGHT
BEGIN:STANDARD
TZOFFSETFROM:-0400
TZOFFSETTO:-0500
TZNAME:EST
DTSTART:20221106T060000
END:STANDARD
BEGIN:DAYLIGHT
TZOFFSETFROM:-0500
TZOFFSETTO:-0400
TZNAME:EDT
DTSTART:20230312T070000
END:DAYLIGHT
BEGIN:STANDARD
TZOFFSETFROM:-0400
TZOFFSETTO:-0500
TZNAME:EST
DTSTART:20231105T060000
END:STANDARD
BEGIN:DAYLIGHT
TZOFFSETFROM:-0500
TZOFFSETTO:-0400
TZNAME:EDT
DTSTART:20240310T070000
END:DAYLIGHT
BEGIN:STANDARD
TZOFFSETFROM:-0400
TZOFFSETTO:-0500
TZNAME:EST
DTSTART:20241103T060000
END:STANDARD
END:VTIMEZONE
BEGIN:VEVENT
DTSTART;TZID=America/New_York:20230518T160000
DTEND;TZID=America/New_York:20230518T183000
DTSTAMP:20260425T071928
CREATED:20230403T153407Z
LAST-MODIFIED:20230403T153407Z
UID:20883-1684425600-1684434600@newiee.org
SUMMARY:CPES's Fuel Cell Energy Tour
DESCRIPTION:Join the New Energy Professionals of CPES for an overview and tour of FuelCell Energy’s manufacturing facility in Torrington on Thursday\, May 18th from 4:00 – 6:30 pm. FuelCell is a Connecticut-based company on the cutting edge of decarbonization power and producing hydrogen for a clean energy future by developing innovative\, fuel cell\, electrolyzer\, and carbon capture technologies. The overview will be presented by Anthony Leo\, Chief Technology Officer\, and Michael Lisowski\, Chief Operating Officer who will explain the technical aspect of fuel cells and how they are produced at scale. A tour of FuelCell’s manufacturing facility will follow immediately afterward to see the infrastructure responsible for turning a fuel cell from an idea into a reality. Participants will gather at Brewery Legitimus in New Hartford\, CT afterward for networking and socializing.
URL:https://newiee.org/event/cpess-fuel-cell-energy-tour/
LOCATION:Fuel Cell Energy\, 539 Technology Park Dr\, Torrington\, CT\, 06790
CATEGORIES:Friends of NEWIEE
END:VEVENT
END:VCALENDAR