BEGIN:VCALENDAR
VERSION:2.0
PRODID:-//NEWIEE - ECPv6.15.15//NONSGML v1.0//EN
CALSCALE:GREGORIAN
METHOD:PUBLISH
X-WR-CALNAME:NEWIEE
X-ORIGINAL-URL:https://newiee.org
X-WR-CALDESC:Events for NEWIEE
REFRESH-INTERVAL;VALUE=DURATION:PT1H
X-Robots-Tag:noindex
X-PUBLISHED-TTL:PT1H
BEGIN:VTIMEZONE
TZID:America/New_York
BEGIN:DAYLIGHT
TZOFFSETFROM:-0500
TZOFFSETTO:-0400
TZNAME:EDT
DTSTART:20250309T070000
END:DAYLIGHT
BEGIN:STANDARD
TZOFFSETFROM:-0400
TZOFFSETTO:-0500
TZNAME:EST
DTSTART:20251102T060000
END:STANDARD
BEGIN:DAYLIGHT
TZOFFSETFROM:-0500
TZOFFSETTO:-0400
TZNAME:EDT
DTSTART:20260308T070000
END:DAYLIGHT
BEGIN:STANDARD
TZOFFSETFROM:-0400
TZOFFSETTO:-0500
TZNAME:EST
DTSTART:20261101T060000
END:STANDARD
BEGIN:DAYLIGHT
TZOFFSETFROM:-0500
TZOFFSETTO:-0400
TZNAME:EDT
DTSTART:20270314T070000
END:DAYLIGHT
BEGIN:STANDARD
TZOFFSETFROM:-0400
TZOFFSETTO:-0500
TZNAME:EST
DTSTART:20271107T060000
END:STANDARD
END:VTIMEZONE
BEGIN:VEVENT
DTSTART;TZID=America/New_York:20260506T090000
DTEND;TZID=America/New_York:20260506T110000
DTSTAMP:20260420T143814
CREATED:20260416T181320Z
LAST-MODIFIED:20260416T181320Z
UID:27147-1778058000-1778065200@newiee.org
SUMMARY:Clean Energy NH: Rise & Connect: A Women's Networking Breakfast
DESCRIPTION:The energy transition is being shaped by remarkable women across New Hampshire – and this is your space to find them. \n\n\n\nThere is something powerful about being in a room full of women who get it. \nJoin Clean Energy NH on the morning of Wednesday\, May 6 for our inaugural Women’s Networking Breakfast at the Bedford Village Inn in Bedford\, NH – a first-of-its-kind gathering hosted during NH Energy Week. \nFrom 9:00a to 11:00a\, Clean Energy NH is creating an open\, relaxed (lightly facilitated) space for women working across the energy and environment sector in New Hampshire to come together over coffee/tea and a warm breakfast. Join Clean Energy NH for meaningful conversation\, new connections\, and the kind of energy that comes from being in a (comfortable) room where you belong. \nWhether you’re a seasoned leader\, an emerging professional\, or somewhere in between – this morning is for you. Come as you are\, bring a colleague\, and leave with a fuller network and a fuller plate. \nPlease note: This event is designed as a participant-driven ‘open space’ for women to connect\, share experiences\, and shape conversations around what matters most to them. Clean Energy NH is intentionally creating a supportive environment centered on women’s voices and perspectives.
URL:https://newiee.org/event/clean-energy-nh-rise-connect-a-womens-networking-breakfast/
LOCATION:Bedford Village Inn & Restaurant\, 2 Olde Bedford Way\, Bedford\, NH\, 03110\, United States
CATEGORIES:Friends of NEWIEE
END:VEVENT
END:VCALENDAR