BEGIN:VCALENDAR
VERSION:2.0
PRODID:-//NEWIEE - ECPv6.15.15//NONSGML v1.0//EN
CALSCALE:GREGORIAN
METHOD:PUBLISH
X-WR-CALNAME:NEWIEE
X-ORIGINAL-URL:https://newiee.org
X-WR-CALDESC:Events for NEWIEE
REFRESH-INTERVAL;VALUE=DURATION:PT1H
X-Robots-Tag:noindex
X-PUBLISHED-TTL:PT1H
BEGIN:VTIMEZONE
TZID:America/New_York
BEGIN:DAYLIGHT
TZOFFSETFROM:-0500
TZOFFSETTO:-0400
TZNAME:EDT
DTSTART:20250309T070000
END:DAYLIGHT
BEGIN:STANDARD
TZOFFSETFROM:-0400
TZOFFSETTO:-0500
TZNAME:EST
DTSTART:20251102T060000
END:STANDARD
BEGIN:DAYLIGHT
TZOFFSETFROM:-0500
TZOFFSETTO:-0400
TZNAME:EDT
DTSTART:20260308T070000
END:DAYLIGHT
BEGIN:STANDARD
TZOFFSETFROM:-0400
TZOFFSETTO:-0500
TZNAME:EST
DTSTART:20261101T060000
END:STANDARD
BEGIN:DAYLIGHT
TZOFFSETFROM:-0500
TZOFFSETTO:-0400
TZNAME:EDT
DTSTART:20270314T070000
END:DAYLIGHT
BEGIN:STANDARD
TZOFFSETFROM:-0400
TZOFFSETTO:-0500
TZNAME:EST
DTSTART:20271107T060000
END:STANDARD
END:VTIMEZONE
BEGIN:VEVENT
DTSTART;TZID=America/New_York:20260514T190000
DTEND;TZID=America/New_York:20260514T190000
DTSTAMP:20260423T043337
CREATED:20260416T180900Z
LAST-MODIFIED:20260416T180900Z
UID:27163-1778785200-1778785200@newiee.org
SUMMARY:New England Forestry Foundation: Women of Carbon Documentary Viewing & Panel Discussion
DESCRIPTION:Join New England Forestry Foundation (NEFF) for a viewing of the groundbreaking documentary “Women of Carbon” about women transforming construction while combating climate change\, followed by an engaging panel discussion. The event will be hosted by Patagonia at their Cambridge location. \nVisionary women are on a quest to inspire change for a sustainable planet. Their innovative work places them at the core of decarbonization\, human health\, and economic opportunity. Directed by Basia and Leonard Myszynski\, “Women of Carbon” shares their empowering journeys and collective vision for a better world.
URL:https://newiee.org/event/new-england-forestry-foundation-women-of-carbon-documentary-viewing-panel-discussion/
LOCATION:Patagonia\, 39 Brattle Street\, Cambridge\, MA\, 02138\, United States
CATEGORIES:Friends of NEWIEE
END:VEVENT
END:VCALENDAR