BEGIN:VCALENDAR
VERSION:2.0
PRODID:-//NEWIEE - ECPv6.15.15//NONSGML v1.0//EN
CALSCALE:GREGORIAN
METHOD:PUBLISH
X-ORIGINAL-URL:https://newiee.org
X-WR-CALDESC:Events for NEWIEE
REFRESH-INTERVAL;VALUE=DURATION:PT1H
X-Robots-Tag:noindex
X-PUBLISHED-TTL:PT1H
BEGIN:VTIMEZONE
TZID:America/New_York
BEGIN:DAYLIGHT
TZOFFSETFROM:-0500
TZOFFSETTO:-0400
TZNAME:EDT
DTSTART:20210314T070000
END:DAYLIGHT
BEGIN:STANDARD
TZOFFSETFROM:-0400
TZOFFSETTO:-0500
TZNAME:EST
DTSTART:20211107T060000
END:STANDARD
BEGIN:DAYLIGHT
TZOFFSETFROM:-0500
TZOFFSETTO:-0400
TZNAME:EDT
DTSTART:20220313T070000
END:DAYLIGHT
BEGIN:STANDARD
TZOFFSETFROM:-0400
TZOFFSETTO:-0500
TZNAME:EST
DTSTART:20221106T060000
END:STANDARD
BEGIN:DAYLIGHT
TZOFFSETFROM:-0500
TZOFFSETTO:-0400
TZNAME:EDT
DTSTART:20230312T070000
END:DAYLIGHT
BEGIN:STANDARD
TZOFFSETFROM:-0400
TZOFFSETTO:-0500
TZNAME:EST
DTSTART:20231105T060000
END:STANDARD
END:VTIMEZONE
BEGIN:VEVENT
DTSTART;TZID=America/New_York:20220210T120000
DTEND;TZID=America/New_York:20220210T130000
DTSTAMP:20260422T173212
CREATED:20220108T235502Z
LAST-MODIFIED:20220110T150433Z
UID:18603-1644494400-1644498000@newiee.org
SUMMARY:MEPA Update with Tori Kim\, MEPA Director
DESCRIPTION:[vc_row][vc_column][vc_column_text css=”.vc_custom_1641685455473{margin-bottom: 0px !important;}”]Amended Massachusetts Environmental Policy Act (MEPA) regulations were promulgated on December 24\, 2021\, to bring the regulations into alignment with state policy and planning efforts with regard to environmental justice\, climate adaptation and resiliency\, and greenhouse gas mitigation. MEPA has also issued an amended Environmental Notification Form\, an Interim Protocol on Climate Change Adaptation and Resiliency\, an Interim Protocol for Analysis of Project Impact on Environmental Justice Populations\, and a Public Involvement Protocol for Environmental Justice Populations. \nPlease join us to learn more about these changes in a presentation by Tori Kim\, Assistant Secretary / MEPA Director at the Executive Office of Energy and Environmental Affairs (EEA). You do not need to be a NEWIEE member to attend. Registration required. \n[/vc_column_text][vc_empty_space height=”20px”][/vc_column][/vc_row][vc_row][vc_column][mk_button corner_style=”full_rounded” size=”medium” url=”https://www.eventbrite.com/e/massachusetts-environmental-policy-act-mepa-update-with-tori-kim-tickets-239983656577?utm_source=eventbrite&utm_medium=email&utm_content=follow_notification&utm_campaign=following_published_event&utm_term=Massachusetts+Environmental+Policy+Act+%28MEPA%29+Update+with+Tori+Kim&aff=ebemoffollowpublishemail” target=”_blank” align=”center” button_custom_width=”369″]Register Here[/mk_button][vc_empty_space][/vc_column][/vc_row][vc_row disable_element=”yes”][vc_column][vc_single_image img_size=”full”][/vc_column][/vc_row][vc_row][vc_column][vc_column_text css=”.vc_custom_1641685740166{margin-bottom: 0px !important;}”]\nSpeaker\n[/vc_column_text][vc_empty_space height=”10px”][/vc_column][/vc_row][vc_row][vc_column width=”1/4″ offset=”vc_col-md-2 vc_col-sm-offset-0 vc_col-xs-offset-3 vc_col-xs-6″][vc_single_image image=”18604″ img_size=”170×170″ alignment=”center” style=”vc_box_shadow”][/vc_column][vc_column width=”3/4″ offset=”vc_col-md-10 vc_col-sm-offset-0 vc_col-xs-offset-2 vc_col-xs-8″][vc_column_text css=”.vc_custom_1641685635515{margin-bottom: 0px !important;}”]\nTori Kim\nAssistant Secretary/MEPA Director at the Executive Office of Energy and Environmental Affairs (EEA)[/vc_column_text][mk_toggle title=”Read Assistant Secretary Kim’s Bio” el_class=”bio-toggle”]\n\nTori Kim is Assistant Secretary and Director of the Massachusetts Environmental Policy Act Office within the Executive Office of Energy and Environmental Affairs (EEA). Tori previously served as EEA’s General Counsel for two and a half years. Before her time at EEA\, Tori worked for the Baker-Polito Administration as Deputy General Counsel in the Executive Office for Administration and Finance. Prior to her time in the Administration\, Tori served as Assistant Attorney General in the Massachusetts Attorney General’s Office and as Associate/Counsel in the Litigation Department at Wilmer Cutler Pickering Hale and Dorr in New York and Boston. \n\n\n\n\n\n\n[/mk_toggle][vc_empty_space height=”30px”][/vc_column][/vc_row]
URL:https://newiee.org/event/mepa-update-with-tori-kim-mepa-director/
LOCATION:CT
CATEGORIES:NEWIEE
ATTACH;FMTTYPE=image/png:https://newiee.org/wp-content/uploads/2022/01/newiee-mepa-update-2.10.22-website-1140-x-500-px-1.png
ORGANIZER;CN="NEWIEE":MAILTO:NEWIEE@NEWIEE.org
END:VEVENT
END:VCALENDAR