BEGIN:VCALENDAR
VERSION:2.0
PRODID:-//NEWIEE - ECPv6.15.15//NONSGML v1.0//EN
CALSCALE:GREGORIAN
METHOD:PUBLISH
X-ORIGINAL-URL:https://newiee.org
X-WR-CALDESC:Events for NEWIEE
REFRESH-INTERVAL;VALUE=DURATION:PT1H
X-Robots-Tag:noindex
X-PUBLISHED-TTL:PT1H
BEGIN:VTIMEZONE
TZID:America/New_York
BEGIN:DAYLIGHT
TZOFFSETFROM:-0500
TZOFFSETTO:-0400
TZNAME:EDT
DTSTART:20250309T070000
END:DAYLIGHT
BEGIN:STANDARD
TZOFFSETFROM:-0400
TZOFFSETTO:-0500
TZNAME:EST
DTSTART:20251102T060000
END:STANDARD
BEGIN:DAYLIGHT
TZOFFSETFROM:-0500
TZOFFSETTO:-0400
TZNAME:EDT
DTSTART:20260308T070000
END:DAYLIGHT
BEGIN:STANDARD
TZOFFSETFROM:-0400
TZOFFSETTO:-0500
TZNAME:EST
DTSTART:20261101T060000
END:STANDARD
BEGIN:DAYLIGHT
TZOFFSETFROM:-0500
TZOFFSETTO:-0400
TZNAME:EDT
DTSTART:20270314T070000
END:DAYLIGHT
BEGIN:STANDARD
TZOFFSETFROM:-0400
TZOFFSETTO:-0500
TZNAME:EST
DTSTART:20271107T060000
END:STANDARD
END:VTIMEZONE
BEGIN:VEVENT
DTSTART;TZID=America/New_York:20260330T170000
DTEND;TZID=America/New_York:20260330T203000
DTSTAMP:20260421T085112
CREATED:20260223T003825Z
LAST-MODIFIED:20260317T231012Z
UID:26735-1774890000-1774902600@newiee.org
SUMMARY:NEWIEE Chapter Week: Boston
DESCRIPTION:[vc_row][vc_column][vc_column_text css=”.vc_custom_1771807068861{margin-bottom: 0px !important;}”]Join NEWIEE’s Boston Chapter for a behind-the-scenes look at Boston Beer Company (home of Samuel Adams). We’ll kick off with a guided brewery tour\, followed by a conversation with the company’s sustainability manager. Cap the evening with a networking reception alongside fellow women leaders in energy and environment. \n5pm – 6pm – Brewery Tour \n6pm -8:30pm – Networking Reception and discussion with Boston Beer Company’s Sustainability Manager (Appetizers provided)[/vc_column_text][vc_empty_space][mk_button size=”medium” url=”https://newiee.app.neoncrm.com/nx/portal/neonevents/events?path=%2Fportal%2Fevents%2F37065″ target=”_blank” align=”center” button_custom_width=”300″]Register Here[/mk_button][vc_empty_space height=”50″][/vc_column][/vc_row][vc_row][vc_column width=”1/5″][vc_single_image image=”26762″ img_size=”medium” css=””][/vc_column][vc_column width=”4/5″][vc_column_text margin_bottom=”0″ css=”.vc_custom_1772410142292{margin-bottom: 0px !important;}”]Jill Westra\nSpeaker\nSenior Manager of Sustainability\nThe Boston Beer Company[/vc_column_text][vc_column_text css=”.vc_custom_1772382810784{margin-bottom: 0px !important;}”]Jill Westra is the Senior Manager of Sustainability at The Boston Beer Company\, which includes iconic American brands such as Samuel Adams\, Truly\, Dogfish Head\, Twisted Tea and Angry Orchard. An environmental scientist with a 20‑year career in environmental consulting and corporate sustainability management\, Jill specializes in creating and scaling corporate sustainability programs from the ground up. Her work focuses on water and energy efficiency\, waste reduction and developing reliable data systems that support operational decision-making. \nBased in the Kansas City metro area\, Jill is serving her second term as an elected board member of her local water utility. She also serves on the governing boards of two Midwestern non‑profit organizations\, Missouri River Relief and the Climate + Energy Project. In addition\, Jill is an active member of the Manufacturers Alliance\, where she sits on the Sustainability Council and participates in the Women in Manufacturing cohort. She is a frequent speaker at industry conferences such as CiderCon\, where she shares practical insights on integrating environmental sustainability efforts into business operations. \nOutside of her professional work\, Jill volunteers with a retired racing greyhound rescue and plays music in multiple local bands. Originally from Missouri\, she has lived and worked in five countries since leaving home and enjoys international travel\, eventually returning to the United States with her daughter in 2016.[/vc_column_text][/vc_column][/vc_row]
URL:https://newiee.org/event/newiee-chapter-week-boston/
LOCATION:Samuel Adams Boston Brewery\, 31 Germania St\, Boston\, 02130\, United States
CATEGORIES:New Hampshire Chapter,NEWIEE
ATTACH;FMTTYPE=image/png:https://newiee.org/wp-content/uploads/2026/02/spring-2026-chapter-week-boston-website.png
ORGANIZER;CN="NEWIEE":MAILTO:NEWIEE@NEWIEE.org
END:VEVENT
BEGIN:VEVENT
DTSTART;TZID=America/New_York:20260331T170000
DTEND;TZID=America/New_York:20260331T190000
DTSTAMP:20260421T085112
CREATED:20260207T055815Z
LAST-MODIFIED:20260223T211246Z
UID:26644-1774976400-1774983600@newiee.org
SUMMARY:NEWIEE Chapter Week: New Hampshire
DESCRIPTION:[vc_row][vc_column][vc_column_text css=”.vc_custom_1770698397260{margin-bottom: 0px !important;}”]Join us for a dynamic panel discussion and networking event exploring the vital role attorneys play in advancing renewable energy\, navigating complex regulatory landscapes\, and supporting responsible environmental stewardship. Featuring Sherry Young and Kat Hedges of Rath\, Young & Pignatelli\, this conversation will highlight how lawyers collaborate with businesses\, communities\, and government entities to move energy projects forward\, ensure regulatory compliance\, and thoughtfully balance development with environmental responsibility. \nThe evening will also include an opportunity to connect directly with the speakers\, exchange ideas with peers\, and continue the conversation about the evolving future of energy and environmental leadership.[/vc_column_text][vc_empty_space][mk_button size=”medium” url=”https://newiee.app.neoncrm.com/nx/portal/neonevents/events?path=%2Fportal%2Fevents%2F35585″ target=”_blank” align=”center” button_custom_width=”300″]Register Here[/mk_button][vc_empty_space height=”50″][/vc_column][/vc_row][vc_row][vc_column][vc_column_text css=”.vc_custom_1770698660931{margin-bottom: 0px !important;}”]\nModerator and Speakers\n[/vc_column_text][vc_empty_space][/vc_column][/vc_row][vc_row][vc_column width=”1/6″][vc_single_image image=”26672″ css=””][vc_empty_space][/vc_column][vc_column width=”5/6″][vc_column_text css=”.vc_custom_1770699984045{margin-bottom: 0px !important;}”]Sherilyn Burnett Young \nSherry Young\, Attorney\, is a founder\, shareholder\, and past President of the law firm of Rath\, Young and Pignatelli\, P.C. A member of the Energy and Utilities Practice Group and head of the firm’s Environmental Practice Group\, she assists clients on federal and state environmental matters\, real estate transactions\, and business and finance transactions.[/vc_column_text][vc_empty_space][/vc_column][/vc_row][vc_row][vc_column width=”1/6″][vc_single_image image=”26664″ css=””][vc_empty_space][/vc_column][vc_column width=”5/6″][vc_column_text css=”.vc_custom_1770700031482{margin-bottom: 0px !important;}”]Katherine Hedges \nKat Hedges\, Attorney and Shareholder at Rath\, Young and Pignatelli\, P.C.\, is a member of the Renewable/Alternative Energy and Utility Practice Group and the Business and Finance Practice Group. Her work primarily focuses on support of the firm’s renewable energy practice\, which includes representation in connection with solar\, wind\, hydroelectric\, battery energy storage systems\, and landfill natural gas projects.[/vc_column_text][/vc_column][/vc_row][vc_row][vc_column width=”1/6″][vc_single_image image=”26663″ css=””][vc_empty_space][/vc_column][vc_column width=”5/6″][vc_column_text css=”.vc_custom_1770700079385{margin-bottom: 0px !important;}”]Amy Manzelli \nAmy Manzelli\, Attorney and part-owner of BCM Environmental & Land Law\, PLLC\, practices energy\, environmental\, conservation\, and land law throughout Maine and New Hampshire.[/vc_column_text][/vc_column][/vc_row][vc_row][vc_column][vc_column_text css=”.vc_custom_1770700154721{margin-bottom: 0px !important;}”]Panel facilitator: Laurel Boivin[/vc_column_text][vc_empty_space][/vc_column][/vc_row]
URL:https://newiee.org/event/newiee-chapter-week-new-hampshire/
LOCATION:One Capital Plaza\, One Capital Plaza\, Concord\, 03301\, United States
CATEGORIES:New Hampshire Chapter,NEWIEE
ATTACH;FMTTYPE=image/png:https://newiee.org/wp-content/uploads/2026/02/spring-2026-chapter-week-nh-website.png
ORGANIZER;CN="NEWIEE":MAILTO:NEWIEE@NEWIEE.org
END:VEVENT
END:VCALENDAR