BEGIN:VCALENDAR
VERSION:2.0
PRODID:-//NEWIEE - ECPv6.15.15//NONSGML v1.0//EN
CALSCALE:GREGORIAN
METHOD:PUBLISH
X-ORIGINAL-URL:https://newiee.org
X-WR-CALDESC:Events for NEWIEE
REFRESH-INTERVAL;VALUE=DURATION:PT1H
X-Robots-Tag:noindex
X-PUBLISHED-TTL:PT1H
BEGIN:VTIMEZONE
TZID:America/New_York
BEGIN:DAYLIGHT
TZOFFSETFROM:-0500
TZOFFSETTO:-0400
TZNAME:EDT
DTSTART:20230312T070000
END:DAYLIGHT
BEGIN:STANDARD
TZOFFSETFROM:-0400
TZOFFSETTO:-0500
TZNAME:EST
DTSTART:20231105T060000
END:STANDARD
BEGIN:DAYLIGHT
TZOFFSETFROM:-0500
TZOFFSETTO:-0400
TZNAME:EDT
DTSTART:20240310T070000
END:DAYLIGHT
BEGIN:STANDARD
TZOFFSETFROM:-0400
TZOFFSETTO:-0500
TZNAME:EST
DTSTART:20241103T060000
END:STANDARD
BEGIN:DAYLIGHT
TZOFFSETFROM:-0500
TZOFFSETTO:-0400
TZNAME:EDT
DTSTART:20250309T070000
END:DAYLIGHT
BEGIN:STANDARD
TZOFFSETFROM:-0400
TZOFFSETTO:-0500
TZNAME:EST
DTSTART:20251102T060000
END:STANDARD
END:VTIMEZONE
BEGIN:VEVENT
DTSTART;VALUE=DATE:20240924
DTEND;VALUE=DATE:20240925
DTSTAMP:20260423T143245
CREATED:20240730T202253Z
LAST-MODIFIED:20240730T202253Z
UID:23638-1727136000-1727222399@newiee.org
SUMMARY:AFLOAT Technical Summit
DESCRIPTION:Among the most-established conferences dedicated to floating offshore wind in the United States\, AFloat stands at the forefront of the nation’s ambitious goal to deploy 15 GW of floating offshore wind capacity by 2035. Our mission is to unite stakeholders from all corners in a collective effort to advance floating offshore wind across the nation and the world. Through problem-solving\, barrier removal\, risk mitigation\, and the formation of meaningful partnerships\, AFloat addresses technical\, regulatory\, and permitting challenges that must be addressed.
URL:https://newiee.org/event/afloat-technical-summit/2024-09-24/
LOCATION:Holiday Inn\, 88 Spring St\, Portland\, ME\, 04101\, United States
CATEGORIES:Friends of NEWIEE
ORGANIZER;CN="National Offshore Wind Research and Development Consortium (NOWRDC)":MAILTO:general@nationaloffshorewind.org
END:VEVENT
BEGIN:VEVENT
DTSTART;TZID=America/New_York:20240924T083000
DTEND;TZID=America/New_York:20240924T163000
DTSTAMP:20260423T143245
CREATED:20240826T155542Z
LAST-MODIFIED:20240826T155542Z
UID:23729-1727166600-1727195400@newiee.org
SUMMARY:2024 Fuels Conference
DESCRIPTION:WHEN: Tuesday\, September 24 from 8:30 am to 4:30 pm\nWHERE: Federal Reserve Bank Building\, 600 Atlantic Avenue\, Boston\, MA \nJoin us for NECA’s Annual Fuels Conference\, an event dedicated to exploring the future of natural gas\, the commercialization of fossil fuel alternatives\, and the evolving landscape of low carbon fuel standard (LCFS) markets. This conference brings together industry leaders\, policymakers\, researchers\, and innovators to discuss the critical developments shaping the future of energy. Through insightful presentations\, panel discussions\, and networking opportunities\, we aim to explore sustainable pathways\, cutting-edge technologies\, and regulatory frameworks essential for advancing the transition towards a cleaner and more sustainable energy future.
URL:https://newiee.org/event/2024-fuels-conference/
LOCATION:Federal Reserve Bank of Boston\, 600 Atlantic Ave\, Boston\, MA\, 02210\, United States
CATEGORIES:Friends of NEWIEE
END:VEVENT
BEGIN:VEVENT
DTSTART;VALUE=DATE:20240925
DTEND;VALUE=DATE:20240926
DTSTAMP:20260423T143245
CREATED:20240730T202253Z
LAST-MODIFIED:20240730T202253Z
UID:23640-1727222400-1727308799@newiee.org
SUMMARY:AFLOAT Technical Summit
DESCRIPTION:Among the most-established conferences dedicated to floating offshore wind in the United States\, AFloat stands at the forefront of the nation’s ambitious goal to deploy 15 GW of floating offshore wind capacity by 2035. Our mission is to unite stakeholders from all corners in a collective effort to advance floating offshore wind across the nation and the world. Through problem-solving\, barrier removal\, risk mitigation\, and the formation of meaningful partnerships\, AFloat addresses technical\, regulatory\, and permitting challenges that must be addressed.
URL:https://newiee.org/event/afloat-technical-summit/2024-09-25/
LOCATION:Holiday Inn\, 88 Spring St\, Portland\, ME\, 04101\, United States
CATEGORIES:Friends of NEWIEE
ORGANIZER;CN="National Offshore Wind Research and Development Consortium (NOWRDC)":MAILTO:general@nationaloffshorewind.org
END:VEVENT
END:VCALENDAR