BEGIN:VCALENDAR
VERSION:2.0
PRODID:-//NEWIEE - ECPv6.15.15//NONSGML v1.0//EN
CALSCALE:GREGORIAN
METHOD:PUBLISH
X-WR-CALNAME:NEWIEE
X-ORIGINAL-URL:https://newiee.org
X-WR-CALDESC:Events for NEWIEE
REFRESH-INTERVAL;VALUE=DURATION:PT1H
X-Robots-Tag:noindex
X-PUBLISHED-TTL:PT1H
BEGIN:VTIMEZONE
TZID:America/New_York
BEGIN:DAYLIGHT
TZOFFSETFROM:-0500
TZOFFSETTO:-0400
TZNAME:EDT
DTSTART:20220313T070000
END:DAYLIGHT
BEGIN:STANDARD
TZOFFSETFROM:-0400
TZOFFSETTO:-0500
TZNAME:EST
DTSTART:20221106T060000
END:STANDARD
BEGIN:DAYLIGHT
TZOFFSETFROM:-0500
TZOFFSETTO:-0400
TZNAME:EDT
DTSTART:20230312T070000
END:DAYLIGHT
BEGIN:STANDARD
TZOFFSETFROM:-0400
TZOFFSETTO:-0500
TZNAME:EST
DTSTART:20231105T060000
END:STANDARD
BEGIN:DAYLIGHT
TZOFFSETFROM:-0500
TZOFFSETTO:-0400
TZNAME:EDT
DTSTART:20240310T070000
END:DAYLIGHT
BEGIN:STANDARD
TZOFFSETFROM:-0400
TZOFFSETTO:-0500
TZNAME:EST
DTSTART:20241103T060000
END:STANDARD
END:VTIMEZONE
BEGIN:VEVENT
DTSTART;TZID=America/New_York:20230118T173000
DTEND;TZID=America/New_York:20230118T193000
DTSTAMP:20260425T181642
CREATED:20230116T125523Z
LAST-MODIFIED:20230116T125523Z
UID:20315-1674063000-1674070200@newiee.org
SUMMARY:WEST's  WoW - WEST on Wednesdays Networking
DESCRIPTION:Ready to get back to in-person networking? Join us for appetizers\, drinks\, and some fun networking with your fellow STEM professionals. This networking event is hosted by Suffolk University.
URL:https://newiee.org/event/wests-wow-west-on-wednesdays-networking/
LOCATION:730 Tavern\, Kitchen & Patio\, 730 Massachusetts Ave\, Cambridge\, Massachusetts\, 02139
CATEGORIES:Friends of NEWIEE
ORGANIZER;CN="Women in the Enterprise of Science & Techology (WEST)":MAILTO:info@WESTorg.org
END:VEVENT
BEGIN:VEVENT
DTSTART;TZID=America/New_York:20230119T083000
DTEND;TZID=America/New_York:20230119T170000
DTSTAMP:20260425T181642
CREATED:20221219T011713Z
LAST-MODIFIED:20221219T011713Z
UID:20193-1674117000-1674147600@newiee.org
SUMMARY:SEBANE - Photovoltaic Systems & 2023 National Electrical Code
DESCRIPTION:The Solar Energy Business Association of New England (SEBANE) welcomes all PV installers\, electrical and building inspectors to attend the most up-to-date training available on PV Systems and the 2023 National Electrical Code. \nJoin leading experts Bill Brooks\, Brooks Engineering\, Matt Piantedosi\, Ridgeline Energy Analytics\, and Jim Rogers\, Bay State Inspectional Agency for an informative one-day program that will include presentations and lively interactive panel discussions on: \n• 2023 National Electrical Code requirements for solar PV installations \n• Latest installation best-practices \n• Interconnection \n• Energy storage \n• And much more! \nAll attendees will receive a certificate of completion for 6 NABCEP CEUs and/or for MA licensed electrician professional development hours through Ridgeline Energy Analytics upon completion of the training.
URL:https://newiee.org/event/sebane-photovoltaic-systems-2023-national-electrical-code/
LOCATION:DoubleTree- Westborough\, 5400 Computer Drive\, Westborough\, MA\, 01581\, United States
CATEGORIES:Friends of NEWIEE
END:VEVENT
BEGIN:VEVENT
DTSTART;TZID=America/New_York:20230119T120000
DTEND;TZID=America/New_York:20230119T130000
DTSTAMP:20260425T181642
CREATED:20230111T035427Z
LAST-MODIFIED:20230111T035427Z
UID:20266-1674129600-1674133200@newiee.org
SUMMARY:BU IMAP's Corporate Carbon Risk in Utilities
DESCRIPTION:What is the risk associated with carbon targets? \nThis research project will help investors determine the risk associated with corporations achieving their future carbon targets.\nAs corporations and investment firms both commit to targets for reducing their carbon emissions\, there is growing desire to understand the risk associated with these future target statements. Whether or not a firm achieves its emissions targets can not only place its reputation at risk\, but also that of those along it’s supply chain\, including their investors. Current and future policies aimed at pricing climate externalities\, mean that corporate climate performance can have a material impact on financial performance. Yet\, the lack of reliable metrics to capture these risks pose severe challenges. This project aims to develop a novel methodology to predict the likelihood of achieving future corporate carbon targets. It will also publish an open database of the resulting risk measures for those companies that are  analyzed.
URL:https://newiee.org/event/bu-imaps-corporate-carbon-risk-in-utilities/
LOCATION:Boston University Institute for Global Sustainability\, 180E Riverway\, Boston\, MA\, 02215
CATEGORIES:Friends of NEWIEE
END:VEVENT
BEGIN:VEVENT
DTSTART;VALUE=DATE:20230122
DTEND;VALUE=DATE:20230126
DTSTAMP:20260425T181642
CREATED:20230116T131731Z
LAST-MODIFIED:20230116T131731Z
UID:20330-1674345600-1674691199@newiee.org
SUMMARY:NEWEA's 2023 Annual Conference & Exhibit
DESCRIPTION:NEWEA is excited to connect in person with our water industry colleagues at the 2023 Annual Conference & Exhibit. \nNEWEA has always been recognized to convene the brightest minds and the most innovative water quality solutions in one place. These are the people who impact and improve your everyday life. There is no better demonstration of these influential industry leaders than at NEWEA’s Annual Conference. \nThis prestigious conference\, which consistently attracts over 2300 engineers\, consultants\, scientists\, operators and students features a variety of technical sessions and over 200 exhibitor displays. The conference provides an opportunity for professional exchange of information and state-of-the-art concepts in wastewater treatment and other water environment issues. \nThe NEWEA Annual Conference is a great forum to meet colleagues\, professional allies\, make new friends and exchange information.
URL:https://newiee.org/event/neweas-2023-annual-conference-exhibit/
LOCATION:Boston Marriott Copley Place\, 110 Huntington Avenue\, Boston\, MA\, 02116\, United States
CATEGORIES:Friends of NEWIEE
END:VEVENT
BEGIN:VEVENT
DTSTART;TZID=America/New_York:20230126T183000
DTEND;TZID=America/New_York:20230126T203000
DTSTAMP:20260425T181642
CREATED:20230111T034356Z
LAST-MODIFIED:20230111T034356Z
UID:20261-1674757800-1674765000@newiee.org
SUMMARY:Out in Energy's Hybrid Event with Hon. Shawn Skelly & Hon. Joe Bryan
DESCRIPTION:To kick off 2023\, Out in Energy is delighted to invite you to a hybrid event featuring The Hon. Shawn Skelly\, Assistant Secretary of Defense for Readiness\, and The Hon. Joe Bryan\, Chief Sustainability Officer at the Department of Defense. During this exciting event\, participants will discuss the intersection of climate action\, clean energy\, resilience\, and the US armed forces. The US military is the largest consumer of energy in the United States; how is the Department of Defense working to create a greener\, more adaptive military that is ready to face the impacts of climate change? How are they leading the charge to electrify and decarbonize? And what role will diversity and inclusion for queer people at DoD continue to play 10+ years after the repeal of Don’t Ask\, Don’t Tell. \nThis event will take place Thursday\, January 26 from 6:30 PM – 8:30 PM ET at Atlantic Council Headquarters in downtown Washington\, DC. \nThis event is part of a series of Out in Energy engagements designed to inform network members on key energy trends and policies\, connect people across the LGBTQI+ community working in energy and climate\, and raise overall visibility for LGBTQI+ people working in these fields. \nTo attend\, please RSVP by emailing Zack Strauss at zstrauss@atlanticcouncil.org. In your RSVP\, please let Zach know if you would like to participate in person or virtually.
URL:https://newiee.org/event/out-in-energys-hybrid-event-with-hon-shawn-skelly-hon-joe-bryan/
LOCATION:Atlantic Council Headquarters\, 1030 15th St NW\, 12th Floor\, Washington\, DC\, 2005
CATEGORIES:Friends of NEWIEE
END:VEVENT
END:VCALENDAR