BEGIN:VCALENDAR
VERSION:2.0
PRODID:-//NEWIEE - ECPv6.15.15//NONSGML v1.0//EN
CALSCALE:GREGORIAN
METHOD:PUBLISH
X-WR-CALNAME:NEWIEE
X-ORIGINAL-URL:https://newiee.org
X-WR-CALDESC:Events for NEWIEE
REFRESH-INTERVAL;VALUE=DURATION:PT1H
X-Robots-Tag:noindex
X-PUBLISHED-TTL:PT1H
BEGIN:VTIMEZONE
TZID:America/New_York
BEGIN:DAYLIGHT
TZOFFSETFROM:-0500
TZOFFSETTO:-0400
TZNAME:EDT
DTSTART:20220313T070000
END:DAYLIGHT
BEGIN:STANDARD
TZOFFSETFROM:-0400
TZOFFSETTO:-0500
TZNAME:EST
DTSTART:20221106T060000
END:STANDARD
BEGIN:DAYLIGHT
TZOFFSETFROM:-0500
TZOFFSETTO:-0400
TZNAME:EDT
DTSTART:20230312T070000
END:DAYLIGHT
BEGIN:STANDARD
TZOFFSETFROM:-0400
TZOFFSETTO:-0500
TZNAME:EST
DTSTART:20231105T060000
END:STANDARD
BEGIN:DAYLIGHT
TZOFFSETFROM:-0500
TZOFFSETTO:-0400
TZNAME:EDT
DTSTART:20240310T070000
END:DAYLIGHT
BEGIN:STANDARD
TZOFFSETFROM:-0400
TZOFFSETTO:-0500
TZNAME:EST
DTSTART:20241103T060000
END:STANDARD
END:VTIMEZONE
BEGIN:VEVENT
DTSTART;TZID=America/New_York:20230302T090000
DTEND;TZID=America/New_York:20230303T170000
DTSTAMP:20260425T152859
CREATED:20221219T010536Z
LAST-MODIFIED:20230215T025145Z
UID:20187-1677747600-1677862800@newiee.org
SUMMARY:Fletcher School - Tufts Energy Conference 2023
DESCRIPTION:The 2023 Tufts Energy Conference\, The Energy Sector of the Future: Innovation\, Equity\, and Infrastructure\, will convene a diverse and international group of leaders to explore how equity can be incorporated in innovation systems and infrastructure investments to bring about a just and affordable energy transition for all. This year’s conference will feature panel discussions\, an exciting keynote speaker\, an energy employer showcase and a networking lunch. \nPanels of experts will cover a wide range of issues like how to increase equitable access to funding for energy projects\, sustainable and equitable infrastructure design\, the energy infrastructure needs of small island states\, and use of energy in climate-smart agriculture.
URL:https://newiee.org/event/fletcher-school-tufts-energy-conference-2023/
LOCATION:Tufts University\, 419 Boston Ave\, Medford\, MA\, 02155\, United States
CATEGORIES:Friends of NEWIEE
END:VEVENT
BEGIN:VEVENT
DTSTART;TZID=America/New_York:20230302T160000
DTEND;TZID=America/New_York:20230302T180000
DTSTAMP:20260425T152859
CREATED:20230215T020744Z
LAST-MODIFIED:20230215T020744Z
UID:20484-1677772800-1677780000@newiee.org
SUMMARY:Greentown Lab's Climatetech Intern Fair 2023
DESCRIPTION:Calling all students and soon-to-be graduates! Please join Greentown Lab’s annual Intern Fair\, which focuses on connecting rockstar interns directly with Greentown Labs’ network of cutting-edge climatetech startups looking for bright and eager talent. \nAt this internship fair\, students from Boston and beyond can connect with Greentown startups and learn more about opportunities at their companies. Attendees will be able to connect in person with the startups that are not only developing climatetech solutions\, but building a climate workforce that is ready to harness the massive economic opportunities of the energy transition. \nThere’s a place for everyone in climatetech\, whether they’ve previously worked in traditional energy\, have experience tackling climate change\, or are new to the climate and energy fields. The jobs are here.
URL:https://newiee.org/event/greentown-labs-climatetech-intern-fair-2023/
LOCATION:Greentown Labs\, 444 Somerville Ave\, Somerville\, MA\, 02143\, United States
CATEGORIES:Friends of NEWIEE
END:VEVENT
BEGIN:VEVENT
DTSTART;TZID=America/New_York:20230309T090000
DTEND;TZID=America/New_York:20230309T160000
DTSTAMP:20260425T152859
CREATED:20230125T142758Z
LAST-MODIFIED:20230125T142758Z
UID:20364-1678352400-1678377600@newiee.org
SUMMARY:NECA's Annual Renewable Energy Conference
DESCRIPTION:The NECA Renewable Energy Conference returns in person for the first time since March 2020\, at the Waltham Woods Conference Center. As the industry experiences exponential growth and challenges and we look to the region’s 2030 climate change goals and beyond\, join us for a day of in-depth conversations with experts about the real dilemmas and the possible solutions to meeting those goals. Topics include: new and creative ways to leverage renewables at the community level\, the challenges of technology and financing risk\, and strategies for repurposing fossil-fuel based assets as part of the region’s energy transition. In addition\, we will offer multiple opportunities for meaningful networking.
URL:https://newiee.org/event/necas-annual-renewable-energy-conference/
LOCATION:Waltham Woods Conference Center\, 860 Winter Street\, Waltham\, MA
CATEGORIES:Friends of NEWIEE
END:VEVENT
BEGIN:VEVENT
DTSTART;TZID=America/New_York:20230309T103000
DTEND;TZID=America/New_York:20230309T160000
DTSTAMP:20260425T152859
CREATED:20230215T032206Z
LAST-MODIFIED:20230215T032206Z
UID:20514-1678357800-1678377600@newiee.org
SUMMARY:NECEC's CT Clean Energy Day
DESCRIPTION:Please join NECEC on March 9th for NECEC’s Clean Energy Day at the State Capitol in Hartford\, Connecticut. The event will bring together clean energy business leaders with legislators and policymakers to discuss the most pressing energy and climate policy issues facing the Nutmeg State. \nThe day will feature meetings with key Connecticut legislators\, Lamont Administration energy officials and clean energy business leaders who will discuss their clean energy priorities and challenges for 2023. Registration is free to NECEC members and closes on Friday\, March 3rd.
URL:https://newiee.org/event/nececs-ct-clean-energy-day/
LOCATION:Connecticut State Capitol\, 210 Capitol Ave. Room 310\, Hartford\, CT
CATEGORIES:Friends of NEWIEE
END:VEVENT
BEGIN:VEVENT
DTSTART;TZID=America/New_York:20230309T121500
DTEND;TZID=America/New_York:20230309T140000
DTSTAMP:20260425T152859
CREATED:20230215T030649Z
LAST-MODIFIED:20230215T030649Z
UID:20506-1678364100-1678370400@newiee.org
SUMMARY:NECBC's Ambassador David Cohen Luncheon and Networking Event
DESCRIPTION:Join NECBC and Ambassador David L. Cohen for an afternoon together on March 9\, 2023! The event will consist of networking\, lunch and a fireside chat with the ambassador.
URL:https://newiee.org/event/necbcs-ambassador-david-cohen-luncheon-and-networking-event/
LOCATION:UMass Club\, 1 Beacon St 32nd floor\, Boston\, MA
CATEGORIES:Friends of NEWIEE
ORGANIZER;CN="New England - Canada Business Coucil (NECBC)":MAILTO:info@necbc.org
END:VEVENT
BEGIN:VEVENT
DTSTART;TZID=America/New_York:20230321T113000
DTEND;TZID=America/New_York:20230321T130000
DTSTAMP:20260425T152859
CREATED:20230221T021438Z
LAST-MODIFIED:20230221T021438Z
UID:20586-1679398200-1679403600@newiee.org
SUMMARY:WEST's Leadership Strategies to Advance Your Career in Science
DESCRIPTION:Sandra Glucksmann\, President & CEO at Cedilla Therapeutics\, will share stories of her career challenges and successes. She will discuss how to best apply your scientific and analytical abilities to develop influence and negotiation skills. Sandra will share her learning experiences as she transitioned from bench scientist to manager\, and from manager to executive in both small and large company settings.
URL:https://newiee.org/event/wests-leadership-strategies-to-advance-your-career-in-science/
LOCATION:Pfizer\, 610 Main Street\, Cambridge\, MA\, 02139
CATEGORIES:Friends of NEWIEE
ORGANIZER;CN="Women in the Enterprise of Science & Techology (WEST)":MAILTO:info@WESTorg.org
END:VEVENT
BEGIN:VEVENT
DTSTART;TZID=America/New_York:20230324T083000
DTEND;TZID=America/New_York:20230324T123000
DTSTAMP:20260425T152859
CREATED:20230221T024451Z
LAST-MODIFIED:20230221T024451Z
UID:20601-1679646600-1679661000@newiee.org
SUMMARY:Raab Roundtable's Rate Design & Ensuring Electricity Affordability
DESCRIPTION:Born out of electric industry restructuring\, the Restructuring Roundtable has been meeting four to six times per year since 1995 to discuss current topics related to revolutionary changes in the electric power industry in Massachusetts and throughout New England. Attendance at the Roundtable meetings averages over 200\, with attendees representing a broad cross-section of regional stakeholders. \nTopics Include \n\nRate Design for Electrification and Activating Demand\nEnsuring Electricity Affordability (on the way to Decarbonization)
URL:https://newiee.org/event/raab-roundtables-rate-design-ensuring-electricity-affordability/
LOCATION:Foley Hoag LLP Boston\, 155 Seaport Blvd\, Boston\, MA\, 02210\, United States
CATEGORIES:Friends of NEWIEE
END:VEVENT
BEGIN:VEVENT
DTSTART;TZID=America/New_York:20230328T170000
DTEND;TZID=America/New_York:20230328T190000
DTSTAMP:20260425T152859
CREATED:20230221T023602Z
LAST-MODIFIED:20230221T023602Z
UID:20595-1680022800-1680030000@newiee.org
SUMMARY:SWEP MA's Imposter Syndrome Discussion & Dinner
DESCRIPTION:Join the Massachusetts Chapter of the Society of Women Environmental Professionals (SWEP-MA) and the host\, CDW Consultants\, Inc.\, for a discussion of “Thinking your way out of imposter syndrome”. \nMeet with other environmental professionals for an evening of networking and discussion.  Participants will watch Valerie Young’s TED talk on the Imposter syndrome and discuss over a light dinner and drinks.  As always\, there will be time for networking.
URL:https://newiee.org/event/swep-mas-imposter-syndrome-discussion-dinner/
LOCATION:CDW Consultants\, Inc\, 4 California Ave\, Framingham\, MA\, 01701
CATEGORIES:Friends of NEWIEE
END:VEVENT
BEGIN:VEVENT
DTSTART;TZID=America/New_York:20230330T170000
DTEND;TZID=America/New_York:20230330T200000
DTSTAMP:20260425T152859
CREATED:20230215T021158Z
LAST-MODIFIED:20230215T021158Z
UID:20486-1680195600-1680206400@newiee.org
SUMMARY:Greentown Lab's EnergyBar: Go Make 2022 Final Showcase
DESCRIPTION:This EnergyBar is focused on celebrating the culmination of Go Make 2022\, a startup-corporate partnerships accelerator focused on decarbonizing supply chains. This program was developed in partnership with Mitsubishi Corporation (Americas) and M-Lab Companies\, a consortium of top-tier Japanese corporations based in Silicon Valley. \nManufacturing contributes 31 percent of global greenhouse gas emissions. From production to packaging to distribution\, each stage of the supply chain needs robust climatetech innovation to decarbonize the manufacturing sector. \nTogether\, Greentown Lab’s partners have supported five innovative startups accelerate the commercialization of technologies to revolutionize supply chains. Attendees will hear the Go Make 2022 cohort speak about their technologies\, their work with our corporate partners\, and where they are headed next.
URL:https://newiee.org/event/greentown-labs-energybar-go-make-2022-final-showcase/
LOCATION:Greentown Labs\, 444 Somerville Ave\, Somerville\, MA\, 02143\, United States
CATEGORIES:Friends of NEWIEE
END:VEVENT
BEGIN:VEVENT
DTSTART;TZID=America/New_York:20230330T173000
DTEND;TZID=America/New_York:20230330T190000
DTSTAMP:20260425T152859
CREATED:20230317T201429Z
LAST-MODIFIED:20230317T201429Z
UID:20774-1680197400-1680202800@newiee.org
SUMMARY:NECA's Young Professionals Happy Hour
DESCRIPTION:Please join NECA Thursday\, March 30th in Boston’s Lord Hobo Seaport for networking. The YP Happy Hour is a special chance to meet and create connections with professionals of similar experience across a variety of energy sector areas. There will be friendly discussions surrounding the latest changes and news in the energy sector and plentiful opportunity to exchange insights. Not only will this event be positioned as a YP networking event\, but there will also be several NECA Board and Committee members in attendance who are great resources. \nComplimentary appetizers will be provided\, drinks are on a cash bar basis. \nPlease register by March 23rd so NECA can plan accordingly.
URL:https://newiee.org/event/necas-young-professionals-happy-hour/
LOCATION:Lord Hobo Seaport\, 2 Drydock Ave\, Boston\, MA\, 02210
CATEGORIES:Friends of NEWIEE
END:VEVENT
END:VCALENDAR