BEGIN:VCALENDAR
VERSION:2.0
PRODID:-//NEWIEE - ECPv6.15.15//NONSGML v1.0//EN
CALSCALE:GREGORIAN
METHOD:PUBLISH
X-ORIGINAL-URL:https://newiee.org
X-WR-CALDESC:Events for NEWIEE
REFRESH-INTERVAL;VALUE=DURATION:PT1H
X-Robots-Tag:noindex
X-PUBLISHED-TTL:PT1H
BEGIN:VTIMEZONE
TZID:America/New_York
BEGIN:DAYLIGHT
TZOFFSETFROM:-0500
TZOFFSETTO:-0400
TZNAME:EDT
DTSTART:20220313T070000
END:DAYLIGHT
BEGIN:STANDARD
TZOFFSETFROM:-0400
TZOFFSETTO:-0500
TZNAME:EST
DTSTART:20221106T060000
END:STANDARD
BEGIN:DAYLIGHT
TZOFFSETFROM:-0500
TZOFFSETTO:-0400
TZNAME:EDT
DTSTART:20230312T070000
END:DAYLIGHT
BEGIN:STANDARD
TZOFFSETFROM:-0400
TZOFFSETTO:-0500
TZNAME:EST
DTSTART:20231105T060000
END:STANDARD
BEGIN:DAYLIGHT
TZOFFSETFROM:-0500
TZOFFSETTO:-0400
TZNAME:EDT
DTSTART:20240310T070000
END:DAYLIGHT
BEGIN:STANDARD
TZOFFSETFROM:-0400
TZOFFSETTO:-0500
TZNAME:EST
DTSTART:20241103T060000
END:STANDARD
END:VTIMEZONE
BEGIN:VEVENT
DTSTART;TZID=America/New_York:20230411T080000
DTEND;TZID=America/New_York:20230412T170000
DTSTAMP:20260425T141124
CREATED:20230327T134010Z
LAST-MODIFIED:20230327T134010Z
UID:20843-1681200000-1681318800@newiee.org
SUMMARY:MIT's 2023 Energy Conference
DESCRIPTION:The MIT Energy Conference unites innovative industry professionals to create and deploy exciting solutions to the world’s energy crisis. \nThe MIT Energy Conference is the largest annual student-led energy and climate conference in the US. Since its inception in 2006\, its primary goal has been to gather industry professionals to discuss solutions for the world’s most pressing energy challenges and challenge the status quo in the energy and climate field. The 2023 MIT Energy Conference will be at the Westin Copley Place in Boston\, MA on April 11th and April 12th! With the 2023 theme\, “Transition under Crisis: Technology\, Investment and Geopolitics\,” we will address the pressing global energy crisis spurred by the economic rebound from the pandemic and the War in Ukraine. The conference will bring experts across the three key fields of technology\, finance\, and global policy to discuss critical solutions that will shape the future of the energy landscape\, particularly during this time of uncertainty\, urgency\, and hardship.
URL:https://newiee.org/event/mits-2023-energy-conference/
LOCATION:Westin Copley Place\, 10 Huntington Ave\, Boston\, MA\, 02116\, United States
CATEGORIES:Friends of NEWIEE
END:VEVENT
BEGIN:VEVENT
DTSTART;TZID=America/New_York:20230412T100000
DTEND;TZID=America/New_York:20230412T140000
DTSTAMP:20260425T141124
CREATED:20230215T031326Z
LAST-MODIFIED:20230215T031326Z
UID:20511-1681293600-1681308000@newiee.org
SUMMARY:NECBC's US-Canada Financial\, Economic and Investment Executive Forum
DESCRIPTION:Did you know that the United States and Canada have the world’s largest bilateral trade and investment relationship at U.S. $1.7 Trillion? \nThe New England-Canada Business Council (NECBC) invites you to join us at this year’s in-person Executive Forum at the TD Garden’s Legends Room where Canadian and American financial\, economic and investment executives and thought leaders will focus on: \n\nOur regional economic and business outlook and key market drivers\nLooking to the North for business expansion\, capital raising\, and strategic partnering opportunities\nHow advancing technology in real-time digital transactions\, artificial intelligence (AI)\, blockchain\, and cybersecurity is fundamentally changing financial services for all consumers in North America and globally\n\nBe part of this year’s in-person Executive Forum and benefit from this unique annual cross-border learning and executive networking opportunity!
URL:https://newiee.org/event/necbcs-us-canada-financial-economic-and-investment-executive-forum/
LOCATION:TD Garden\, Legends Room\, 100 Legends Way\, Boston\, MA
CATEGORIES:Friends of NEWIEE
ORGANIZER;CN="New England - Canada Business Coucil (NECBC)":MAILTO:info@necbc.org
END:VEVENT
BEGIN:VEVENT
DTSTART;TZID=America/New_York:20230418T160000
DTEND;TZID=America/New_York:20230418T180000
DTSTAMP:20260425T141124
CREATED:20230403T153016Z
LAST-MODIFIED:20230403T153907Z
UID:20880-1681833600-1681840800@newiee.org
SUMMARY:CPES's Earthlight Solar and Energy Solutions Tour
DESCRIPTION:On April 18 CPES will host a tour of Earthlight Solar and Energy Solutions’ energy-efficient facility! Earthlight is a family-owned and operated solar and energy solutions manufacturer. Their 22\,000 square foot facility in Ellington\, Connecticut was designed to harness renewable energy and includes 15 geothermal wells\, water-to-water heat pumps below the warehouse floor\, water-to-air heat pumps to heat offices\, Level 1 and 2 EV charging stations\, battery storage and a Living Wall. Attendees will have the opportunity to tour this facility\, ask questions and learn more about Earthlight’s commitment to contributing to Connecticut’s clean energy economy. Participants gather at CT Valley Brewing in South Windsor following the tour\,
URL:https://newiee.org/event/cpess/
LOCATION:Earthlight Solar and Energy Solutions\, 128 West Rd\, Ellington\, CT\, 06029
CATEGORIES:Friends of NEWIEE
END:VEVENT
END:VCALENDAR