BEGIN:VCALENDAR
VERSION:2.0
PRODID:-//NEWIEE - ECPv6.15.15//NONSGML v1.0//EN
CALSCALE:GREGORIAN
METHOD:PUBLISH
X-ORIGINAL-URL:https://newiee.org
X-WR-CALDESC:Events for NEWIEE
REFRESH-INTERVAL;VALUE=DURATION:PT1H
X-Robots-Tag:noindex
X-PUBLISHED-TTL:PT1H
BEGIN:VTIMEZONE
TZID:America/New_York
BEGIN:DAYLIGHT
TZOFFSETFROM:-0500
TZOFFSETTO:-0400
TZNAME:EDT
DTSTART:20220313T070000
END:DAYLIGHT
BEGIN:STANDARD
TZOFFSETFROM:-0400
TZOFFSETTO:-0500
TZNAME:EST
DTSTART:20221106T060000
END:STANDARD
BEGIN:DAYLIGHT
TZOFFSETFROM:-0500
TZOFFSETTO:-0400
TZNAME:EDT
DTSTART:20230312T070000
END:DAYLIGHT
BEGIN:STANDARD
TZOFFSETFROM:-0400
TZOFFSETTO:-0500
TZNAME:EST
DTSTART:20231105T060000
END:STANDARD
BEGIN:DAYLIGHT
TZOFFSETFROM:-0500
TZOFFSETTO:-0400
TZNAME:EDT
DTSTART:20240310T070000
END:DAYLIGHT
BEGIN:STANDARD
TZOFFSETFROM:-0400
TZOFFSETTO:-0500
TZNAME:EST
DTSTART:20241103T060000
END:STANDARD
END:VTIMEZONE
BEGIN:VEVENT
DTSTART;VALUE=DATE:20230711
DTEND;VALUE=DATE:20230713
DTSTAMP:20260425T101030
CREATED:20230215T025802Z
LAST-MODIFIED:20230215T025802Z
UID:20503-1689033600-1689206399@newiee.org
SUMMARY:Reuters Events' US Offshore Wind 2023
DESCRIPTION:The US offshore wind industry boom\, projected to generate over 30 GW of power in eight East and West Coast states by 2030\, presents a $70 billion CAPEX revenue opportunity to businesses in the U.S. supply chain. An unprecedented 1\,000 GW of U.S. offshore wind resource remains untapped\, waiting to be unleashed! \nThe opportunity is in sight\, and you’re invited to join local and international businesses at Reuters Events: US Offshore Wind Conference and Exhibition\, returning to Boston with one mission – to help you achieve 30 GW of Offshore Wind by 2030. \nSupply chain deals\, joint ventures and policy making – this is the place where it all happens for US offshore wind businesses. You’ll meet every major developer\, investor\, contractor\, supplier\, manufacturer\, policy maker\, who hold they keys to thousands of imminent supply chain and service contracts.
URL:https://newiee.org/event/reuters-events-us-offshore-wind-2023/
LOCATION:Hynes Convention Center\, 900 Boylston St\, Boston\, MA\, 02115\, United States
CATEGORIES:Friends of NEWIEE
END:VEVENT
END:VCALENDAR