BEGIN:VCALENDAR
VERSION:2.0
PRODID:-//NEWIEE - ECPv6.15.15//NONSGML v1.0//EN
CALSCALE:GREGORIAN
METHOD:PUBLISH
X-ORIGINAL-URL:https://newiee.org
X-WR-CALDESC:Events for NEWIEE
REFRESH-INTERVAL;VALUE=DURATION:PT1H
X-Robots-Tag:noindex
X-PUBLISHED-TTL:PT1H
BEGIN:VTIMEZONE
TZID:America/New_York
BEGIN:DAYLIGHT
TZOFFSETFROM:-0500
TZOFFSETTO:-0400
TZNAME:EDT
DTSTART:20230312T070000
END:DAYLIGHT
BEGIN:STANDARD
TZOFFSETFROM:-0400
TZOFFSETTO:-0500
TZNAME:EST
DTSTART:20231105T060000
END:STANDARD
BEGIN:DAYLIGHT
TZOFFSETFROM:-0500
TZOFFSETTO:-0400
TZNAME:EDT
DTSTART:20240310T070000
END:DAYLIGHT
BEGIN:STANDARD
TZOFFSETFROM:-0400
TZOFFSETTO:-0500
TZNAME:EST
DTSTART:20241103T060000
END:STANDARD
BEGIN:DAYLIGHT
TZOFFSETFROM:-0500
TZOFFSETTO:-0400
TZNAME:EDT
DTSTART:20250309T070000
END:DAYLIGHT
BEGIN:STANDARD
TZOFFSETFROM:-0400
TZOFFSETTO:-0500
TZNAME:EST
DTSTART:20251102T060000
END:STANDARD
END:VTIMEZONE
BEGIN:VEVENT
DTSTART;TZID=America/New_York:20241101T090000
DTEND;TZID=America/New_York:20241101T123000
DTSTAMP:20260421T081620
CREATED:20241004T132310Z
LAST-MODIFIED:20241004T132310Z
UID:23965-1730451600-1730464200@newiee.org
SUMMARY:What Keeps RIDEM Leadership Up at Night? Annual EBC & RISEP Rhode Island Leadership Program
DESCRIPTION:What keeps the leadership of the Rhode Island Department of Environmental Management (RIDEM) up at night? Find out at this annual joint EBC and RISEP program featuring RIDEM leadership from across the agency. Sue Forcier’s kickoff presentation will provide the 1\,000-foot view of what is new at RIDEM and introduce each chief and their program responsibilities. The office chiefs will hold a series of brief presentations that get into the details\, with the chiefs discussing the hot topics that are holding their attention in 2024 and beyond. With much of the decision making at RIDEM taking place at the office level\, this program provides a unique opportunity to understand the challenges and concerns of the leadership of the offices. \nJoin for an informative and lively conversation with the key RIDEM decision makers as they discuss ongoing and future programs strategies and challenges. \nThe program will conclude with a robust panel discussion. \nRIDEM Speakers \nSusan Forcier\, Deputy Director\, Bureau of Environmental Protection\nJim Ball\, Administrator\, Office of Emergency Response\nEric Beck\, P.E.\, Administrator\, Groundwater and Freshwater Wetlands Protection\, Office of Water Resources\nJoseph Haberek\, P.E.\, Administrator\, Surface Water Protection\, Office of Water Resources\nChristina Hoefsmit\, Esq.\, Deputy Administrator\, Office of Compliance & Inspection\nAdditional speakers to be announced shortly. \nProgram Agenda \n9:00 a.m. – Registration & Networking\n9:30 a.m. – Program Begins\n12:30 p.m. – Program Adjourns
URL:https://newiee.org/event/what-keeps-ridem-leadership-up-at-night-annual-ebc-risep-rhode-island-leadership-program/
LOCATION:District Hall\, 75 Northern Avenue\, Boston\, MA\, 02210\, United States
CATEGORIES:Friends of NEWIEE
END:VEVENT
END:VCALENDAR