BEGIN:VCALENDAR
VERSION:2.0
PRODID:-//NEWIEE - ECPv6.15.15//NONSGML v1.0//EN
CALSCALE:GREGORIAN
METHOD:PUBLISH
X-ORIGINAL-URL:https://newiee.org
X-WR-CALDESC:Events for NEWIEE
REFRESH-INTERVAL;VALUE=DURATION:PT1H
X-Robots-Tag:noindex
X-PUBLISHED-TTL:PT1H
BEGIN:VTIMEZONE
TZID:America/New_York
BEGIN:DAYLIGHT
TZOFFSETFROM:-0500
TZOFFSETTO:-0400
TZNAME:EDT
DTSTART:20210314T070000
END:DAYLIGHT
BEGIN:STANDARD
TZOFFSETFROM:-0400
TZOFFSETTO:-0500
TZNAME:EST
DTSTART:20211107T060000
END:STANDARD
BEGIN:DAYLIGHT
TZOFFSETFROM:-0500
TZOFFSETTO:-0400
TZNAME:EDT
DTSTART:20220313T070000
END:DAYLIGHT
BEGIN:STANDARD
TZOFFSETFROM:-0400
TZOFFSETTO:-0500
TZNAME:EST
DTSTART:20221106T060000
END:STANDARD
BEGIN:DAYLIGHT
TZOFFSETFROM:-0500
TZOFFSETTO:-0400
TZNAME:EDT
DTSTART:20230312T070000
END:DAYLIGHT
BEGIN:STANDARD
TZOFFSETFROM:-0400
TZOFFSETTO:-0500
TZNAME:EST
DTSTART:20231105T060000
END:STANDARD
END:VTIMEZONE
BEGIN:VEVENT
DTSTART;TZID=America/New_York:20220913T090000
DTEND;TZID=America/New_York:20220913T123000
DTSTAMP:20260421T141903
CREATED:20220823T225725Z
LAST-MODIFIED:20220823T225725Z
UID:19708-1663059600-1663072200@newiee.org
SUMMARY:EBC 4th Annual New England Climate Change and Resiliency Summit
DESCRIPTION:Unprecedented policy\, regulatory\, and funding decisions related to how we address climate change are being made at the state and federal level.  Whether you are in the public sector\, work in industry\, or provide environmental consulting services\, climate change adaptation and mitigation impacts your work. The fourth annual EBC New England Climate Change and Resiliency Summit will provide an opportunity to learn how New England is addressing the challenges and opportunities associated with adapting to climate change and reducing vulnerability to climate change impacts\, working to meet state and federal greenhouse gas reduction goals\, and transitioning to a carbon-free economy.  For those in the environmental business community at the frontlines of adaptation and transition\, the Summit is a forum to listen\, learn\, network and ask questions related to rapidly developing policy and programs connected to climate change. \nRepresentatives from the six New England States will provide updates on their specific climate change plans\, program priorities\, and implementation strategies. The major focus will be on those key elements that are moving each state’s programs forward in preparation for the impact of climate change.
URL:https://newiee.org/event/ebc-4th-annual-new-england-climate-change-and-resiliency-summit/
LOCATION:Virtual
CATEGORIES:Friends of NEWIEE
END:VEVENT
BEGIN:VEVENT
DTSTART;TZID=America/New_York:20220922T120000
DTEND;TZID=America/New_York:20220922T130000
DTSTAMP:20260421T141903
CREATED:20220613T003035Z
LAST-MODIFIED:20220613T003035Z
UID:19461-1663848000-1663851600@newiee.org
SUMMARY:WEST's Speak Up & Be Heard: How to Speak Up at Work Without Fear of Being Judged
DESCRIPTION:Have you considered how your fear of being judged for speaking up is negatively impacting your career? \nThe 2019 McKinsey Women in the Workplace report\, which surveyed 329 companies & more than 68\,000 employees\, found that 50% of the surveyed women experienced being interrupted or spoken over\, and 38% had others take credit for their ideas. \nWhether you’re speaking up in a virtual meeting\, presenting an idea to your boss or giving a presentation to your team\, speaking confidently is the only way to truly be heard & achieve the goals you wish to accomplish in your career. \nYet\, it can be scary. All eyes are on you and only you. You want to make sure you don’t say the wrong thing or offend anybody but at the same time\, you don’t want to sit in silence because you’re afraid to speak up and then later kick yourself for not sharing what’s on your mind. \nSo\, as a professional woman in your field\, how do you speak up with CONFIDENCE without the fear of being judged by your superiors or your peers? \nWhen you join the virtual workshop\, you will receive methods that have been shared in training over 20\,000 career professionals in 30 cities internationally\, to speak up & be heard so that you can receive the visibility that you deserve. \nIn this virtual workshop\, you will learn: \n\nHow to bypass your inner critic & speak up without judging yourself so that you can freely express your ideas & be heard.\nHow to speak with confidence\, even when under pressure\, so that you can share your talents & be recognized for them.\nHow to stop sabotaging your voice\, so that you can advocate for what you want in your career\, especially when it counts the most.\n\n 
URL:https://newiee.org/event/wests-speak-up-be-heard-how-to-speak-up-at-work-without-fear-of-being-judged/
CATEGORIES:Friends of NEWIEE
ORGANIZER;CN="Women in the Enterprise of Science & Techology (WEST)":MAILTO:info@WESTorg.org
END:VEVENT
END:VCALENDAR