BEGIN:VCALENDAR
VERSION:2.0
PRODID:-//NEWIEE - ECPv6.15.15//NONSGML v1.0//EN
CALSCALE:GREGORIAN
METHOD:PUBLISH
X-WR-CALNAME:NEWIEE
X-ORIGINAL-URL:https://newiee.org
X-WR-CALDESC:Events for NEWIEE
REFRESH-INTERVAL;VALUE=DURATION:PT1H
X-Robots-Tag:noindex
X-PUBLISHED-TTL:PT1H
BEGIN:VTIMEZONE
TZID:America/New_York
BEGIN:DAYLIGHT
TZOFFSETFROM:-0500
TZOFFSETTO:-0400
TZNAME:EDT
DTSTART:20210314T070000
END:DAYLIGHT
BEGIN:STANDARD
TZOFFSETFROM:-0400
TZOFFSETTO:-0500
TZNAME:EST
DTSTART:20211107T060000
END:STANDARD
BEGIN:DAYLIGHT
TZOFFSETFROM:-0500
TZOFFSETTO:-0400
TZNAME:EDT
DTSTART:20220313T070000
END:DAYLIGHT
BEGIN:STANDARD
TZOFFSETFROM:-0400
TZOFFSETTO:-0500
TZNAME:EST
DTSTART:20221106T060000
END:STANDARD
BEGIN:DAYLIGHT
TZOFFSETFROM:-0500
TZOFFSETTO:-0400
TZNAME:EDT
DTSTART:20230312T070000
END:DAYLIGHT
BEGIN:STANDARD
TZOFFSETFROM:-0400
TZOFFSETTO:-0500
TZNAME:EST
DTSTART:20231105T060000
END:STANDARD
END:VTIMEZONE
BEGIN:VEVENT
DTSTART;TZID=America/New_York:20221012T170000
DTEND;TZID=America/New_York:20221012T183000
DTSTAMP:20260421T125448
CREATED:20220920T121001Z
LAST-MODIFIED:20220920T121001Z
UID:19810-1665594000-1665599400@newiee.org
SUMMARY:SWEP MA's Banish Burnout: What It Looks Like and How to Fix It
DESCRIPTION:Burnout is real. Understand the brain science of stress so you can banish the emotional\, physical\, and behavioral symptoms of burnout\, even when dealing with COVID\, working from home\, hybrid meetings\, and a return to travel. Learn the mindsets\, skills\, and habits needed to work well\, be happy\, and be profitably productive. \nOur speaker\, Dr. Margarita Gurri\, Ph.D\, CSP\, is a Misbehavior Expert\, called Dr. Red Shoe. Dr. Red Shoe solves people problems—conflict\, crisis\, and ethical challenges—to bring out the best in everyone. She is the author of several books. For more information check her website DrRedShoe.com. \nThe presentation will be 5-6:15 PM\, EDT\, with optional networking from 6:15-6:30 PM\, EST. \nCo-sponsored with the Connecticut Society for Women Environmental Professionals (SWEP-CT) and the Northeast Energy and Commerce Association (NECA).
URL:https://newiee.org/event/swep-mas-banish-burnout-what-it-looks-like-and-how-to-fix-it-2/
LOCATION:Virtual
CATEGORIES:Friends of NEWIEE
END:VEVENT
BEGIN:VEVENT
DTSTART;VALUE=DATE:20221019
DTEND;VALUE=DATE:20221020
DTSTAMP:20260421T125448
CREATED:20220613T001344Z
LAST-MODIFIED:20220613T001344Z
UID:19454-1666137600-1666223999@newiee.org
SUMMARY:NEEP's Heating Electrification Workshop 2022
DESCRIPTION:Join NEEP\, program administrators\, manufacturers\, policy makers\, installers\, and other stakeholders for NEEP Heating Electrification 2022 October 19-20. This event will explore approaches for electrifying the heating and cooling sector while guaranteeing quality\, comfort\, and accessibility for occupants. Panelists will speak to their experience with various system applications and discuss recent advancements in air source heat pumps (ASHPs)\, packaged terminal heat pumps (PHTPs)\, variable refrigerant flow systems (VRFs)\, and other clean heating technologies. \nVirtual and interactive discussions will provide a collaborative setting for attendees to explore a variety of topics\, including consumer confidence\, technology advancements\, equity and workforce\, and policies and programs.
URL:https://newiee.org/event/neeps-heating-electrification-workshop-2022/2022-10-19/
CATEGORIES:Friends of NEWIEE
END:VEVENT
BEGIN:VEVENT
DTSTART;TZID=America/New_York:20221021T100000
DTEND;TZID=America/New_York:20221021T100000
DTSTAMP:20260421T125448
CREATED:20221010T020329Z
LAST-MODIFIED:20221010T020329Z
UID:19899-1666346400-1666346400@newiee.org
SUMMARY:ISO New England Future Grid Reliability Phase 1 Public Meeting
DESCRIPTION:On Friday\, October 21 at 10:00 a.m.\, ISO New England will host a virtual briefing to present its recently released 2021 Economic Study: Future Grid Reliability Phase 1. The study evaluates how a 2040 grid could perform with a shift to largely renewable resources and a substantial increase in demand associated with electrification of the heating and transportation sectors. \nThe briefing is intended to make the findings of this report available to any interested members of the public. The session will be recorded and posted after the event for the convenience of those who cannot join on the date of the briefing. Please see instructions below on how to register and obtain information to access the virtual meeting. The audience will have opportunities to submit questions via chat during the virtual session. \nIn addition\, a document summarizing the findings of the study was recently posted to the ISO website. \nBackground \nThe study investigates several potential scenarios for a future grid\, developed by stakeholders. The resulting analysis produced takeaways in the areas of energy adequacy\, resource and demand flexibility\, and resource mix diversity that may help inform decision making as the region continues to move towards a transformed grid. The briefing\, held via WebEx\, is free and open to the general public. Registration is required to obtain the information needed to log into the webinar. \nThe final report\, 2021 Economic Study: Future Grid Reliability is available on the ISO’s website and a short summary is available on the ISO’s Newswire. A summary document is also available. \nIn 2020\, regional stakeholders requested the study to assess and discuss the future state of the regional power system in light of current state energy and environmental policies. Beginning in April 2020 and culminating in March 2021\, the ISO met regularly with state and industry stakeholders to discuss and define a scope of work for the initiative. \nThe 2021 Economic Study: Future Grid Reliability evaluates the operational and reliability challenges of a future grid where supply resources are largely renewable and demand has increased substantially due to electrification of the heating and transportation sectors. \nThe October 21 briefing will highlight the findings of the study\, including the operational and reliability challenges that were identified and will need to be addressed in the future grid\, and possible ways to meet those needs. \nRegistration \nTo register for the briefing\, please visit ISO-TEN\, the online registration site for the ISO New England Training and Events Network. Information to access the webinar will be sent to those who register through ISO-TEN. If you are new to ISO-TEN\, you will need to click the button to Register for an Account. There is no charge to set up an account. You will need to provide contact information (so we can send you information for your event) and establish a password. \nPlease contact ISO New England’s External Affairs team if you have any questions.
URL:https://newiee.org/event/iso-new-england-future-grid-reliability-phase-1-public-meeting/
CATEGORIES:Friends of NEWIEE
END:VEVENT
BEGIN:VEVENT
DTSTART;TZID=America/New_York:20221026T120000
DTEND;TZID=America/New_York:20221026T130000
DTSTAMP:20260421T125448
CREATED:20220919T012627Z
LAST-MODIFIED:20221003T110543Z
UID:19782-1666785600-1666789200@newiee.org
SUMMARY:NEWIEE x Breaking the Glass Resume Review
DESCRIPTION:Join a Progressive Recruitment consultant as they share resume tips and give a live resume review. The recruitment consultants that will be joining us source top talent in the energy and environmental energy markets. Attendees will have the opportunity to submit questions and their resumes before the event so they can get live feedback. \nPlease register here submit your resumes to communityprograms@sthree.com. \nAgenda: \n\nIntroduction from NEWIEE\nIntroduction from Progressive Recruitment\nResume Review Tips\nLive Resume Review\nAudience Q&A\n\n  \nSpeakers: Melissa Lugli\, Associate Consultant\, Progressive Recruitment \nProgressive and the Specialist Staffing Groups is proud to bring you this webinar panel. Progressive and Specialist Staffing Groups are part of SThree. SThree is the global STEM-specialist talent partner. We connect sought-after specialists in science\, technology\, engineering\, and mathematics with dynamic organizations.
URL:https://newiee.org/event/newiee-x-breaking-the-glass-resume-review/
LOCATION:Virtual
CATEGORIES:NEWIEE,Rising Professionals
ATTACH;FMTTYPE=image/png:https://newiee.org/wp-content/uploads/2022/09/newiee-x-breaking-the-glass-resume-review-october-2022-website-1100-500-px.png
ORGANIZER;CN="NEWIEE":MAILTO:NEWIEE@NEWIEE.org
END:VEVENT
END:VCALENDAR