BEGIN:VCALENDAR
VERSION:2.0
PRODID:-//NEWIEE - ECPv6.15.15//NONSGML v1.0//EN
CALSCALE:GREGORIAN
METHOD:PUBLISH
X-WR-CALNAME:NEWIEE
X-ORIGINAL-URL:https://newiee.org
X-WR-CALDESC:Events for NEWIEE
REFRESH-INTERVAL;VALUE=DURATION:PT1H
X-Robots-Tag:noindex
X-PUBLISHED-TTL:PT1H
BEGIN:VTIMEZONE
TZID:America/New_York
BEGIN:DAYLIGHT
TZOFFSETFROM:-0500
TZOFFSETTO:-0400
TZNAME:EDT
DTSTART:20220313T070000
END:DAYLIGHT
BEGIN:STANDARD
TZOFFSETFROM:-0400
TZOFFSETTO:-0500
TZNAME:EST
DTSTART:20221106T060000
END:STANDARD
BEGIN:DAYLIGHT
TZOFFSETFROM:-0500
TZOFFSETTO:-0400
TZNAME:EDT
DTSTART:20230312T070000
END:DAYLIGHT
BEGIN:STANDARD
TZOFFSETFROM:-0400
TZOFFSETTO:-0500
TZNAME:EST
DTSTART:20231105T060000
END:STANDARD
BEGIN:DAYLIGHT
TZOFFSETFROM:-0500
TZOFFSETTO:-0400
TZNAME:EDT
DTSTART:20240310T070000
END:DAYLIGHT
BEGIN:STANDARD
TZOFFSETFROM:-0400
TZOFFSETTO:-0500
TZNAME:EST
DTSTART:20241103T060000
END:STANDARD
END:VTIMEZONE
BEGIN:VEVENT
DTSTART;TZID=America/New_York:20230912T163000
DTEND;TZID=America/New_York:20230912T183000
DTSTAMP:20260423T114658
CREATED:20230906T015941Z
LAST-MODIFIED:20230906T015941Z
UID:21781-1694536200-1694543400@newiee.org
SUMMARY:Greentown Labs' Climatetech Career Fair
DESCRIPTION:Greentown Labs is proud to support climatetech startups as they develop their technologies\, scale their businesses\, and grow their teams. Greentown startups are not only developing climatetech solutions—they’re building a climate workforce that is ready to harness the massive economic opportunities of the energy transition. And that climate workforce is hiring. \nThere’s a place for everyone in climatetech\, whether you’ve previously worked in traditional energy\, have experience tackling climate change\, or are new to the climate and energy fields. The jobs are here. We just need you!
URL:https://newiee.org/event/greentown-labs-climatetech-career-fair/
LOCATION:Greentown Labs\, 444 Somerville Ave\, Somerville\, MA\, 02143\, United States
CATEGORIES:Friends of NEWIEE
END:VEVENT
BEGIN:VEVENT
DTSTART;TZID=America/New_York:20230913T170000
DTEND;TZID=America/New_York:20230913T190000
DTSTAMP:20260423T114658
CREATED:20230501T014138Z
LAST-MODIFIED:20230501T014138Z
UID:20973-1694624400-1694631600@newiee.org
SUMMARY:SWEP MA's Outlook Farm Networking Event
DESCRIPTION:Join the Society for Women Environmental Professionals Massachusetts Chapter (SWEP-MA) for their fall in-person Networking Event. The event will be located at Lookout Farm in their outdoor area. \nSWEP will provide food; cider and beer will be available for purchase. Free but  please register so that they know to expect you!  If you aren’t already a member\, please consider joining SWEP-MA to help support events like this. 
URL:https://newiee.org/event/swep-mas-outlook-farm-networking-event/
LOCATION:Lookout Farm\, 89 Pleasant St\, Natick\, MA\, United States
CATEGORIES:Friends of NEWIEE
END:VEVENT
BEGIN:VEVENT
DTSTART;TZID=America/New_York:20230913T173000
DTEND;TZID=America/New_York:20230913T210000
DTSTAMP:20260423T114658
CREATED:20230906T020217Z
LAST-MODIFIED:20230906T020217Z
UID:21783-1694626200-1694638800@newiee.org
SUMMARY:Greentown Labs' Climatetech Cocktails
DESCRIPTION:Join Greentown Labs for Climatetech Cocktails and grab a drink (or two) with best-in-class climatetech founders!
URL:https://newiee.org/event/greentown-labs-climatetech-cocktails/
CATEGORIES:Friends of NEWIEE
END:VEVENT
BEGIN:VEVENT
DTSTART;TZID=America/New_York:20230915T080000
DTEND;TZID=America/New_York:20230915T120000
DTSTAMP:20260423T114658
CREATED:20230906T023531Z
LAST-MODIFIED:20230906T023531Z
UID:21791-1694764800-1694779200@newiee.org
SUMMARY:CWEEL's AEE New England Community Harvest
DESCRIPTION:The CWEEL New England Chapter will be volunteering at Community Harvest in North Grafton\, MA. This will be the second trip to the non-profit farm which contributes to hunger relief efforts in eastern and central Massachusetts by growing fresh fruit and vegetables.
URL:https://newiee.org/event/cweels-aee-new-england-community-harvest/
LOCATION:Community Harvest Farm\, 37 Wheeler Road\, North Grafton\, MA
CATEGORIES:Friends of NEWIEE
ORGANIZER;CN="Council on Women in Energy & Evironmental Leadership (CWEEL)":MAILTO:info@cweelnewengland.org
END:VEVENT
BEGIN:VEVENT
DTSTART;TZID=America/New_York:20230918T080000
DTEND;TZID=America/New_York:20230918T170000
DTSTAMP:20260423T114658
CREATED:20230724T185549Z
LAST-MODIFIED:20230724T185549Z
UID:21592-1695024000-1695056400@newiee.org
SUMMARY:NECA's 2023 Fuels Conference
DESCRIPTION:The transition to renewable and clean energy sources is paramount\, but it cannot be achieved without addressing pipeline networks and transportation fuels that have long been the backbone of global energy systems. This conference offers a platform for knowledge sharing\, collaboration\, and transformative discussions that will shape the future of energy infrastructure. Engage with leading industry experts as they present cutting-edge technologies\, best practices\, and policy frameworks to drive the decarbonization of pipeline networks and transportation fuels.
URL:https://newiee.org/event/necas-2023-fuels-conference/
LOCATION:University of Massachusetts Club\, one beacon street\, Boston\, MA\, 02108\, United States
CATEGORIES:Friends of NEWIEE
END:VEVENT
BEGIN:VEVENT
DTSTART;TZID=America/New_York:20230919T173000
DTEND;TZID=America/New_York:20230919T200000
DTSTAMP:20260423T114658
CREATED:20230827T182920Z
LAST-MODIFIED:20230905T014215Z
UID:21732-1695144600-1695153600@newiee.org
SUMMARY:NEWIEE & CPES: The Role of Long-Duration Storage on the Road to Decarbonization
DESCRIPTION:Join NEWIEE and the Connecticut Power and Energy Society (CPES) for our ninth annual joint event on Tuesday\, September 19! This panel discussion will feature leaders from Massachusetts and Connecticut discussing long-duration storage and its role as New England works toward a decarbonized electric system. \nEnergy storage is one of the most crucial and complex challenges of the clean energy transition. To meet Massachusetts’ and Connecticut’s ambitious decarbonization goals\, long-duration storage technologies will need to be commercially ready\, at scale\, in the next decade. Join NEWIEE and CPES to explore the complex trade-offs in cost\, feasibility\, scalability\, and carbon reduction associated with storage from our esteemed panelists who have been actively tackling these challenges. \nKeynote:\nWeezie Nuara\, Assistant Secretary for Federal and Regional Energy Affairs at the Massachusetts Executive Office of Energy and Environmental Affairs \nPanelists:\nSarah Jackson\, Policy Manager for the Eastern Region at Form Energy\nJoanna Troy\, Director\, Energy Policy and Planning at the Massachusetts Department of Energy Resources\nHossein Ghezel-Ayagh\, Vice President\, Advanced Technology Programs at FuelCell Energy\, Inc. \nModerated by:\nMarissa Paslick Gillett\, Chairman of the Connecticut Public Utilities Regulatory Authority
URL:https://newiee.org/event/newiee-cpes-the-role-of-long-duration-storage-on-the-road-to-decarbonization/
LOCATION:UConn Law School\, 55 Elizabeth Street\, Hartford\, CT\, 06105\, United States
CATEGORIES:NEWIEE and CPES Joint Event
ATTACH;FMTTYPE=image/png:https://newiee.org/wp-content/uploads/2023/09/newieecpes-sept-2023-1100-500-px.png
ORGANIZER;CN="NEWIEE":MAILTO:NEWIEE@NEWIEE.org
END:VEVENT
BEGIN:VEVENT
DTSTART;TZID=America/New_York:20230927T173000
DTEND;TZID=America/New_York:20230927T200000
DTSTAMP:20260423T114658
CREATED:20230906T021625Z
LAST-MODIFIED:20230906T021625Z
UID:21785-1695835800-1695844800@newiee.org
SUMMARY:Greentown Labs' Go Make 2023 Kickoff Event
DESCRIPTION:Join Greentown Boston or virtually on Sept. 27 to celebrate the kickoff of Go Make 2023 with Shell\, a Greentown Go startup-corporate partnerships accelerator program. Go Make 2023 is enabling a circular\, net-zero-carbon economy by accelerating the adoption of alternative carbon feedstocks for key commodities\, biogenic and nature-based solutions\, carbon storage and traceability solutions\, and more. \nAt this Kickoff Event\, attendees will hear from industry experts\, see lightning pitches from the startup finalists\, and have the opportunity to network with the climatetech ecosystem. \nGo Make 2023 will provide startups with a structured platform to engage leadership from Shell and explore potential partnership outcomes. In the process\, startups will benefit from mentorship\, networking opportunities\, and partnership-focused programming from the Greentown community of climatetech startup experts.
URL:https://newiee.org/event/greentown-labs-go-make-2023-kickoff-event/
LOCATION:Greentown Labs\, 444 Somerville Ave\, Somerville\, MA\, 02143\, United States
CATEGORIES:Friends of NEWIEE
END:VEVENT
END:VCALENDAR