BEGIN:VCALENDAR
VERSION:2.0
PRODID:-//NEWIEE - ECPv6.15.15//NONSGML v1.0//EN
CALSCALE:GREGORIAN
METHOD:PUBLISH
X-ORIGINAL-URL:https://newiee.org
X-WR-CALDESC:Events for NEWIEE
REFRESH-INTERVAL;VALUE=DURATION:PT1H
X-Robots-Tag:noindex
X-PUBLISHED-TTL:PT1H
BEGIN:VTIMEZONE
TZID:America/New_York
BEGIN:DAYLIGHT
TZOFFSETFROM:-0500
TZOFFSETTO:-0400
TZNAME:EDT
DTSTART:20250309T070000
END:DAYLIGHT
BEGIN:STANDARD
TZOFFSETFROM:-0400
TZOFFSETTO:-0500
TZNAME:EST
DTSTART:20251102T060000
END:STANDARD
BEGIN:DAYLIGHT
TZOFFSETFROM:-0500
TZOFFSETTO:-0400
TZNAME:EDT
DTSTART:20260308T070000
END:DAYLIGHT
BEGIN:STANDARD
TZOFFSETFROM:-0400
TZOFFSETTO:-0500
TZNAME:EST
DTSTART:20261101T060000
END:STANDARD
BEGIN:DAYLIGHT
TZOFFSETFROM:-0500
TZOFFSETTO:-0400
TZNAME:EDT
DTSTART:20270314T070000
END:DAYLIGHT
BEGIN:STANDARD
TZOFFSETFROM:-0400
TZOFFSETTO:-0500
TZNAME:EST
DTSTART:20271107T060000
END:STANDARD
END:VTIMEZONE
BEGIN:VEVENT
DTSTART;TZID=America/New_York:20260306T093000
DTEND;TZID=America/New_York:20260306T123000
DTSTAMP:20260425T120259
CREATED:20260304T035703Z
LAST-MODIFIED:20260304T035703Z
UID:26786-1772789400-1772800200@newiee.org
SUMMARY:EBC: Climate Adaptation Communication – Decoding Data and Risk for All
DESCRIPTION:Decisions about climate resilience are increasingly data-informed and increasingly complex. \nFor policymakers and practitioners\, this means working beyond black-and-white solutions to design interventions that acknowledge uncertainty\, mitigate risk\, and strengthen community resilience. \nThis Forum brings together practitioners who will share how they have found success in breaking down complex data and communicating it in clear\, contextualized ways. Through real-world examples\, speakers will demonstrate how communities of all sizes can proactively address climate risk. Attendees will be presented with a range of approaches for communicating climate data\, risk\, and the importance of adaptation in ways that are accessible\, credible\, and most importantly\, actionable. \nForum Schedule\n9:00 a.m. – 9:30 a.m. – Registration & Networking\n9:30 a.m. – 12:30 p.m. – Forum\n12:30 p.m. – 1:30 p.m. – Lunch (optional) \n\nThis event has both In Person and Virtual registration options available: \nhttps://web.cvent.com/event/df3efdf5-f70c-4a98-8ee4-c6374d06f739/register \nhttps://web.cvent.com/event/1fa0e7fb-877b-40e2-91ca-22f4f4557703/register
URL:https://newiee.org/event/ebc-climate-adaptation-communication-decoding-data-and-risk-for-all/
LOCATION:Foley Hoag LLP Boston\, 155 Seaport Blvd\, Boston\, MA\, 02210\, United States
CATEGORIES:Friends of NEWIEE
END:VEVENT
BEGIN:VEVENT
DTSTART;TZID=America/New_York:20260313T093000
DTEND;TZID=America/New_York:20260314T153000
DTSTAMP:20260425T120259
CREATED:20260216T014119Z
LAST-MODIFIED:20260216T014119Z
UID:26675-1773394200-1773502200@newiee.org
SUMMARY:MassCEC: Central MA Regional Clean Energy & Climatetech Workforce Summit
DESCRIPTION:Join hundreds of clean energy workforce professionals\, industry leaders\, community organizations\, and MassCEC workforce grantees for a day of connection\, collaboration\, and innovation. \n\n\n\nBuild Strategic Connections: Strengthen relationships with workforce development networks\, clean energy and climatetech employers\, community organizations\, and MassCEC grantees across Central Massachusetts and statewide. \nShare Best Practices: Discuss regional workforce trends\, best practices\, and opportunities to develop and optimize clean energy workforce development programs. \nExplore Resources & Funding: Discover collaboration opportunities and learn about MassCEC funding for clean energy workforce development programs.
URL:https://newiee.org/event/masscec-central-ma-regional-clean-energy-climatetech-workforce-summit/
LOCATION:WPI Ruben Campus Center\, 100 Institute Rd\, Worcester\, 01609\, United States
CATEGORIES:Friends of NEWIEE
END:VEVENT
BEGIN:VEVENT
DTSTART;TZID=America/New_York:20260318T090000
DTEND;TZID=America/New_York:20260318T163000
DTSTAMP:20260425T120259
CREATED:20260304T040737Z
LAST-MODIFIED:20260304T040737Z
UID:26792-1773824400-1773851400@newiee.org
SUMMARY:NECA: 2026 Renewable Energy Conference
DESCRIPTION:The renewable transition is entering its “delivery” era: interconnection queues\, procurement timelines\, and siting constraints are shaping outcomes as much as ambition. This event spotlights what it takes to get projects built while protecting customers and maintaining reliability. You’ll hear concrete perspectives on rate design\, storage policy\, emerging resources\, and forecasting the loads and grid needs that are changing faster than anyone predicted. \nLUNCHEON KEYNOTE: Dan Burgess\, Acting Commissioner\, Maine Department of Energy Resources \nCONFIRMED PANEL SPEAKERS:\nPANEL I: Renewables\, Rates and Reality – Building a Least-Cost Grid\nModerator: Danielle Powers\, CEO\, Concentric Energy Advisors\nClaire Coleman\, Consumer Counsel\, Connecticut Office of Consumer Counsel\nPhilip L. Bartlett II\, Chair\, Maine Public Utilities Commission\nDestenie Nock\, Assistant Professor\, Carnegie Mellon University\nDan Roberts\, Director\, Frontier Economics\n \nPANEL II: State Leadership in the Deployment of Renewables in an Evolving Environment\nModerator: Bob Grace\, President\, Sustainable Energy Advantage LLC\nRebecca Behrens\, Director\, Policy and Market Development\, Flatiron Energy\nSarah Bresolin\, VP\, Government & Regulatory Affairs\, ENGIE North America\nTim Snyder\, VP\, Public Policy & Government Affairs\, The Alliance for Climate Transition (ACT) \nPANEL III: New Kids on the Block – From Buzz to Bankability\nModerator: Meg Howard\, Senior Program Director\, MassCEC\nMaryette Haggerty Perrault\, Senior Policy Manager\, Bloom Energy\nPat O’Brien\, Director\, Government Affairs and Communications\, Holtec International\nDelaney Carey\, Business Development Associate\, CTC Global\nHafiz Bello\, Director\, NYSERDA\n \nPANEL IV: The Grid We’re Becoming\nModerator: Hannes Pfeifenberger\, Principal\, The Brattle Group\nChristian Bilcheck\, Principal\, Breakthrough Innovations\, LLC\nStephen Marien\, Manager – Transmission Line and Civil Engineering\, Eversource Energy\nJeremy McDiarmid\, Chair\, Massachusetts Department of Public Utilities\nMarianne Perben\, Director\, Planning Services\, ISO New England \nCONFERENCE CO-CHAIRS: \nCal Brown\, Senior Policy Analyst\, Sustainable Energy Advantage\nCarissa Sedlacek\, Director of Transmission Interconnections and Solutions\, Eversource Energy \nPREMIER SPONSORS: BSC Group | Freedom Energy Logistics | Klavens Law Group | Michaud Law Group | Rath Young Pignatelli | Robinson+Cole | StoneTurn | Sustainable Energy Advantage\nCORPORATE SPONSORS: Concentric Energy Advisors | ENGIE North America | Eversource | Foley Hoag LLP | London Economics International | National Grid Ventures | Power Advisory LLC | TRC Companies | Womble Bond Dickinson\nMEDIA PARTNER: RTO Insider \nSponsors still welcome. Click HERE to learn more.  \nCOST*:\nNECA Members $425 | Non-members $475 | Government\, Non-Profit & Young Professionals** $150 | Students*** $75 \n*  Prices will increase by $25 on March 11.\n** Working in the energy industry less than five years\n*** Full-time students only
URL:https://newiee.org/event/neca-2026-renewable-energy-conference/
LOCATION:Joyce Cummings Center at Tufts University\, 177 College Ave\, Medford\, MA\, 02155
CATEGORIES:Friends of NEWIEE
END:VEVENT
BEGIN:VEVENT
DTSTART;TZID=America/New_York:20260319T080000
DTEND;TZID=America/New_York:20260319T170000
DTSTAMP:20260425T120259
CREATED:20260304T040339Z
LAST-MODIFIED:20260304T040339Z
UID:26788-1773907200-1773939600@newiee.org
SUMMARY:ClimateWork Maine: 4th Annual Summit
DESCRIPTION:ClimateWork Maine announces the 4th Annual Summit\, March 19th at Thompson’s Point in Portland! With over 500 business\, public and NGO leaders\, this year’s Summit isn’t just about taking climate action — it’s about owning it.
URL:https://newiee.org/event/climatework-maine-4th-annual-summit/
LOCATION:Thompsons Point\, Thompsons Point\, Portland\, ME\, 04102\, United States
CATEGORIES:Friends of NEWIEE
END:VEVENT
BEGIN:VEVENT
DTSTART;TZID=America/New_York:20260320T113000
DTEND;TZID=America/New_York:20260320T140000
DTSTAMP:20260425T120259
CREATED:20260304T035133Z
LAST-MODIFIED:20260304T035133Z
UID:26784-1774006200-1774015200@newiee.org
SUMMARY:EBC: Priorities of the New Hampshire Department of Environmental Services Division Leadership – An EBC New Hampshire Leadership Program
DESCRIPTION:This EBC New Hampshire Leadership Program will provide EBC members from throughout New Hampshire and New England with the opportunity to learn directly from each of the three division directors at the New Hampshire Department of Environmental Services. The Directors will provide updates on their program priorities and implementation strategies for 2026 and beyond. \nFollowing the presentations from the NH DES Division Leadership will be ample time for a moderated discussion. \nLunch is included with registration. Please contact EBC with any dietary restrictions. \nProgram Presenters:\n\nRene Pelletier\, Director\, Water Division\, New Hampshire Department of Environmental Services\nMichael Wimsatt\, Director\, Waste Management Division\, New Hampshire Department of Environmental Services\nCraig A. Wright\, Director\, Air Resources Division\, New Hampshire Department of Environmental Services\n\nProgram Moderator:\n\nRobert Varney\, Chair\, EBC New Hampshire Chapter; President\, Normandeau Associates\n\n\n\n\nProgram Agenda:\n\n\n11:30 a.m. – Networking & Lunch\n12:00 p.m. – Program Begins\n2:00 p.m. – Program Adjourns\n\nGeneral Continuing Education Certificates are awarded by the EBC for this program (2.0 training contact hours). Certificates are automatically provided via email link for registered attendees at the conclusion of the program.
URL:https://newiee.org/event/ebc-priorities-of-the-new-hampshire-department-of-environmental-services-division-leadership-an-ebc-new-hampshire-leadership-program/
LOCATION:Eversource Energy Park Manchester\, 780 North Commercial Street\, Manchester\, NH\, 03101\, United States
CATEGORIES:Friends of NEWIEE
END:VEVENT
BEGIN:VEVENT
DTSTART;VALUE=DATE:20260323
DTEND;VALUE=DATE:20260325
DTSTAMP:20260425T120259
CREATED:20260126T021920Z
LAST-MODIFIED:20260126T021920Z
UID:26575-1774224000-1774396799@newiee.org
SUMMARY:NESEA: BuildingEnergy Boston Conference
DESCRIPTION:BuildingEnergy Boston is a conference designed by and for practitioners in the fields of high-performance building and design\, energy efficiency\, and renewable energy. It brings more than 1\,000 industry leaders and emerging professionals together to learn from and share ideas with each other. Sessions are curated by a volunteer NESEA-Member content committee to ensure that conference sessions are genuinely useful to attendees. The conference will feature product demonstrations\, networking events\, and accredited sessions that offer best practices and lessons learned\, case studies and proven data\, technical “how-to”s\, emerging technologies\, and innovative policies and programs. \nConference Theme: Don’t Stop Us Now!\nThose of us committed to sustainability in our field have built a robust movement\, and now is the time to prove that our momentum cannot be stopped by indecision\, injustice\, or inaction. Despite new barriers to progress\, our industry continues to adapt to uncertainty. Our personal and professional resilience is being tested\, and we will only move forward by supporting and learning from one another. \nWe have all had to adapt to hardships of some kind\, be it project setbacks\, discrimination\, or a lack of resources. There are millions of questions we’re all asking during these tumultuous times\, and we don’t have to answer them alone. \nHow can my team address a sudden loss in funding or increase in project costs? \nWhat do you do to stay grounded when everything seems to be working against you? \nHow can we succeed in reducing both operational and embodied carbon emissions? \nHow do you get a key decision maker to move forward on the more sustainable choice? \nThese questions demand strong responses and bold action. At this year’s conference\, we will be digging into ways to surmount these barriers and find the path forward. \n\nWho Attends\nBuildingEnergy Boston attendees are leaders and emerging professionals from across the Northeast\, committed to developing a more sustainable\, healthy\, and resilient built environment. They represent a wide range of industries\, backgrounds\, and levels of experience.
URL:https://newiee.org/event/nesea-buildingenergy-boston-conference/
LOCATION:Westin Boston Seaport District\, 425 Summer Street\, Boston\, 02210\, United States
CATEGORIES:Friends of NEWIEE
END:VEVENT
BEGIN:VEVENT
DTSTART;TZID=America/New_York:20260324T080000
DTEND;TZID=America/New_York:20260324T170000
DTSTAMP:20260425T120259
CREATED:20260304T034611Z
LAST-MODIFIED:20260304T034611Z
UID:26782-1774339200-1774371600@newiee.org
SUMMARY:ISO 101: We are ISO New England
DESCRIPTION:Join for a dynamic one-day course designed to provide an overview of ISO New England and its role in grid operations\, market administration\, and power system planning.  This course is open to anyone in the power industry seeking to enhance their understanding of ISO New England’s role and operations. \nRegister Now. \n\n\n\nDate: Tue Mar 24\, 2026 8:00AM – 5:00PM\nCategory: Classroom\nLocation: ISO New England\, 1 Sullivan Road\, Holyoke\, MA 01040 [Connecticut Training Room\, Sullivan South (2nd floor)]\nContact: Participant Training Services \, MkTraining@iso-ne.com \, (413) 535-4021
URL:https://newiee.org/event/iso-101-we-are-iso-new-england/
LOCATION:ISO New England\, 1 Sullivan Rd\, Holyoke\, MA\, 01040\, United States
CATEGORIES:Friends of NEWIEE
END:VEVENT
BEGIN:VEVENT
DTSTART;TZID=America/New_York:20260325T130000
DTEND;TZID=America/New_York:20260325T140000
DTSTAMP:20260425T120259
CREATED:20260304T041106Z
LAST-MODIFIED:20260304T041106Z
UID:26794-1774443600-1774447200@newiee.org
SUMMARY:AABE: Powering the Path: Women Entrepreneurs Leading the Energy & Environmental Future
DESCRIPTION:Powering The Path: Women Entrepreneurs Leading the Energy & Environmental Future will be a Women’s History Month panel celebrating women who are building\, owning\, and scaling businesses across the energy and environmental landscape. The panel for this event will feature a dynamic group of women founders and innovators who are leading with purpose and redefining what leadership looks like in energy and environment. Panelists will share their entrepreneurial journeys\, from idea to execution\, and speak candidly about the challenges\, lessons\, and breakthroughs that shaped their paths.
URL:https://newiee.org/event/aabe-powering-the-path-women-entrepreneurs-leading-the-energy-environmental-future/
LOCATION:Virtual
CATEGORIES:Friends of NEWIEE
END:VEVENT
BEGIN:VEVENT
DTSTART;TZID=America/New_York:20260326T093000
DTEND;TZID=America/New_York:20260326T123000
DTSTAMP:20260425T120259
CREATED:20260323T014958Z
LAST-MODIFIED:20260323T014958Z
UID:26956-1774517400-1774528200@newiee.org
SUMMARY:EBC: Rhode Island’s Environmental and Energy Priorities – An EBC & RISEP Leadership Program
DESCRIPTION:Rhode Island’s environmental and energy leadership come together to present on their programs and priorities for the coming year at this EBC Rhode Island Chapter Leadership Program. Hear from Terry Gray and Susan Forcier of the Rhode Island Department of Environmental Management and Christopher Kearns\, Acting Commissioner of the Rhode Island Office of Energy Resources. \nPresentations will cover the upcoming and ongoing programs for each office\, priorities for the year\, and dive into some specific challenges. Bring your questions! Following the presentations\, Christine Dieter of Hinckley Allen\, will moderate a panel discussion with the speakers and program attendees. \nProgram Agenda:\nRhode Island Department of Environmental Management – an Overview \n\nTerrence Gray\, Director\, Rhode Island Department of Environmental Management (RIDEM)\n\nOngoing Developments in the RIDEM Bureau of Environmental Protection \n\nSusan Forcier\, Deputy Director\, RIDEM\n\nUpdate from the Rhode Island Office of Energy Resources \n\nChristopher Kearns\, Acting Commissioner\, Rhode Island Office of Energy Resources (RI OER)\n\nModerated Discussion \nProgram Moderator:\n\nChristine Dieter\, Chair\, EBC Rhode Island Chapter; Partner\, Hinckley Allen\n\n\n\n\nProgram Agenda:\n\n\n9:30 a.m. – Registration & Networking\n10:00 a.m. – Program Begins\n12:00 p.m. – Program Adjourns\n\nGeneral Continuing Education Certificates are awarded by the EBC for this program (2.0 training contact hours). Certificates are automatically provided via email link for registered attendees at the conclusion of the program.
URL:https://newiee.org/event/ebc-rhode-islands-environmental-and-energy-priorities-an-ebc-risep-leadership-program/
LOCATION:Rhode Island Department of Environmental Management\, 235 Promenade St\, Providence\, RI\, 02908\, United States
CATEGORIES:Friends of NEWIEE
END:VEVENT
BEGIN:VEVENT
DTSTART;TZID=America/New_York:20260326T120000
DTEND;TZID=America/New_York:20260326T130000
DTSTAMP:20260425T120259
CREATED:20260323T013210Z
LAST-MODIFIED:20260323T013210Z
UID:26947-1774526400-1774530000@newiee.org
SUMMARY:Women's Energy Network Boston Chapter: Energy Finance Fundamentals - Corporate Finance
DESCRIPTION:Improve your everyday financial literacy with WEN’s Energy Finance Fundamentals. The series will review the fundamentals of financials in the energy sector\, covering corporate and project finance\, and providing the opportunity to meet finance experts in the industry. Derya Eryilmaz\, Ph.D.​\, Vice President of Power Commercialization at Carbon Direct and Boston College adjunct faculty will moderate throughout. \nThe first event in the series will cover the basics of interpreting corporate financials\, including: What can you learn from quarterly earnings calls and Profit and Loss statements? How do tax credits and tariffs show up on the financial statements? and What financial indicators should you look for to understand a company’s health? The session will feature speaker Alessandra Pellegri​\, Enel North America’s Head of Financial Planning and Control. \nSpeaker: Alessandra Pellegri\, Head of Financial Planning and Control at Enel North America \nModerator: Derya Eryilmaz\, VP of Power Commercialization at Carbon Direct and Boston College Adjunct Faculty \nDate: Thursday\, March 26 \nTime: Noon to 1 pm EDT \nLocation: Online (a Zoom link will be sent after registration) \nCost: Free to WEN members and $10 for non-members \nJoin to connect with fellow energy professionals\, develop your knowledge\, and build community within the WEN Boston Chapter.
URL:https://newiee.org/event/womens-energy-network-boston-chapter-energy-finance-fundamentals-corporate-finance/
LOCATION:Virtual
CATEGORIES:Friends of NEWIEE
ORGANIZER;CN="Women's Energy Network (WEN)%2C Boston":MAILTO:info@womensenergynetwork.org
END:VEVENT
BEGIN:VEVENT
DTSTART;TZID=America/New_York:20260328T100000
DTEND;TZID=America/New_York:20260328T160000
DTSTAMP:20260425T120259
CREATED:20260323T013520Z
LAST-MODIFIED:20260323T013539Z
UID:26949-1774692000-1774713600@newiee.org
SUMMARY:Women's Energy Network Boston Chapter: Museum of Science\, Women's History Month
DESCRIPTION:Celebrate Women’s History Month at the Museum of Science! \nEach March\, the Museum of Science celebrates the achievements of women in science\, culture\, and society. This event\, open to all ages\, will include featured speakers\, live presentations\, and hands-on activities. \nWomen’s Energy Network Boston is proud to partner with the Museum of Science and offer its members an opportunity to attend at no cost. We are asking WEN members to volunteer at a WEN table to share information about our organization with the community. Shifts are 2 hours each\, between 9:30 am and 4 pm. \nOnce you register\, we will send you the promotion code to register for a general admission ticket on the Museum of Science website.​ \nAll volunteers will receive a free t-shirt and will have their parking ticket validated. The Museum of Science will also be hosting a casual networking lunch with STEM professionals\, artists\, and other community organizations. We will enjoy energizing social and professional connections and access to career opportunities. All volunteers are welcome to attend. \nDate: Saturday\, March 28\, 2026 \nTime: 10:00am – 4:00 pm* \nLocation: Museum of Science\, 1 Science Park\, Boston\, MA 02114 \nCost: Free for Members (Once registered\, we will send you the promotion code.) \nSponsors: Museum of Science \n*Volunteering sessions are \n\n9:30 AM to 11:30 PM\n11:30 to 2 PM (including the lunch gap from 12 PM to 1 PM)\n2 PM to 4 PM.\n\nVolunteers will receive free entry\, parking\, and lunch. Please note that you will need to register for a general admission ticket at the Museum of Science website.
URL:https://newiee.org/event/womens-energy-network-boston-chapter-museum-of-science-womens-history-month/
LOCATION:Museum of Science\, Museum of Science Driveway\, Boston\, MA\, 02114\, United States
CATEGORIES:Friends of NEWIEE
ORGANIZER;CN="Women's Energy Network (WEN)%2C Boston":MAILTO:info@womensenergynetwork.org
END:VEVENT
END:VCALENDAR